Workbook

Sheet Übersicht
A1: Rezeptkostenkalkulation Gastronomie – Übersicht
A2: Auswertung der fiktiven Eingaben im gewählten Zeitraum; ohne Personal-, Gemein- oder Steuerkosten.
A3: Kennzahl | B3: Wert
A4: Betrachtungsbeginn | B4: =Parameter!$B$6
A5: Betrachtungsende | B5: =Parameter!$B$7
A7: Rezepte im Zeitraum | B7: =COUNTIFS(Rezepte!$A$3:$A$102,"<>",Rezepte!$E$3:$E$102,">="&Parameter!$B$6,Rezepte!$E$3:$E$102,"<="&Parameter!$B$7)
A8: Summe kalkulierter Ansatzkosten | B8: =IF(B7=0,"",SUMIFS(Rezepte!$I$3:$I$102,Rezepte!$E$3:$E$102,">="&Parameter!$B$6,Rezepte!$E$3:$E$102,"<="&Parameter!$B$7))
A9: Durchschnittliche Kosten je Portion | B9: =IF(B7=0,"",IFERROR(AVERAGEIFS(Rezepte!$J$3:$J$102,Rezepte!$A$3:$A$102,"<>",Rezepte!$E$3:$E$102,">="&Parameter!$B$6,Rezepte!$E$3:$E$102,"<="&Parameter!$B$7),""))
A10: Summe Planerlös je Ansatz | B10: =IF(B7=0,"",SUMPRODUCT((Rezepte!$A$3:$A$102<>"")*(Rezepte!$E$3:$E$102>=Parameter!$B$6)*(Rezepte!$E$3:$E$102<=Parameter!$B$7)*IFERROR(Rezepte!$F$3:$F$102*Rezepte!$H$3:$H$102,0)))
A11: Roher Kalkulationsbeitrag | B11: =IF(B7=0,"",IFERROR(B10-B8,""))
A12: Gesamte Wareneinsatzquote | B12: =IF(B7=0,"",IFERROR(B8/B10,""))
A13: Warnung | B13: Anzahl oder Ergebnis
A14: Rezepte über Zielquote | B14: =COUNTIFS(Rezepte!$N$3:$N$102,"Über Ziel",Rezepte!$E$3:$E$102,">="&Parameter!$B$6,Rezepte!$E$3:$E$102,"<="&Parameter!$B$7)
A15: Rezepte mit fehlenden Angaben | B15: =COUNTIFS(Rezepte!$N$3:$N$102,"Angaben fehlen",Rezepte!$E$3:$E$102,">="&Parameter!$B$6,Rezepte!$E$3:$E$102,"<="&Parameter!$B$7)+COUNTIFS(Rezepte!$N$3:$N$102,"Zutaten fehlen",Rezepte!$E$3:$E$102,">="&Parameter!$B$6,Rezepte!$E$3:$E$102,"<="&Parameter!$B$7)
A16: Zutatenpositionen über Schwundschwelle | B16: =COUNTIF(Zutaten!$H$3:$H$102,">"&Parameter!$B$4)
A17: Zutatenpositionen mit unbekannter Rezept-ID | B17: =SUMPRODUCT(--(Zutaten!$B$3:$B$102<>""),--(COUNTIF(Rezepte!$A$3:$A$102,Zutaten!$B$3:$B$102)=0))
A18: Prüfhinweis | B18: =IF(SUM(B14:B17)=0,"Keine markierten Warnungen","Warnungen in den Arbeitsblättern prüfen")
A20: Rezept-ID | B20: Rezept | C20: Kosten je Portion | D20: Planpreis | E20: Quote | F20: Status
A21: =IF(Rezepte!A3="","",Rezepte!A3) | B21: =IF(Rezepte!B3="","",Rezepte!B3) | C21: =IF(Rezepte!J3="","",Rezepte!J3) | D21: =IF(Rezepte!H3="","",Rezepte!H3) | E21: =IF(Rezepte!K3="","",Rezepte!K3) | F21: =IF(Rezepte!N3="","",Rezepte!N3)
A22: =IF(Rezepte!A4="","",Rezepte!A4) | B22: =IF(Rezepte!B4="","",Rezepte!B4) | C22: =IF(Rezepte!J4="","",Rezepte!J4) | D22: =IF(Rezepte!H4="","",Rezepte!H4) | E22: =IF(Rezepte!K4="","",Rezepte!K4) | F22: =IF(Rezepte!N4="","",Rezepte!N4)
A23: =IF(Rezepte!A5="","",Rezepte!A5) | B23: =IF(Rezepte!B5="","",Rezepte!B5) | C23: =IF(Rezepte!J5="","",Rezepte!J5) | D23: =IF(Rezepte!H5="","",Rezepte!H5) | E23: =IF(Rezepte!K5="","",Rezepte!K5) | F23: =IF(Rezepte!N5="","",Rezepte!N5)
A24: =IF(Rezepte!A6="","",Rezepte!A6) | B24: =IF(Rezepte!B6="","",Rezepte!B6) | C24: =IF(Rezepte!J6="","",Rezepte!J6) | D24: =IF(Rezepte!H6="","",Rezepte!H6) | E24: =IF(Rezepte!K6="","",Rezepte!K6) | F24: =IF(Rezepte!N6="","",Rezepte!N6)
A25: =IF(Rezepte!A7="","",Rezepte!A7) | B25: =IF(Rezepte!B7="","",Rezepte!B7) | C25: =IF(Rezepte!J7="","",Rezepte!J7) | D25: =IF(Rezepte!H7="","",Rezepte!H7) | E25: =IF(Rezepte!K7="","",Rezepte!K7) | F25: =IF(Rezepte!N7="","",Rezepte!N7)
A26: =IF(Rezepte!A8="","",Rezepte!A8) | B26: =IF(Rezepte!B8="","",Rezepte!B8) | C26: =IF(Rezepte!J8="","",Rezepte!J8) | D26: =IF(Rezepte!H8="","",Rezepte!H8) | E26: =IF(Rezepte!K8="","",Rezepte!K8) | F26: =IF(Rezepte!N8="","",Rezepte!N8)
A27: =IF(Rezepte!A9="","",Rezepte!A9) | B27: =IF(Rezepte!B9="","",Rezepte!B9) | C27: =IF(Rezepte!J9="","",Rezepte!J9) | D27: =IF(Rezepte!H9="","",Rezepte!H9) | E27: =IF(Rezepte!K9="","",Rezepte!K9) | F27: =IF(Rezepte!N9="","",Rezepte!N9)
A28: =IF(Rezepte!A10="","",Rezepte!A10) | B28: =IF(Rezepte!B10="","",Rezepte!B10) | C28: =IF(Rezepte!J10="","",Rezepte!J10) | D28: =IF(Rezepte!H10="","",Rezepte!H10) | E28: =IF(Rezepte!K10="","",Rezepte!K10) | F28: =IF(Rezepte!N10="","",Rezepte!N10)

Sheet Rezepte
A1: Rezepte – gelb markierte Zellen bearbeiten; alle Beispiele sind fiktiv
A2: Rezept-ID | B2: Rezeptname | C2: Kategorie | D2: Zuständigkeit | E2: Kalkulationsdatum | F2: Portionen je Ansatz | G2: Ziel-Wareneinsatz | H2: Planpreis je Portion | I2: Zutatenkosten je Ansatz | J2: Kosten je Portion | K2: Wareneinsatzquote | L2: Zielpreis je Portion | M2: Preisabweichung | N2: Status | O2: Notiz
A3: R-001 | B3: Samtige Tomatensuppe | C3: Vorspeise | D3: Küchenkoordination | E3: 46268 | F3: 10 | G3: 0.28 | H3: 7.9 | I3: =IF(A3="","",IF(COUNTIF(Zutaten!$B$3:$B$102,A3)=0,"",SUMIF(Zutaten!$B$3:$B$102,A3,Zutaten!$J$3:$J$102))) | J3: =IF(A3="","",IFERROR(I3/F3,"")) | K3: =IF(A3="","",IFERROR(J3/H3,"")) | L3: =IF(A3="","",IFERROR(J3/IF(G3="",Parameter!$B$3,G3),"")) | M3: =IF(A3="","",IF(OR(H3="",L3=""),"",H3-L3)) | N3: =IF(A3="","",IF(COUNTIF(Zutaten!$B$3:$B$102,A3)=0,"Zutaten fehlen",IF(OR(F3="",H3=""),"Angaben fehlen",IF(K3>IF(G3="",Parameter!$B$3,G3)+Parameter!$B$5,"Über Ziel",IF(M3<0,"Preis prüfen","Im Ziel"))))) | O3: Fiktive Basiskalkulation
A4: R-002 | B4: Kräuterpasta | C4: Hauptgericht | D4: Küchenkoordination | E4: 46253 | F4: 12 | G4: 0.3 | H4: 14.5 | I4: =IF(A4="","",IF(COUNTIF(Zutaten!$B$3:$B$102,A4)=0,"",SUMIF(Zutaten!$B$3:$B$102,A4,Zutaten!$J$3:$J$102))) | J4: =IF(A4="","",IFERROR(I4/F4,"")) | K4: =IF(A4="","",IFERROR(J4/H4,"")) | L4: =IF(A4="","",IFERROR(J4/IF(G4="",Parameter!$B$3,G4),"")) | M4: =IF(A4="","",IF(OR(H4="",L4=""),"",H4-L4)) | N4: =IF(A4="","",IF(COUNTIF(Zutaten!$B$3:$B$102,A4)=0,"Zutaten fehlen",IF(OR(F4="",H4=""),"Angaben fehlen",IF(K4>IF(G4="",Parameter!$B$3,G4)+Parameter!$B$5,"Über Ziel",IF(M4<0,"Preis prüfen","Im Ziel"))))) | O4: Fiktive Basiskalkulation
A5: R-003 | B5: Kleine Ofenkartoffel | C5: Beilage | D5: Cateringplanung | E5: 46228 | F5: 10 | G5: 0.28 | H5: 3.4 | I5: =IF(A5="","",IF(COUNTIF(Zutaten!$B$3:$B$102,A5)=0,"",SUMIF(Zutaten!$B$3:$B$102,A5,Zutaten!$J$3:$J$102))) | J5: =IF(A5="","",IFERROR(I5/F5,"")) | K5: =IF(A5="","",IFERROR(J5/H5,"")) | L5: =IF(A5="","",IFERROR(J5/IF(G5="",Parameter!$B$3,G5),"")) | M5: =IF(A5="","",IF(OR(H5="",L5=""),"",H5-L5)) | N5: =IF(A5="","",IF(COUNTIF(Zutaten!$B$3:$B$102,A5)=0,"Zutaten fehlen",IF(OR(F5="",H5=""),"Angaben fehlen",IF(K5>IF(G5="",Parameter!$B$3,G5)+Parameter!$B$5,"Über Ziel",IF(M5<0,"Preis prüfen","Im Ziel"))))) | O5: Fiktiver Prüffall für Zielüberschreitung
A6: R-004 | B6: Apfelkompott | C6: Dessert | D6: Küchenkoordination | E6: 46203 | F6: 8 | G6: 0.25 | H6: 6.5 | I6: =IF(A6="","",IF(COUNTIF(Zutaten!$B$3:$B$102,A6)=0,"",SUMIF(Zutaten!$B$3:$B$102,A6,Zutaten!$J$3:$J$102))) | J6: =IF(A6="","",IFERROR(I6/F6,"")) | K6: =IF(A6="","",IFERROR(J6/H6,"")) | L6: =IF(A6="","",IFERROR(J6/IF(G6="",Parameter!$B$3,G6),"")) | M6: =IF(A6="","",IF(OR(H6="",L6=""),"",H6-L6)) | N6: =IF(A6="","",IF(COUNTIF(Zutaten!$B$3:$B$102,A6)=0,"Zutaten fehlen",IF(OR(F6="",H6=""),"Angaben fehlen",IF(K6>IF(G6="",Parameter!$B$3,G6)+Parameter!$B$5,"Über Ziel",IF(M6<0,"Preis prüfen","Im Ziel"))))) | O6: Fiktiver Prüffall für erhöhten Schwund
A7: R-005 | B7: Hauslimonade | C7: Getränk | D7: Serviceplanung | E7: 46178 | F7: 20 | G7: 0.22 | H7: 4.8 | I7: =IF(A7="","",IF(COUNTIF(Zutaten!$B$3:$B$102,A7)=0,"",SUMIF(Zutaten!$B$3:$B$102,A7,Zutaten!$J$3:$J$102))) | J7: =IF(A7="","",IFERROR(I7/F7,"")) | K7: =IF(A7="","",IFERROR(J7/H7,"")) | L7: =IF(A7="","",IFERROR(J7/IF(G7="",Parameter!$B$3,G7),"")) | M7: =IF(A7="","",IF(OR(H7="",L7=""),"",H7-L7)) | N7: =IF(A7="","",IF(COUNTIF(Zutaten!$B$3:$B$102,A7)=0,"Zutaten fehlen",IF(OR(F7="",H7=""),"Angaben fehlen",IF(K7>IF(G7="",Parameter!$B$3,G7)+Parameter!$B$5,"Über Ziel",IF(M7<0,"Preis prüfen","Im Ziel"))))) | O7: Fiktive Getränkekalkulation
A8: R-006 | B8: Filterkaffee | C8: Getränk | D8: Serviceplanung | E8: 46143 | F8: 30 | G8: 0.2 | H8: 3.2 | I8: =IF(A8="","",IF(COUNTIF(Zutaten!$B$3:$B$102,A8)=0,"",SUMIF(Zutaten!$B$3:$B$102,A8,Zutaten!$J$3:$J$102))) | J8: =IF(A8="","",IFERROR(I8/F8,"")) | K8: =IF(A8="","",IFERROR(J8/H8,"")) | L8: =IF(A8="","",IFERROR(J8/IF(G8="",Parameter!$B$3,G8),"")) | M8: =IF(A8="","",IF(OR(H8="",L8=""),"",H8-L8)) | N8: =IF(A8="","",IF(COUNTIF(Zutaten!$B$3:$B$102,A8)=0,"Zutaten fehlen",IF(OR(F8="",H8=""),"Angaben fehlen",IF(K8>IF(G8="",Parameter!$B$3,G8)+Parameter!$B$5,"Über Ziel",IF(M8<0,"Preis prüfen","Im Ziel"))))) | O8: Fiktive Getränkekalkulation
A9: R-007 | B9: Kräutertee | C9: Getränk | D9: Serviceplanung | E9: 46083 | F9: 25 | H9: 3.5 | I9: =IF(A9="","",IF(COUNTIF(Zutaten!$B$3:$B$102,A9)=0,"",SUMIF(Zutaten!$B$3:$B$102,A9,Zutaten!$J$3:$J$102))) | J9: =IF(A9="","",IFERROR(I9/F9,"")) | K9: =IF(A9="","",IFERROR(J9/H9,"")) | L9: =IF(A9="","",IFERROR(J9/IF(G9="",Parameter!$B$3,G9),"")) | M9: =IF(A9="","",IF(OR(H9="",L9=""),"",H9-L9)) | N9: =IF(A9="","",IF(COUNTIF(Zutaten!$B$3:$B$102,A9)=0,"Zutaten fehlen",IF(OR(F9="",H9=""),"Angaben fehlen",IF(K9>IF(G9="",Parameter!$B$3,G9)+Parameter!$B$5,"Über Ziel",IF(M9<0,"Preis prüfen","Im Ziel"))))) | O9: Verwendet den Standard-Zielsatz
A10: R-008 | B10: Rustikaler Brotkorb | C10: Beilage | D10: Cateringplanung | E10: 46013 | F10: 12 | H10: 4.5 | I10: =IF(A10="","",IF(COUNTIF(Zutaten!$B$3:$B$102,A10)=0,"",SUMIF(Zutaten!$B$3:$B$102,A10,Zutaten!$J$3:$J$102))) | J10: =IF(A10="","",IFERROR(I10/F10,"")) | K10: =IF(A10="","",IFERROR(J10/H10,"")) | L10: =IF(A10="","",IFERROR(J10/IF(G10="",Parameter!$B$3,G10),"")) | M10: =IF(A10="","",IF(OR(H10="",L10=""),"",H10-L10)) | N10: =IF(A10="","",IF(COUNTIF(Zutaten!$B$3:$B$102,A10)=0,"Zutaten fehlen",IF(OR(F10="",H10=""),"Angaben fehlen",IF(K10>IF(G10="",Parameter!$B$3,G10)+Parameter!$B$5,"Über Ziel",IF(M10<0,"Preis prüfen","Im Ziel"))))) | O10: Verwendet den Standard-Zielsatz
I11: =IF(A11="","",IF(COUNTIF(Zutaten!$B$3:$B$102,A11)=0,"",SUMIF(Zutaten!$B$3:$B$102,A11,Zutaten!$J$3:$J$102))) | J11: =IF(A11="","",IFERROR(I11/F11,"")) | K11: =IF(A11="","",IFERROR(J11/H11,"")) | L11: =IF(A11="","",IFERROR(J11/IF(G11="",Parameter!$B$3,G11),"")) | M11: =IF(A11="","",IF(OR(H11="",L11=""),"",H11-L11)) | N11: =IF(A11="","",IF(COUNTIF(Zutaten!$B$3:$B$102,A11)=0,"Zutaten fehlen",IF(OR(F11="",H11=""),"Angaben fehlen",IF(K11>IF(G11="",Parameter!$B$3,G11)+Parameter!$B$5,"Über Ziel",IF(M11<0,"Preis prüfen","Im Ziel")))))
I12: =IF(A12="","",IF(COUNTIF(Zutaten!$B$3:$B$102,A12)=0,"",SUMIF(Zutaten!$B$3:$B$102,A12,Zutaten!$J$3:$J$102))) | J12: =IF(A12="","",IFERROR(I12/F12,"")) | K12: =IF(A12="","",IFERROR(J12/H12,"")) | L12: =IF(A12="","",IFERROR(J12/IF(G12="",Parameter!$B$3,G12),"")) | M12: =IF(A12="","",IF(OR(H12="",L12=""),"",H12-L12)) | N12: =IF(A12="","",IF(COUNTIF(Zutaten!$B$3:$B$102,A12)=0,"Zutaten fehlen",IF(OR(F12="",H12=""),"Angaben fehlen",IF(K12>IF(G12="",Parameter!$B$3,G12)+Parameter!$B$5,"Über Ziel",IF(M12<0,"Preis prüfen","Im Ziel")))))
I13: =IF(A13="","",IF(COUNTIF(Zutaten!$B$3:$B$102,A13)=0,"",SUMIF(Zutaten!$B$3:$B$102,A13,Zutaten!$J$3:$J$102))) | J13: =IF(A13="","",IFERROR(I13/F13,"")) | K13: =IF(A13="","",IFERROR(J13/H13,"")) | L13: =IF(A13="","",IFERROR(J13/IF(G13="",Parameter!$B$3,G13),"")) | M13: =IF(A13="","",IF(OR(H13="",L13=""),"",H13-L13)) | N13: =IF(A13="","",IF(COUNTIF(Zutaten!$B$3:$B$102,A13)=0,"Zutaten fehlen",IF(OR(F13="",H13=""),"Angaben fehlen",IF(K13>IF(G13="",Parameter!$B$3,G13)+Parameter!$B$5,"Über Ziel",IF(M13<0,"Preis prüfen","Im Ziel")))))
I14: =IF(A14="","",IF(COUNTIF(Zutaten!$B$3:$B$102,A14)=0,"",SUMIF(Zutaten!$B$3:$B$102,A14,Zutaten!$J$3:$J$102))) | J14: =IF(A14="","",IFERROR(I14/F14,"")) | K14: =IF(A14="","",IFERROR(J14/H14,"")) | L14: =IF(A14="","",IFERROR(J14/IF(G14="",Parameter!$B$3,G14),"")) | M14: =IF(A14="","",IF(OR(H14="",L14=""),"",H14-L14)) | N14: =IF(A14="","",IF(COUNTIF(Zutaten!$B$3:$B$102,A14)=0,"Zutaten fehlen",IF(OR(F14="",H14=""),"Angaben fehlen",IF(K14>IF(G14="",Parameter!$B$3,G14)+Parameter!$B$5,"Über Ziel",IF(M14<0,"Preis prüfen","Im Ziel")))))
I15: =IF(A15="","",IF(COUNTIF(Zutaten!$B$3:$B$102,A15)=0,"",SUMIF(Zutaten!$B$3:$B$102,A15,Zutaten!$J$3:$J$102))) | J15: =IF(A15="","",IFERROR(I15/F15,"")) | K15: =IF(A15="","",IFERROR(J15/H15,"")) | L15: =IF(A15="","",IFERROR(J15/IF(G15="",Parameter!$B$3,G15),"")) | M15: =IF(A15="","",IF(OR(H15="",L15=""),"",H15-L15)) | N15: =IF(A15="","",IF(COUNTIF(Zutaten!$B$3:$B$102,A15)=0,"Zutaten fehlen",IF(OR(F15="",H15=""),"Angaben fehlen",IF(K15>IF(G15="",Parameter!$B$3,G15)+Parameter!$B$5,"Über Ziel",IF(M15<0,"Preis prüfen","Im Ziel")))))
I16: =IF(A16="","",IF(COUNTIF(Zutaten!$B$3:$B$102,A16)=0,"",SUMIF(Zutaten!$B$3:$B$102,A16,Zutaten!$J$3:$J$102))) | J16: =IF(A16="","",IFERROR(I16/F16,"")) | K16: =IF(A16="","",IFERROR(J16/H16,"")) | L16: =IF(A16="","",IFERROR(J16/IF(G16="",Parameter!$B$3,G16),"")) | M16: =IF(A16="","",IF(OR(H16="",L16=""),"",H16-L16)) | N16: =IF(A16="","",IF(COUNTIF(Zutaten!$B$3:$B$102,A16)=0,"Zutaten fehlen",IF(OR(F16="",H16=""),"Angaben fehlen",IF(K16>IF(G16="",Parameter!$B$3,G16)+Parameter!$B$5,"Über Ziel",IF(M16<0,"Preis prüfen","Im Ziel")))))
I17: =IF(A17="","",IF(COUNTIF(Zutaten!$B$3:$B$102,A17)=0,"",SUMIF(Zutaten!$B$3:$B$102,A17,Zutaten!$J$3:$J$102))) | J17: =IF(A17="","",IFERROR(I17/F17,"")) | K17: =IF(A17="","",IFERROR(J17/H17,"")) | L17: =IF(A17="","",IFERROR(J17/IF(G17="",Parameter!$B$3,G17),"")) | M17: =IF(A17="","",IF(OR(H17="",L17=""),"",H17-L17)) | N17: =IF(A17="","",IF(COUNTIF(Zutaten!$B$3:$B$102,A17)=0,"Zutaten fehlen",IF(OR(F17="",H17=""),"Angaben fehlen",IF(K17>IF(G17="",Parameter!$B$3,G17)+Parameter!$B$5,"Über Ziel",IF(M17<0,"Preis prüfen","Im Ziel")))))
I18: =IF(A18="","",IF(COUNTIF(Zutaten!$B$3:$B$102,A18)=0,"",SUMIF(Zutaten!$B$3:$B$102,A18,Zutaten!$J$3:$J$102))) | J18: =IF(A18="","",IFERROR(I18/F18,"")) | K18: =IF(A18="","",IFERROR(J18/H18,"")) | L18: =IF(A18="","",IFERROR(J18/IF(G18="",Parameter!$B$3,G18),"")) | M18: =IF(A18="","",IF(OR(H18="",L18=""),"",H18-L18)) | N18: =IF(A18="","",IF(COUNTIF(Zutaten!$B$3:$B$102,A18)=0,"Zutaten fehlen",IF(OR(F18="",H18=""),"Angaben fehlen",IF(K18>IF(G18="",Parameter!$B$3,G18)+Parameter!$B$5,"Über Ziel",IF(M18<0,"Preis prüfen","Im Ziel")))))
I19: =IF(A19="","",IF(COUNTIF(Zutaten!$B$3:$B$102,A19)=0,"",SUMIF(Zutaten!$B$3:$B$102,A19,Zutaten!$J$3:$J$102))) | J19: =IF(A19="","",IFERROR(I19/F19,"")) | K19: =IF(A19="","",IFERROR(J19/H19,"")) | L19: =IF(A19="","",IFERROR(J19/IF(G19="",Parameter!$B$3,G19),"")) | M19: =IF(A19="","",IF(OR(H19="",L19=""),"",H19-L19)) | N19: =IF(A19="","",IF(COUNTIF(Zutaten!$B$3:$B$102,A19)=0,"Zutaten fehlen",IF(OR(F19="",H19=""),"Angaben fehlen",IF(K19>IF(G19="",Parameter!$B$3,G19)+Parameter!$B$5,"Über Ziel",IF(M19<0,"Preis prüfen","Im Ziel")))))
I20: =IF(A20="","",IF(COUNTIF(Zutaten!$B$3:$B$102,A20)=0,"",SUMIF(Zutaten!$B$3:$B$102,A20,Zutaten!$J$3:$J$102))) | J20: =IF(A20="","",IFERROR(I20/F20,"")) | K20: =IF(A20="","",IFERROR(J20/H20,"")) | L20: =IF(A20="","",IFERROR(J20/IF(G20="",Parameter!$B$3,G20),"")) | M20: =IF(A20="","",IF(OR(H20="",L20=""),"",H20-L20)) | N20: =IF(A20="","",IF(COUNTIF(Zutaten!$B$3:$B$102,A20)=0,"Zutaten fehlen",IF(OR(F20="",H20=""),"Angaben fehlen",IF(K20>IF(G20="",Parameter!$B$3,G20)+Parameter!$B$5,"Über Ziel",IF(M20<0,"Preis prüfen","Im Ziel")))))
I21: =IF(A21="","",IF(COUNTIF(Zutaten!$B$3:$B$102,A21)=0,"",SUMIF(Zutaten!$B$3:$B$102,A21,Zutaten!$J$3:$J$102))) | J21: =IF(A21="","",IFERROR(I21/F21,"")) | K21: =IF(A21="","",IFERROR(J21/H21,"")) | L21: =IF(A21="","",IFERROR(J21/IF(G21="",Parameter!$B$3,G21),"")) | M21: =IF(A21="","",IF(OR(H21="",L21=""),"",H21-L21)) | N21: =IF(A21="","",IF(COUNTIF(Zutaten!$B$3:$B$102,A21)=0,"Zutaten fehlen",IF(OR(F21="",H21=""),"Angaben fehlen",IF(K21>IF(G21="",Parameter!$B$3,G21)+Parameter!$B$5,"Über Ziel",IF(M21<0,"Preis prüfen","Im Ziel")))))
I22: =IF(A22="","",IF(COUNTIF(Zutaten!$B$3:$B$102,A22)=0,"",SUMIF(Zutaten!$B$3:$B$102,A22,Zutaten!$J$3:$J$102))) | J22: =IF(A22="","",IFERROR(I22/F22,"")) | K22: =IF(A22="","",IFERROR(J22/H22,"")) | L22: =IF(A22="","",IFERROR(J22/IF(G22="",Parameter!$B$3,G22),"")) | M22: =IF(A22="","",IF(OR(H22="",L22=""),"",H22-L22)) | N22: =IF(A22="","",IF(COUNTIF(Zutaten!$B$3:$B$102,A22)=0,"Zutaten fehlen",IF(OR(F22="",H22=""),"Angaben fehlen",IF(K22>IF(G22="",Parameter!$B$3,G22)+Parameter!$B$5,"Über Ziel",IF(M22<0,"Preis prüfen","Im Ziel")))))
... I102: =IF(A102="","",IF(COUNTIF(Zutaten!$B$3:$B$102,A102)=0,"",SUMIF(Zutaten!$B$3:$B$102,A102,Zutaten!$J$3:$J$102))) | J102: =IF(A102="","",IFERROR(I102/F102,"")) | K102: =IF(A102="","",IFERROR(J102/H102,"")) | L102: =IF(A102="","",IFERROR(J102/IF(G102="",Parameter!$B$3,G102),"")) | M102: =IF(A102="","",IF(OR(H102="",L102=""),"",H102-L102)) | N102: =IF(A102="","",IF(COUNTIF(Zutaten!$B$3:$B$102,A102)=0,"Zutaten fehlen",IF(OR(F102="",H102=""),"Angaben fehlen",IF(K102>IF(G102="",Parameter!$B$3,G102)+Parameter!$B$5,"Über Ziel",IF(M102<0,"Preis prüfen","Im Ziel")))))

Sheet Zutaten
A1: Zutaten – Mengen von Packung und Rezept müssen dieselbe Einheit verwenden
A2: Positions-ID | B2: Rezept-ID | C2: Zutat | D2: Packungsmenge | E2: Einheit | F2: Packungspreis | G2: Rezeptmenge | H2: Schwund | I2: Kosten vor Schwund | J2: Kosten inkl. Schwund | K2: Kostenanteil im Rezept | L2: Notiz
A3: P-001 | B3: R-001 | C3: Tomatenbasis | D3: 3 | E3: kg | F3: 9.6 | G3: 2.4 | H3: 0.04 | I3: =IF(OR(B3="",D3="",F3="",G3=""),"",IFERROR(G3/D3*F3,"")) | J3: =IF(I3="","",IFERROR(I3/(1-IF(H3="",0,H3)),"")) | K3: =IF(OR(B3="",J3=""),"",IFERROR(J3/SUMIF($B$3:$B$102,B3,$J$3:$J$102),"")) | L3: Fiktive Einkaufsannahme
A4: P-002 | B4: R-001 | C4: Gemüsefond | D4: 1 | E4: l | F4: 2.4 | G4: 1.5 | H4: 0 | I4: =IF(OR(B4="",D4="",F4="",G4=""),"",IFERROR(G4/D4*F4,"")) | J4: =IF(I4="","",IFERROR(I4/(1-IF(H4="",0,H4)),"")) | K4: =IF(OR(B4="",J4=""),"",IFERROR(J4/SUMIF($B$3:$B$102,B4,$J$3:$J$102),"")) | L4: Fiktive Einkaufsannahme
A5: P-003 | B5: R-002 | C5: Pasta trocken | D5: 5 | E5: kg | F5: 12.5 | G5: 1.2 | H5: 0 | I5: =IF(OR(B5="",D5="",F5="",G5=""),"",IFERROR(G5/D5*F5,"")) | J5: =IF(I5="","",IFERROR(I5/(1-IF(H5="",0,H5)),"")) | K5: =IF(OR(B5="",J5=""),"",IFERROR(J5/SUMIF($B$3:$B$102,B5,$J$3:$J$102),"")) | L5: Fiktive Einkaufsannahme
A6: P-004 | B6: R-002 | C6: Kräuterpesto | D6: 1 | E6: kg | F6: 15.8 | G6: 0.45 | H6: 0.03 | I6: =IF(OR(B6="",D6="",F6="",G6=""),"",IFERROR(G6/D6*F6,"")) | J6: =IF(I6="","",IFERROR(I6/(1-IF(H6="",0,H6)),"")) | K6: =IF(OR(B6="",J6=""),"",IFERROR(J6/SUMIF($B$3:$B$102,B6,$J$3:$J$102),"")) | L6: Fiktive Einkaufsannahme
A7: P-005 | B7: R-003 | C7: Kartoffeln | D7: 10 | E7: kg | F7: 14 | G7: 3 | H7: 0.12 | I7: =IF(OR(B7="",D7="",F7="",G7=""),"",IFERROR(G7/D7*F7,"")) | J7: =IF(I7="","",IFERROR(I7/(1-IF(H7="",0,H7)),"")) | K7: =IF(OR(B7="",J7=""),"",IFERROR(J7/SUMIF($B$3:$B$102,B7,$J$3:$J$102),"")) | L7: Fiktive Einkaufsannahme
A8: P-006 | B8: R-003 | C8: Kräuterquark | D8: 2 | E8: kg | F8: 9.8 | G8: 1.2 | H8: 0.02 | I8: =IF(OR(B8="",D8="",F8="",G8=""),"",IFERROR(G8/D8*F8,"")) | J8: =IF(I8="","",IFERROR(I8/(1-IF(H8="",0,H8)),"")) | K8: =IF(OR(B8="",J8=""),"",IFERROR(J8/SUMIF($B$3:$B$102,B8,$J$3:$J$102),"")) | L8: Fiktive Einkaufsannahme
A9: P-007 | B9: R-004 | C9: Apfelkompott-Mischung | D9: 5 | E9: kg | F9: 12.8 | G9: 2.6 | H9: 0.18 | I9: =IF(OR(B9="",D9="",F9="",G9=""),"",IFERROR(G9/D9*F9,"")) | J9: =IF(I9="","",IFERROR(I9/(1-IF(H9="",0,H9)),"")) | K9: =IF(OR(B9="",J9=""),"",IFERROR(J9/SUMIF($B$3:$B$102,B9,$J$3:$J$102),"")) | L9: Fiktiver Schwund-Warnfall
A10: P-008 | B10: R-005 | C10: Limonadensirup | D10: 5 | E10: l | F10: 22 | G10: 0.8 | H10: 0 | I10: =IF(OR(B10="",D10="",F10="",G10=""),"",IFERROR(G10/D10*F10,"")) | J10: =IF(I10="","",IFERROR(I10/(1-IF(H10="",0,H10)),"")) | K10: =IF(OR(B10="",J10=""),"",IFERROR(J10/SUMIF($B$3:$B$102,B10,$J$3:$J$102),"")) | L10: Fiktive Einkaufsannahme
A11: P-009 | B11: R-005 | C11: Mineralwasser | D11: 12 | E11: l | F11: 6 | G11: 6 | H11: 0 | I11: =IF(OR(B11="",D11="",F11="",G11=""),"",IFERROR(G11/D11*F11,"")) | J11: =IF(I11="","",IFERROR(I11/(1-IF(H11="",0,H11)),"")) | K11: =IF(OR(B11="",J11=""),"",IFERROR(J11/SUMIF($B$3:$B$102,B11,$J$3:$J$102),"")) | L11: Fiktive Einkaufsannahme
A12: P-010 | B12: R-006 | C12: Kaffeebohnen | D12: 1 | E12: kg | F12: 18.5 | G12: 0.24 | H12: 0.02 | I12: =IF(OR(B12="",D12="",F12="",G12=""),"",IFERROR(G12/D12*F12,"")) | J12: =IF(I12="","",IFERROR(I12/(1-IF(H12="",0,H12)),"")) | K12: =IF(OR(B12="",J12=""),"",IFERROR(J12/SUMIF($B$3:$B$102,B12,$J$3:$J$102),"")) | L12: Fiktive Einkaufsannahme
A13: P-011 | B13: R-007 | C13: Kräuterteebeutel | D13: 100 | E13: Stück | F13: 14 | G13: 25 | H13: 0 | I13: =IF(OR(B13="",D13="",F13="",G13=""),"",IFERROR(G13/D13*F13,"")) | J13: =IF(I13="","",IFERROR(I13/(1-IF(H13="",0,H13)),"")) | K13: =IF(OR(B13="",J13=""),"",IFERROR(J13/SUMIF($B$3:$B$102,B13,$J$3:$J$102),"")) | L13: Fiktive Einkaufsannahme
A14: P-012 | B14: R-008 | C14: Brotmischung | D14: 5 | E14: kg | F14: 11.8 | G14: 1.5 | H14: 0.08 | I14: =IF(OR(B14="",D14="",F14="",G14=""),"",IFERROR(G14/D14*F14,"")) | J14: =IF(I14="","",IFERROR(I14/(1-IF(H14="",0,H14)),"")) | K14: =IF(OR(B14="",J14=""),"",IFERROR(J14/SUMIF($B$3:$B$102,B14,$J$3:$J$102),"")) | L14: Fiktive Einkaufsannahme
I15: =IF(OR(B15="",D15="",F15="",G15=""),"",IFERROR(G15/D15*F15,"")) | J15: =IF(I15="","",IFERROR(I15/(1-IF(H15="",0,H15)),"")) | K15: =IF(OR(B15="",J15=""),"",IFERROR(J15/SUMIF($B$3:$B$102,B15,$J$3:$J$102),""))
I16: =IF(OR(B16="",D16="",F16="",G16=""),"",IFERROR(G16/D16*F16,"")) | J16: =IF(I16="","",IFERROR(I16/(1-IF(H16="",0,H16)),"")) | K16: =IF(OR(B16="",J16=""),"",IFERROR(J16/SUMIF($B$3:$B$102,B16,$J$3:$J$102),""))
I17: =IF(OR(B17="",D17="",F17="",G17=""),"",IFERROR(G17/D17*F17,"")) | J17: =IF(I17="","",IFERROR(I17/(1-IF(H17="",0,H17)),"")) | K17: =IF(OR(B17="",J17=""),"",IFERROR(J17/SUMIF($B$3:$B$102,B17,$J$3:$J$102),""))
I18: =IF(OR(B18="",D18="",F18="",G18=""),"",IFERROR(G18/D18*F18,"")) | J18: =IF(I18="","",IFERROR(I18/(1-IF(H18="",0,H18)),"")) | K18: =IF(OR(B18="",J18=""),"",IFERROR(J18/SUMIF($B$3:$B$102,B18,$J$3:$J$102),""))
I19: =IF(OR(B19="",D19="",F19="",G19=""),"",IFERROR(G19/D19*F19,"")) | J19: =IF(I19="","",IFERROR(I19/(1-IF(H19="",0,H19)),"")) | K19: =IF(OR(B19="",J19=""),"",IFERROR(J19/SUMIF($B$3:$B$102,B19,$J$3:$J$102),""))
I20: =IF(OR(B20="",D20="",F20="",G20=""),"",IFERROR(G20/D20*F20,"")) | J20: =IF(I20="","",IFERROR(I20/(1-IF(H20="",0,H20)),"")) | K20: =IF(OR(B20="",J20=""),"",IFERROR(J20/SUMIF($B$3:$B$102,B20,$J$3:$J$102),""))
I21: =IF(OR(B21="",D21="",F21="",G21=""),"",IFERROR(G21/D21*F21,"")) | J21: =IF(I21="","",IFERROR(I21/(1-IF(H21="",0,H21)),"")) | K21: =IF(OR(B21="",J21=""),"",IFERROR(J21/SUMIF($B$3:$B$102,B21,$J$3:$J$102),""))
I22: =IF(OR(B22="",D22="",F22="",G22=""),"",IFERROR(G22/D22*F22,"")) | J22: =IF(I22="","",IFERROR(I22/(1-IF(H22="",0,H22)),"")) | K22: =IF(OR(B22="",J22=""),"",IFERROR(J22/SUMIF($B$3:$B$102,B22,$J$3:$J$102),""))
I23: =IF(OR(B23="",D23="",F23="",G23=""),"",IFERROR(G23/D23*F23,"")) | J23: =IF(I23="","",IFERROR(I23/(1-IF(H23="",0,H23)),"")) | K23: =IF(OR(B23="",J23=""),"",IFERROR(J23/SUMIF($B$3:$B$102,B23,$J$3:$J$102),""))
I24: =IF(OR(B24="",D24="",F24="",G24=""),"",IFERROR(G24/D24*F24,"")) | J24: =IF(I24="","",IFERROR(I24/(1-IF(H24="",0,H24)),"")) | K24: =IF(OR(B24="",J24=""),"",IFERROR(J24/SUMIF($B$3:$B$102,B24,$J$3:$J$102),""))
I25: =IF(OR(B25="",D25="",F25="",G25=""),"",IFERROR(G25/D25*F25,"")) | J25: =IF(I25="","",IFERROR(I25/(1-IF(H25="",0,H25)),"")) | K25: =IF(OR(B25="",J25=""),"",IFERROR(J25/SUMIF($B$3:$B$102,B25,$J$3:$J$102),""))
I26: =IF(OR(B26="",D26="",F26="",G26=""),"",IFERROR(G26/D26*F26,"")) | J26: =IF(I26="","",IFERROR(I26/(1-IF(H26="",0,H26)),"")) | K26: =IF(OR(B26="",J26=""),"",IFERROR(J26/SUMIF($B$3:$B$102,B26,$J$3:$J$102),""))
... I102: =IF(OR(B102="",D102="",F102="",G102=""),"",IFERROR(G102/D102*F102,"")) | J102: =IF(I102="","",IFERROR(I102/(1-IF(H102="",0,H102)),"")) | K102: =IF(OR(B102="",J102=""),"",IFERROR(J102/SUMIF($B$3:$B$102,B102,$J$3:$J$102),""))

Sheet Parameter
A1: Parameter – gelb markierte Werte sind veränderbar
A2: Parameter | B2: Wert | C2: Einheit oder Wirkung
A3: Standard-Ziel-Wareneinsatz | B3: 0.3 | C3: Wird verwendet, wenn im Rezept kein eigener Zielsatz steht
A4: Schwund-Warnschwelle | B4: 0.15 | C4: Zutatenpositionen oberhalb dieses Satzes werden markiert
A5: Toleranz über Zielquote | B5: 0.02 | C5: Zusätzlicher Spielraum vor dem Status „Über Ziel“
A6: Betrachtungsbeginn | B6: 45908 | C6: Beginn des in der Übersicht ausgewerteten Zeitraums
A7: Betrachtungsende | B7: 46273 | C7: Ende des in der Übersicht ausgewerteten Zeitraums
A8: Maximale Portionen je Ansatz | B8: 500 | C8: Obergrenze der Eingabeprüfung
A9: Maximaler Planpreis je Portion | B9: 250 | C9: Obergrenze der Eingabeprüfung in Euro
A10: Maximaler Packungspreis | B10: 10000 | C10: Obergrenze der Eingabeprüfung in Euro
A11: Maximaler Schwundsatz | B11: 0.5 | C11: Obergrenze der Eingabeprüfung
A12: Minimaler Ziel-Wareneinsatz | B12: 0.05 | C12: Untergrenze für individuelle Zielwerte
A13: Maximaler Ziel-Wareneinsatz | B13: 0.9 | C13: Obergrenze für individuelle Zielwerte
A14: Maximale Mengenangabe | B14: 100000 | C14: Obergrenze für Packungs- und Rezeptmengen

Sheet Hinweise
A1: Hinweise zur Rezeptkostenkalkulation
A2: Die Arbeitsmappe dient ausschließlich der internen, bearbeitbaren Kalkulation mit eindeutig fiktiven Beispieldaten.
A3: Zweck und Grenzen
A4: Anwendungsbereich | B4: Kosten eines Rezepts aus Zutatenmengen, Packungsgrößen, Einkaufspreisen und Schwundannahmen berechnen.
A5: Abgrenzung | B5: Keine ERP-Funktion, keine Echtzeitsynchronisierung, keine Steuer- oder Rechtsberatung und keine Aussage zur Konformität.
A6: Kostenumfang | B6: Personal-, Energie-, Raum-, Gemein-, Liefer- und Steuerkosten sind nicht enthalten. Der rohe Kalkulationsbeitrag ist daher keine Gewinnzusage.
A8: Formellogik in erster, mittlerer und letzter vorbereiteter Zeile
A9: Zutaten!I3, I52 und I102 | B9: Kosten vor Schwund = Rezeptmenge aus Spalte G geteilt durch Packungsmenge aus Spalte D, multipliziert mit Packungspreis aus Spalte F. IFERROR und Leerprüfungen verhindern Fehler oder bedeutungslose Nullen.
A10: Zutaten!J3, J52 und J102 | B10: Kosten inklusive Schwund = Kosten vor Schwund aus Spalte I geteilt durch 1 minus Schwund aus Spalte H. Ein leerer Schwund wird wie 0 % behandelt; Divisionen sind mit IFERROR abgesichert.
A11: Zutaten!K3, K52 und K102 | B11: Kostenanteil = Positionskosten aus Spalte J geteilt durch die mit SUMIF ermittelten Gesamtkosten aller Positionen derselben Rezept-ID aus Spalte B.
A12: Rezepte!I3, I52 und I102 | B12: SUMIF summiert die Zutatenkosten aus Zutaten-Spalte J für die Rezept-ID aus Rezepte-Spalte A. Ohne passende Zutaten bleibt das Ergebnis leer.
A13: Rezepte!J3, J52 und J102 | B13: Kosten je Portion = Zutatenkosten je Ansatz aus Spalte I geteilt durch Portionen je Ansatz aus Spalte F. Leere Werte und Divisionen werden sicher behandelt.
A14: Rezepte!K3, K52 und K102 | B14: Wareneinsatzquote = Kosten je Portion aus Spalte J geteilt durch Planpreis aus Spalte H. IFERROR verhindert Divisionsfehler.
A15: Rezepte!L3, L52 und L102 | B15: Zielpreis = Kosten je Portion aus Spalte J geteilt durch den individuellen Zielwert aus Spalte G. Ist G leer, wird Parameter!B3 verwendet.
A16: Rezepte!M und N | B16: Spalte M zeigt Planpreis minus Zielpreis. Spalte N prüft fehlende Zutaten, fehlende Angaben, Zielüberschreitungen und negative Preisabweichungen.
A17: Übersicht | B17: Summen und Quoten verwenden die Datumswerte aus Rezepte-Spalte E sowie den Betrachtungsbeginn und das Betrachtungsende aus Parameter!B6:B7.
A19: Eingaben und Warnungen
A20: Gelbe Zellen | B20: Gelb markierte Zellen sind für Eingaben vorgesehen. Formelzellen sollten nicht überschrieben werden.
A21: Einheiten | B21: Packungsmenge und Rezeptmenge einer Zutatenposition müssen dieselbe Einheit verwenden; eine automatische Umrechnung findet nicht statt.
A22: Schwund | B22: Die Schwundschwelle ist eine veränderbare Kalkulationsannahme und keine verbindliche Norm.
A23: Warnungen | B23: Orange Markierungen weisen auf Zielüberschreitungen, fehlende Angaben, ungültige Verweise, erhöhte Schwundwerte oder negative Preisabweichungen hin.
A24: Beispieldaten | B24: Alle Rezeptnamen, Preise, Rollen und Vorgänge sind ausschließlich fiktive Demonstrationsdaten.
