Workbook

Sheet Übersicht
A1: Übersicht Preiskalkulation
A2: Kennzahlen, Zeiträume und Warnungen aus dem Blatt Kalkulation
A3: Zeitraum und Datenlage | D3: Kosten und Preise | G3: Quoten und Warnungen
A4: Zeitraum von | B4: =IF(COUNT(Kalkulation!$B$5:$B$104)=0,"",MIN(Kalkulation!$B$5:$B$104)) | D4: Ø Zutatenkosten netto | E4: =IFERROR(AVERAGE(Kalkulation!$G$5:$G$104),"") | G4: Ø wirksamer Aufschlag | H4: =IFERROR(AVERAGE(Kalkulation!$J$5:$J$104),"")
A5: Zeitraum bis | B5: =IF(COUNT(Kalkulation!$B$5:$B$104)=0,"",MAX(Kalkulation!$B$5:$B$104)) | D5: Ø weitere variable Kosten | E5: =IFERROR(AVERAGE(Kalkulation!$H$5:$H$104),"") | G5: Ø Wareneinsatzquote | H5: =IFERROR(AVERAGE(Kalkulation!$T$5:$T$104),"")
A6: Kalkulationen | B6: =COUNTIF(Kalkulation!$C$5:$C$104,"?*") | D6: Ø Selbstkosten netto | E6: =IFERROR(AVERAGE(Kalkulation!$M$5:$M$104),"") | G6: Preis unter Ziel | H6: =COUNTIF(Kalkulation!$V$5:$V$104,"Preis unter Ziel")
A7: Davon freigegeben | B7: =COUNTIF(Kalkulation!$U$5:$U$104,"Freigegeben") | D7: Ø Ziel-Brutto | E7: =IFERROR(AVERAGE(Kalkulation!$P$5:$P$104),"") | G7: Wareneinsatzquote hoch | H7: =COUNTIF(Kalkulation!$V$5:$V$104,"Wareneinsatzquote hoch")
A8: Davon inaktiv | B8: =COUNTIF(Kalkulation!$U$5:$U$104,"Inaktiv") | D8: Ø aktueller Bruttopreis | E8: =IFERROR(AVERAGE(Kalkulation!$Q$5:$Q$104),"") | G8: Im Rahmen | H8: =COUNTIF(Kalkulation!$V$5:$V$104,"Im Rahmen")
A9: Fehlende Angaben | B9: =COUNTIF(Kalkulation!$V$5:$V$104,"Angaben fehlen") | D9: Ø Abweichung | E9: =IFERROR(AVERAGE(Kalkulation!$R$5:$R$104),"") | G9: Prüfbedarf gesamt | H9: =COUNTIF(Kalkulation!$V$5:$V$104,"Preis unter Ziel")+COUNTIF(Kalkulation!$V$5:$V$104,"Wareneinsatzquote hoch")+COUNTIF(Kalkulation!$V$5:$V$104,"Angaben fehlen")+COUNTIF(Kalkulation!$V$5:$V$104,"Parameter prüfen")
G10: Gesamtwarnung | H10: =IF(H9=0,"Keine Warnung aus befüllten Zeilen","Prüfung erforderlich")
A12: Kategorie | B12: Anzahl | C12: Ø Ziel-Brutto | D12: Ø aktueller Bruttopreis | E12: Prüfbedarf
A13: Speise | B13: =COUNTIF(Kalkulation!$D$5:$D$104,$A13) | C13: =IFERROR(SUMIF(Kalkulation!$D$5:$D$104,$A13,Kalkulation!$P$5:$P$104)/COUNTIFS(Kalkulation!$D$5:$D$104,$A13,Kalkulation!$P$5:$P$104,">0"),"") | D13: =IFERROR(SUMIF(Kalkulation!$D$5:$D$104,$A13,Kalkulation!$Q$5:$Q$104)/COUNTIFS(Kalkulation!$D$5:$D$104,$A13,Kalkulation!$Q$5:$Q$104,">0"),"") | E13: =COUNTIFS(Kalkulation!$D$5:$D$104,$A13,Kalkulation!$V$5:$V$104,"<>Im Rahmen",Kalkulation!$V$5:$V$104,"<>Inaktiv",Kalkulation!$V$5:$V$104,"<>")
A14: Getränk | B14: =COUNTIF(Kalkulation!$D$5:$D$104,$A14) | C14: =IFERROR(SUMIF(Kalkulation!$D$5:$D$104,$A14,Kalkulation!$P$5:$P$104)/COUNTIFS(Kalkulation!$D$5:$D$104,$A14,Kalkulation!$P$5:$P$104,">0"),"") | D14: =IFERROR(SUMIF(Kalkulation!$D$5:$D$104,$A14,Kalkulation!$Q$5:$Q$104)/COUNTIFS(Kalkulation!$D$5:$D$104,$A14,Kalkulation!$Q$5:$Q$104,">0"),"") | E14: =COUNTIFS(Kalkulation!$D$5:$D$104,$A14,Kalkulation!$V$5:$V$104,"<>Im Rahmen",Kalkulation!$V$5:$V$104,"<>Inaktiv",Kalkulation!$V$5:$V$104,"<>")
A15: Dessert | B15: =COUNTIF(Kalkulation!$D$5:$D$104,$A15) | C15: =IFERROR(SUMIF(Kalkulation!$D$5:$D$104,$A15,Kalkulation!$P$5:$P$104)/COUNTIFS(Kalkulation!$D$5:$D$104,$A15,Kalkulation!$P$5:$P$104,">0"),"") | D15: =IFERROR(SUMIF(Kalkulation!$D$5:$D$104,$A15,Kalkulation!$Q$5:$Q$104)/COUNTIFS(Kalkulation!$D$5:$D$104,$A15,Kalkulation!$Q$5:$Q$104,">0"),"") | E15: =COUNTIFS(Kalkulation!$D$5:$D$104,$A15,Kalkulation!$V$5:$V$104,"<>Im Rahmen",Kalkulation!$V$5:$V$104,"<>Inaktiv",Kalkulation!$V$5:$V$104,"<>")
A16: Catering | B16: =COUNTIF(Kalkulation!$D$5:$D$104,$A16) | C16: =IFERROR(SUMIF(Kalkulation!$D$5:$D$104,$A16,Kalkulation!$P$5:$P$104)/COUNTIFS(Kalkulation!$D$5:$D$104,$A16,Kalkulation!$P$5:$P$104,">0"),"") | D16: =IFERROR(SUMIF(Kalkulation!$D$5:$D$104,$A16,Kalkulation!$Q$5:$Q$104)/COUNTIFS(Kalkulation!$D$5:$D$104,$A16,Kalkulation!$Q$5:$Q$104,">0"),"") | E16: =COUNTIFS(Kalkulation!$D$5:$D$104,$A16,Kalkulation!$V$5:$V$104,"<>Im Rahmen",Kalkulation!$V$5:$V$104,"<>Inaktiv",Kalkulation!$V$5:$V$104,"<>")
A17: Sonstiges | B17: =COUNTIF(Kalkulation!$D$5:$D$104,$A17) | C17: =IFERROR(SUMIF(Kalkulation!$D$5:$D$104,$A17,Kalkulation!$P$5:$P$104)/COUNTIFS(Kalkulation!$D$5:$D$104,$A17,Kalkulation!$P$5:$P$104,">0"),"") | D17: =IFERROR(SUMIF(Kalkulation!$D$5:$D$104,$A17,Kalkulation!$Q$5:$Q$104)/COUNTIFS(Kalkulation!$D$5:$D$104,$A17,Kalkulation!$Q$5:$Q$104,">0"),"") | E17: =COUNTIFS(Kalkulation!$D$5:$D$104,$A17,Kalkulation!$V$5:$V$104,"<>Im Rahmen",Kalkulation!$V$5:$V$104,"<>Inaktiv",Kalkulation!$V$5:$V$104,"<>")

Sheet Kalkulation
A1: Preiskalkulation Gastronomie
A2: Gelbe Zellen bearbeiten. Die zehn ausgefüllten Vorgänge und alle Bezeichnungen sind eindeutig fiktiv.
A3: Leere Artikelzeilen bleiben optisch leer; der Standard-Aufschlag greift nur bei einer befüllten Zeile ohne individuellen Aufschlag.
A4: Kalk.-Nr. | B4: Datum | C4: Artikel / Gericht | D4: Kategorie | E4: Verkaufseinheit | F4: Zuständigkeit (fiktiv) | G4: Zutatenkosten netto | H4: Weitere variable Kosten netto | I4: Aufschlag individuell | J4: Aufschlag wirksam | K4: Steuerprofil | L4: MwSt-Satz | M4: Selbstkosten netto | N4: Ziel-Netto | O4: MwSt-Betrag | P4: Ziel-Brutto gerundet | Q4: Aktueller Bruttopreis | R4: Abweichung € | S4: Abweichung % | T4: Wareneinsatzquote | U4: Status | V4: Warnung
A5: K-001 | B5: 46263 | C5: Kupferwald-Pasta Fantasia | D5: Speise | E5: Portion | F5: Fiktivteam Kupfer | G5: 3.2 | H5: 1.1 | J5: =IF($C5="","",IF($I5="",Parameter!$B$4,$I5)) | K5: Profil A | L5: =IF($C5="","",IFERROR(VLOOKUP($K5,Parameter!$A$17:$B$19,2,FALSE),"")) | M5: =IF($C5="","",IF(OR($G5="",$H5=""),"",SUM($G5:$H5))) | N5: =IF(OR($M5="",$J5=""),"",$M5*(1+$J5)) | O5: =IF(OR($N5="",$L5=""),"",$N5*$L5) | P5: =IF(OR($N5="",$L5=""),"",IFERROR(ROUND(($N5+$O5)/Parameter!$B$7,0)*Parameter!$B$7,"")) | Q5: 13.9 | R5: =IF(OR($Q5="",$P5=""),"",$Q5-$P5) | S5: =IF(OR($R5="",$P5=""),"",IFERROR($R5/$P5,"")) | T5: =IF(OR($G5="",$Q5="",$L5=""),"",IFERROR($G5/($Q5/(1+$L5)),"")) | U5: Freigegeben | V5: =IF($C5="","",IF($U5="Inaktiv","Inaktiv",IF(OR($A5="",$B5="",$D5="",$E5="",$F5="",$G5="",$H5="",$K5="",$Q5="",$U5=""),"Angaben fehlen",IF(OR($L5="",$P5=""),"Parameter prüfen",IF($Q5<$P5*(1-Parameter!$B$6),"Preis unter Ziel",IF($T5>Parameter!$B$5,"Wareneinsatzquote hoch","Im Rahmen"))))))
A6: K-002 | B6: 46264 | C6: Zitrus-Limo Pixel | D6: Getränk | E6: Glas | F6: Fiktivteam Mosaik | G6: 0.75 | H6: 0.25 | I6: 3.2 | J6: =IF($C6="","",IF($I6="",Parameter!$B$4,$I6)) | K6: Profil A | L6: =IF($C6="","",IFERROR(VLOOKUP($K6,Parameter!$A$17:$B$19,2,FALSE),"")) | M6: =IF($C6="","",IF(OR($G6="",$H6=""),"",SUM($G6:$H6))) | N6: =IF(OR($M6="",$J6=""),"",$M6*(1+$J6)) | O6: =IF(OR($N6="",$L6=""),"",$N6*$L6) | P6: =IF(OR($N6="",$L6=""),"",IFERROR(ROUND(($N6+$O6)/Parameter!$B$7,0)*Parameter!$B$7,"")) | Q6: 4.4 | R6: =IF(OR($Q6="",$P6=""),"",$Q6-$P6) | S6: =IF(OR($R6="",$P6=""),"",IFERROR($R6/$P6,"")) | T6: =IF(OR($G6="",$Q6="",$L6=""),"",IFERROR($G6/($Q6/(1+$L6)),"")) | U6: Freigegeben | V6: =IF($C6="","",IF($U6="Inaktiv","Inaktiv",IF(OR($A6="",$B6="",$D6="",$E6="",$F6="",$G6="",$H6="",$K6="",$Q6="",$U6=""),"Angaben fehlen",IF(OR($L6="",$P6=""),"Parameter prüfen",IF($Q6<$P6*(1-Parameter!$B$6),"Preis unter Ziel",IF($T6>Parameter!$B$5,"Wareneinsatzquote hoch","Im Rahmen"))))))
A7: K-003 | B7: 46265 | C7: Kürbis-Schale Nordlicht | D7: Speise | E7: Portion | F7: Fiktivteam Nordstern | G7: 4.8 | H7: 0.9 | I7: 1.2 | J7: =IF($C7="","",IF($I7="",Parameter!$B$4,$I7)) | K7: Profil A | L7: =IF($C7="","",IFERROR(VLOOKUP($K7,Parameter!$A$17:$B$19,2,FALSE),"")) | M7: =IF($C7="","",IF(OR($G7="",$H7=""),"",SUM($G7:$H7))) | N7: =IF(OR($M7="",$J7=""),"",$M7*(1+$J7)) | O7: =IF(OR($N7="",$L7=""),"",$N7*$L7) | P7: =IF(OR($N7="",$L7=""),"",IFERROR(ROUND(($N7+$O7)/Parameter!$B$7,0)*Parameter!$B$7,"")) | Q7: 15 | R7: =IF(OR($Q7="",$P7=""),"",$Q7-$P7) | S7: =IF(OR($R7="",$P7=""),"",IFERROR($R7/$P7,"")) | T7: =IF(OR($G7="",$Q7="",$L7=""),"",IFERROR($G7/($Q7/(1+$L7)),"")) | U7: Freigegeben | V7: =IF($C7="","",IF($U7="Inaktiv","Inaktiv",IF(OR($A7="",$B7="",$D7="",$E7="",$F7="",$G7="",$H7="",$K7="",$Q7="",$U7=""),"Angaben fehlen",IF(OR($L7="",$P7=""),"Parameter prüfen",IF($Q7<$P7*(1-Parameter!$B$6),"Preis unter Ziel",IF($T7>Parameter!$B$5,"Wareneinsatzquote hoch","Im Rahmen"))))))
A8: K-004 | B8: 46266 | C8: Mohn-Dessert Wolke | D8: Dessert | E8: Stück | F8: Fiktivteam Wolke | G8: 1.2 | H8: 0.4 | I8: 2.2 | J8: =IF($C8="","",IF($I8="",Parameter!$B$4,$I8)) | K8: Profil B | L8: =IF($C8="","",IFERROR(VLOOKUP($K8,Parameter!$A$17:$B$19,2,FALSE),"")) | M8: =IF($C8="","",IF(OR($G8="",$H8=""),"",SUM($G8:$H8))) | N8: =IF(OR($M8="",$J8=""),"",$M8*(1+$J8)) | O8: =IF(OR($N8="",$L8=""),"",$N8*$L8) | P8: =IF(OR($N8="",$L8=""),"",IFERROR(ROUND(($N8+$O8)/Parameter!$B$7,0)*Parameter!$B$7,"")) | Q8: 5.5 | R8: =IF(OR($Q8="",$P8=""),"",$Q8-$P8) | S8: =IF(OR($R8="",$P8=""),"",IFERROR($R8/$P8,"")) | T8: =IF(OR($G8="",$Q8="",$L8=""),"",IFERROR($G8/($Q8/(1+$L8)),"")) | U8: Freigegeben | V8: =IF($C8="","",IF($U8="Inaktiv","Inaktiv",IF(OR($A8="",$B8="",$D8="",$E8="",$F8="",$G8="",$H8="",$K8="",$Q8="",$U8=""),"Angaben fehlen",IF(OR($L8="",$P8=""),"Parameter prüfen",IF($Q8<$P8*(1-Parameter!$B$6),"Preis unter Ziel",IF($T8>Parameter!$B$5,"Wareneinsatzquote hoch","Im Rahmen"))))))
A9: K-005 | B9: 46267 | C9: Cateringbox Atlas | D9: Catering | E9: Paket | F9: Fiktivteam Atlas | G9: 8.5 | H9: 2.5 | I9: 1.5 | J9: =IF($C9="","",IF($I9="",Parameter!$B$4,$I9)) | K9: Profil A | L9: =IF($C9="","",IFERROR(VLOOKUP($K9,Parameter!$A$17:$B$19,2,FALSE),"")) | M9: =IF($C9="","",IF(OR($G9="",$H9=""),"",SUM($G9:$H9))) | N9: =IF(OR($M9="",$J9=""),"",$M9*(1+$J9)) | O9: =IF(OR($N9="",$L9=""),"",$N9*$L9) | P9: =IF(OR($N9="",$L9=""),"",IFERROR(ROUND(($N9+$O9)/Parameter!$B$7,0)*Parameter!$B$7,"")) | Q9: 32.9 | R9: =IF(OR($Q9="",$P9=""),"",$Q9-$P9) | S9: =IF(OR($R9="",$P9=""),"",IFERROR($R9/$P9,"")) | T9: =IF(OR($G9="",$Q9="",$L9=""),"",IFERROR($G9/($Q9/(1+$L9)),"")) | U9: Entwurf | V9: =IF($C9="","",IF($U9="Inaktiv","Inaktiv",IF(OR($A9="",$B9="",$D9="",$E9="",$F9="",$G9="",$H9="",$K9="",$Q9="",$U9=""),"Angaben fehlen",IF(OR($L9="",$P9=""),"Parameter prüfen",IF($Q9<$P9*(1-Parameter!$B$6),"Preis unter Ziel",IF($T9>Parameter!$B$5,"Wareneinsatzquote hoch","Im Rahmen"))))))
A10: K-006 | B10: 46268 | C10: Beeren-Schorle Prisma | D10: Getränk | E10: Glas | F10: Fiktivteam Prisma | G10: 0.9 | H10: 0.3 | I10: 2.8 | J10: =IF($C10="","",IF($I10="",Parameter!$B$4,$I10)) | K10: Profil A | L10: =IF($C10="","",IFERROR(VLOOKUP($K10,Parameter!$A$17:$B$19,2,FALSE),"")) | M10: =IF($C10="","",IF(OR($G10="",$H10=""),"",SUM($G10:$H10))) | N10: =IF(OR($M10="",$J10=""),"",$M10*(1+$J10)) | O10: =IF(OR($N10="",$L10=""),"",$N10*$L10) | P10: =IF(OR($N10="",$L10=""),"",IFERROR(ROUND(($N10+$O10)/Parameter!$B$7,0)*Parameter!$B$7,"")) | R10: =IF(OR($Q10="",$P10=""),"",$Q10-$P10) | S10: =IF(OR($R10="",$P10=""),"",IFERROR($R10/$P10,"")) | T10: =IF(OR($G10="",$Q10="",$L10=""),"",IFERROR($G10/($Q10/(1+$L10)),"")) | U10: Entwurf | V10: =IF($C10="","",IF($U10="Inaktiv","Inaktiv",IF(OR($A10="",$B10="",$D10="",$E10="",$F10="",$G10="",$H10="",$K10="",$Q10="",$U10=""),"Angaben fehlen",IF(OR($L10="",$P10=""),"Parameter prüfen",IF($Q10<$P10*(1-Parameter!$B$6),"Preis unter Ziel",IF($T10>Parameter!$B$5,"Wareneinsatzquote hoch","Im Rahmen"))))))
A11: K-007 | B11: 46269 | C11: Kartoffelstück Goldpunkt | D11: Speise | E11: Portion | F11: Fiktivteam Goldpunkt | G11: 2.1 | H11: 0.7 | I11: 1.7 | J11: =IF($C11="","",IF($I11="",Parameter!$B$4,$I11)) | K11: Profil B | L11: =IF($C11="","",IFERROR(VLOOKUP($K11,Parameter!$A$17:$B$19,2,FALSE),"")) | M11: =IF($C11="","",IF(OR($G11="",$H11=""),"",SUM($G11:$H11))) | N11: =IF(OR($M11="",$J11=""),"",$M11*(1+$J11)) | O11: =IF(OR($N11="",$L11=""),"",$N11*$L11) | P11: =IF(OR($N11="",$L11=""),"",IFERROR(ROUND(($N11+$O11)/Parameter!$B$7,0)*Parameter!$B$7,"")) | Q11: 8.2 | R11: =IF(OR($Q11="",$P11=""),"",$Q11-$P11) | S11: =IF(OR($R11="",$P11=""),"",IFERROR($R11/$P11,"")) | T11: =IF(OR($G11="",$Q11="",$L11=""),"",IFERROR($G11/($Q11/(1+$L11)),"")) | U11: Freigegeben | V11: =IF($C11="","",IF($U11="Inaktiv","Inaktiv",IF(OR($A11="",$B11="",$D11="",$E11="",$F11="",$G11="",$H11="",$K11="",$Q11="",$U11=""),"Angaben fehlen",IF(OR($L11="",$P11=""),"Parameter prüfen",IF($Q11<$P11*(1-Parameter!$B$6),"Preis unter Ziel",IF($T11>Parameter!$B$5,"Wareneinsatzquote hoch","Im Rahmen"))))))
A12: K-008 | B12: 46270 | C12: Kakao-Tarte Sternwerk | D12: Dessert | E12: Stück | F12: Fiktivteam Sternwerk | G12: 1.8 | H12: 0.6 | I12: 1.9 | J12: =IF($C12="","",IF($I12="",Parameter!$B$4,$I12)) | K12: Profil B | L12: =IF($C12="","",IFERROR(VLOOKUP($K12,Parameter!$A$17:$B$19,2,FALSE),"")) | M12: =IF($C12="","",IF(OR($G12="",$H12=""),"",SUM($G12:$H12))) | N12: =IF(OR($M12="",$J12=""),"",$M12*(1+$J12)) | O12: =IF(OR($N12="",$L12=""),"",$N12*$L12) | P12: =IF(OR($N12="",$L12=""),"",IFERROR(ROUND(($N12+$O12)/Parameter!$B$7,0)*Parameter!$B$7,"")) | Q12: 7.2 | R12: =IF(OR($Q12="",$P12=""),"",$Q12-$P12) | S12: =IF(OR($R12="",$P12=""),"",IFERROR($R12/$P12,"")) | T12: =IF(OR($G12="",$Q12="",$L12=""),"",IFERROR($G12/($Q12/(1+$L12)),"")) | U12: Freigegeben | V12: =IF($C12="","",IF($U12="Inaktiv","Inaktiv",IF(OR($A12="",$B12="",$D12="",$E12="",$F12="",$G12="",$H12="",$K12="",$Q12="",$U12=""),"Angaben fehlen",IF(OR($L12="",$P12=""),"Parameter prüfen",IF($Q12<$P12*(1-Parameter!$B$6),"Preis unter Ziel",IF($T12>Parameter!$B$5,"Wareneinsatzquote hoch","Im Rahmen"))))))
A13: K-009 | B13: 46271 | C13: Suppentopf Fabel | D13: Catering | E13: Portion | F13: Fiktivteam Fabel | G13: 5.9 | H13: 1.8 | I13: 1 | J13: =IF($C13="","",IF($I13="",Parameter!$B$4,$I13)) | K13: Profil A | L13: =IF($C13="","",IFERROR(VLOOKUP($K13,Parameter!$A$17:$B$19,2,FALSE),"")) | M13: =IF($C13="","",IF(OR($G13="",$H13=""),"",SUM($G13:$H13))) | N13: =IF(OR($M13="",$J13=""),"",$M13*(1+$J13)) | O13: =IF(OR($N13="",$L13=""),"",$N13*$L13) | P13: =IF(OR($N13="",$L13=""),"",IFERROR(ROUND(($N13+$O13)/Parameter!$B$7,0)*Parameter!$B$7,"")) | Q13: 18 | R13: =IF(OR($Q13="",$P13=""),"",$Q13-$P13) | S13: =IF(OR($R13="",$P13=""),"",IFERROR($R13/$P13,"")) | T13: =IF(OR($G13="",$Q13="",$L13=""),"",IFERROR($G13/($Q13/(1+$L13)),"")) | U13: Inaktiv | V13: =IF($C13="","",IF($U13="Inaktiv","Inaktiv",IF(OR($A13="",$B13="",$D13="",$E13="",$F13="",$G13="",$H13="",$K13="",$Q13="",$U13=""),"Angaben fehlen",IF(OR($L13="",$P13=""),"Parameter prüfen",IF($Q13<$P13*(1-Parameter!$B$6),"Preis unter Ziel",IF($T13>Parameter!$B$5,"Wareneinsatzquote hoch","Im Rahmen"))))))
A14: K-010 | B14: 46272 | C14: Kräuteröl Miniatur | D14: Sonstiges | E14: Flasche | F14: Fiktivteam Miniatur | G14: 2.4 | H14: 0.8 | I14: 2.5 | J14: =IF($C14="","",IF($I14="",Parameter!$B$4,$I14)) | K14: Profil C | L14: =IF($C14="","",IFERROR(VLOOKUP($K14,Parameter!$A$17:$B$19,2,FALSE),"")) | M14: =IF($C14="","",IF(OR($G14="",$H14=""),"",SUM($G14:$H14))) | N14: =IF(OR($M14="",$J14=""),"",$M14*(1+$J14)) | O14: =IF(OR($N14="",$L14=""),"",$N14*$L14) | P14: =IF(OR($N14="",$L14=""),"",IFERROR(ROUND(($N14+$O14)/Parameter!$B$7,0)*Parameter!$B$7,"")) | Q14: 11.2 | R14: =IF(OR($Q14="",$P14=""),"",$Q14-$P14) | S14: =IF(OR($R14="",$P14=""),"",IFERROR($R14/$P14,"")) | T14: =IF(OR($G14="",$Q14="",$L14=""),"",IFERROR($G14/($Q14/(1+$L14)),"")) | U14: Freigegeben | V14: =IF($C14="","",IF($U14="Inaktiv","Inaktiv",IF(OR($A14="",$B14="",$D14="",$E14="",$F14="",$G14="",$H14="",$K14="",$Q14="",$U14=""),"Angaben fehlen",IF(OR($L14="",$P14=""),"Parameter prüfen",IF($Q14<$P14*(1-Parameter!$B$6),"Preis unter Ziel",IF($T14>Parameter!$B$5,"Wareneinsatzquote hoch","Im Rahmen"))))))
J15: =IF($C15="","",IF($I15="",Parameter!$B$4,$I15)) | L15: =IF($C15="","",IFERROR(VLOOKUP($K15,Parameter!$A$17:$B$19,2,FALSE),"")) | M15: =IF($C15="","",IF(OR($G15="",$H15=""),"",SUM($G15:$H15))) | N15: =IF(OR($M15="",$J15=""),"",$M15*(1+$J15)) | O15: =IF(OR($N15="",$L15=""),"",$N15*$L15) | P15: =IF(OR($N15="",$L15=""),"",IFERROR(ROUND(($N15+$O15)/Parameter!$B$7,0)*Parameter!$B$7,"")) | R15: =IF(OR($Q15="",$P15=""),"",$Q15-$P15) | S15: =IF(OR($R15="",$P15=""),"",IFERROR($R15/$P15,"")) | T15: =IF(OR($G15="",$Q15="",$L15=""),"",IFERROR($G15/($Q15/(1+$L15)),"")) | V15: =IF($C15="","",IF($U15="Inaktiv","Inaktiv",IF(OR($A15="",$B15="",$D15="",$E15="",$F15="",$G15="",$H15="",$K15="",$Q15="",$U15=""),"Angaben fehlen",IF(OR($L15="",$P15=""),"Parameter prüfen",IF($Q15<$P15*(1-Parameter!$B$6),"Preis unter Ziel",IF($T15>Parameter!$B$5,"Wareneinsatzquote hoch","Im Rahmen"))))))
J16: =IF($C16="","",IF($I16="",Parameter!$B$4,$I16)) | L16: =IF($C16="","",IFERROR(VLOOKUP($K16,Parameter!$A$17:$B$19,2,FALSE),"")) | M16: =IF($C16="","",IF(OR($G16="",$H16=""),"",SUM($G16:$H16))) | N16: =IF(OR($M16="",$J16=""),"",$M16*(1+$J16)) | O16: =IF(OR($N16="",$L16=""),"",$N16*$L16) | P16: =IF(OR($N16="",$L16=""),"",IFERROR(ROUND(($N16+$O16)/Parameter!$B$7,0)*Parameter!$B$7,"")) | R16: =IF(OR($Q16="",$P16=""),"",$Q16-$P16) | S16: =IF(OR($R16="",$P16=""),"",IFERROR($R16/$P16,"")) | T16: =IF(OR($G16="",$Q16="",$L16=""),"",IFERROR($G16/($Q16/(1+$L16)),"")) | V16: =IF($C16="","",IF($U16="Inaktiv","Inaktiv",IF(OR($A16="",$B16="",$D16="",$E16="",$F16="",$G16="",$H16="",$K16="",$Q16="",$U16=""),"Angaben fehlen",IF(OR($L16="",$P16=""),"Parameter prüfen",IF($Q16<$P16*(1-Parameter!$B$6),"Preis unter Ziel",IF($T16>Parameter!$B$5,"Wareneinsatzquote hoch","Im Rahmen"))))))
J17: =IF($C17="","",IF($I17="",Parameter!$B$4,$I17)) | L17: =IF($C17="","",IFERROR(VLOOKUP($K17,Parameter!$A$17:$B$19,2,FALSE),"")) | M17: =IF($C17="","",IF(OR($G17="",$H17=""),"",SUM($G17:$H17))) | N17: =IF(OR($M17="",$J17=""),"",$M17*(1+$J17)) | O17: =IF(OR($N17="",$L17=""),"",$N17*$L17) | P17: =IF(OR($N17="",$L17=""),"",IFERROR(ROUND(($N17+$O17)/Parameter!$B$7,0)*Parameter!$B$7,"")) | R17: =IF(OR($Q17="",$P17=""),"",$Q17-$P17) | S17: =IF(OR($R17="",$P17=""),"",IFERROR($R17/$P17,"")) | T17: =IF(OR($G17="",$Q17="",$L17=""),"",IFERROR($G17/($Q17/(1+$L17)),"")) | V17: =IF($C17="","",IF($U17="Inaktiv","Inaktiv",IF(OR($A17="",$B17="",$D17="",$E17="",$F17="",$G17="",$H17="",$K17="",$Q17="",$U17=""),"Angaben fehlen",IF(OR($L17="",$P17=""),"Parameter prüfen",IF($Q17<$P17*(1-Parameter!$B$6),"Preis unter Ziel",IF($T17>Parameter!$B$5,"Wareneinsatzquote hoch","Im Rahmen"))))))
J18: =IF($C18="","",IF($I18="",Parameter!$B$4,$I18)) | L18: =IF($C18="","",IFERROR(VLOOKUP($K18,Parameter!$A$17:$B$19,2,FALSE),"")) | M18: =IF($C18="","",IF(OR($G18="",$H18=""),"",SUM($G18:$H18))) | N18: =IF(OR($M18="",$J18=""),"",$M18*(1+$J18)) | O18: =IF(OR($N18="",$L18=""),"",$N18*$L18) | P18: =IF(OR($N18="",$L18=""),"",IFERROR(ROUND(($N18+$O18)/Parameter!$B$7,0)*Parameter!$B$7,"")) | R18: =IF(OR($Q18="",$P18=""),"",$Q18-$P18) | S18: =IF(OR($R18="",$P18=""),"",IFERROR($R18/$P18,"")) | T18: =IF(OR($G18="",$Q18="",$L18=""),"",IFERROR($G18/($Q18/(1+$L18)),"")) | V18: =IF($C18="","",IF($U18="Inaktiv","Inaktiv",IF(OR($A18="",$B18="",$D18="",$E18="",$F18="",$G18="",$H18="",$K18="",$Q18="",$U18=""),"Angaben fehlen",IF(OR($L18="",$P18=""),"Parameter prüfen",IF($Q18<$P18*(1-Parameter!$B$6),"Preis unter Ziel",IF($T18>Parameter!$B$5,"Wareneinsatzquote hoch","Im Rahmen"))))))
J19: =IF($C19="","",IF($I19="",Parameter!$B$4,$I19)) | L19: =IF($C19="","",IFERROR(VLOOKUP($K19,Parameter!$A$17:$B$19,2,FALSE),"")) | M19: =IF($C19="","",IF(OR($G19="",$H19=""),"",SUM($G19:$H19))) | N19: =IF(OR($M19="",$J19=""),"",$M19*(1+$J19)) | O19: =IF(OR($N19="",$L19=""),"",$N19*$L19) | P19: =IF(OR($N19="",$L19=""),"",IFERROR(ROUND(($N19+$O19)/Parameter!$B$7,0)*Parameter!$B$7,"")) | R19: =IF(OR($Q19="",$P19=""),"",$Q19-$P19) | S19: =IF(OR($R19="",$P19=""),"",IFERROR($R19/$P19,"")) | T19: =IF(OR($G19="",$Q19="",$L19=""),"",IFERROR($G19/($Q19/(1+$L19)),"")) | V19: =IF($C19="","",IF($U19="Inaktiv","Inaktiv",IF(OR($A19="",$B19="",$D19="",$E19="",$F19="",$G19="",$H19="",$K19="",$Q19="",$U19=""),"Angaben fehlen",IF(OR($L19="",$P19=""),"Parameter prüfen",IF($Q19<$P19*(1-Parameter!$B$6),"Preis unter Ziel",IF($T19>Parameter!$B$5,"Wareneinsatzquote hoch","Im Rahmen"))))))
J20: =IF($C20="","",IF($I20="",Parameter!$B$4,$I20)) | L20: =IF($C20="","",IFERROR(VLOOKUP($K20,Parameter!$A$17:$B$19,2,FALSE),"")) | M20: =IF($C20="","",IF(OR($G20="",$H20=""),"",SUM($G20:$H20))) | N20: =IF(OR($M20="",$J20=""),"",$M20*(1+$J20)) | O20: =IF(OR($N20="",$L20=""),"",$N20*$L20) | P20: =IF(OR($N20="",$L20=""),"",IFERROR(ROUND(($N20+$O20)/Parameter!$B$7,0)*Parameter!$B$7,"")) | R20: =IF(OR($Q20="",$P20=""),"",$Q20-$P20) | S20: =IF(OR($R20="",$P20=""),"",IFERROR($R20/$P20,"")) | T20: =IF(OR($G20="",$Q20="",$L20=""),"",IFERROR($G20/($Q20/(1+$L20)),"")) | V20: =IF($C20="","",IF($U20="Inaktiv","Inaktiv",IF(OR($A20="",$B20="",$D20="",$E20="",$F20="",$G20="",$H20="",$K20="",$Q20="",$U20=""),"Angaben fehlen",IF(OR($L20="",$P20=""),"Parameter prüfen",IF($Q20<$P20*(1-Parameter!$B$6),"Preis unter Ziel",IF($T20>Parameter!$B$5,"Wareneinsatzquote hoch","Im Rahmen"))))))
J21: =IF($C21="","",IF($I21="",Parameter!$B$4,$I21)) | L21: =IF($C21="","",IFERROR(VLOOKUP($K21,Parameter!$A$17:$B$19,2,FALSE),"")) | M21: =IF($C21="","",IF(OR($G21="",$H21=""),"",SUM($G21:$H21))) | N21: =IF(OR($M21="",$J21=""),"",$M21*(1+$J21)) | O21: =IF(OR($N21="",$L21=""),"",$N21*$L21) | P21: =IF(OR($N21="",$L21=""),"",IFERROR(ROUND(($N21+$O21)/Parameter!$B$7,0)*Parameter!$B$7,"")) | R21: =IF(OR($Q21="",$P21=""),"",$Q21-$P21) | S21: =IF(OR($R21="",$P21=""),"",IFERROR($R21/$P21,"")) | T21: =IF(OR($G21="",$Q21="",$L21=""),"",IFERROR($G21/($Q21/(1+$L21)),"")) | V21: =IF($C21="","",IF($U21="Inaktiv","Inaktiv",IF(OR($A21="",$B21="",$D21="",$E21="",$F21="",$G21="",$H21="",$K21="",$Q21="",$U21=""),"Angaben fehlen",IF(OR($L21="",$P21=""),"Parameter prüfen",IF($Q21<$P21*(1-Parameter!$B$6),"Preis unter Ziel",IF($T21>Parameter!$B$5,"Wareneinsatzquote hoch","Im Rahmen"))))))
J22: =IF($C22="","",IF($I22="",Parameter!$B$4,$I22)) | L22: =IF($C22="","",IFERROR(VLOOKUP($K22,Parameter!$A$17:$B$19,2,FALSE),"")) | M22: =IF($C22="","",IF(OR($G22="",$H22=""),"",SUM($G22:$H22))) | N22: =IF(OR($M22="",$J22=""),"",$M22*(1+$J22)) | O22: =IF(OR($N22="",$L22=""),"",$N22*$L22) | P22: =IF(OR($N22="",$L22=""),"",IFERROR(ROUND(($N22+$O22)/Parameter!$B$7,0)*Parameter!$B$7,"")) | R22: =IF(OR($Q22="",$P22=""),"",$Q22-$P22) | S22: =IF(OR($R22="",$P22=""),"",IFERROR($R22/$P22,"")) | T22: =IF(OR($G22="",$Q22="",$L22=""),"",IFERROR($G22/($Q22/(1+$L22)),"")) | V22: =IF($C22="","",IF($U22="Inaktiv","Inaktiv",IF(OR($A22="",$B22="",$D22="",$E22="",$F22="",$G22="",$H22="",$K22="",$Q22="",$U22=""),"Angaben fehlen",IF(OR($L22="",$P22=""),"Parameter prüfen",IF($Q22<$P22*(1-Parameter!$B$6),"Preis unter Ziel",IF($T22>Parameter!$B$5,"Wareneinsatzquote hoch","Im Rahmen"))))))
J23: =IF($C23="","",IF($I23="",Parameter!$B$4,$I23)) | L23: =IF($C23="","",IFERROR(VLOOKUP($K23,Parameter!$A$17:$B$19,2,FALSE),"")) | M23: =IF($C23="","",IF(OR($G23="",$H23=""),"",SUM($G23:$H23))) | N23: =IF(OR($M23="",$J23=""),"",$M23*(1+$J23)) | O23: =IF(OR($N23="",$L23=""),"",$N23*$L23) | P23: =IF(OR($N23="",$L23=""),"",IFERROR(ROUND(($N23+$O23)/Parameter!$B$7,0)*Parameter!$B$7,"")) | R23: =IF(OR($Q23="",$P23=""),"",$Q23-$P23) | S23: =IF(OR($R23="",$P23=""),"",IFERROR($R23/$P23,"")) | T23: =IF(OR($G23="",$Q23="",$L23=""),"",IFERROR($G23/($Q23/(1+$L23)),"")) | V23: =IF($C23="","",IF($U23="Inaktiv","Inaktiv",IF(OR($A23="",$B23="",$D23="",$E23="",$F23="",$G23="",$H23="",$K23="",$Q23="",$U23=""),"Angaben fehlen",IF(OR($L23="",$P23=""),"Parameter prüfen",IF($Q23<$P23*(1-Parameter!$B$6),"Preis unter Ziel",IF($T23>Parameter!$B$5,"Wareneinsatzquote hoch","Im Rahmen"))))))
J24: =IF($C24="","",IF($I24="",Parameter!$B$4,$I24)) | L24: =IF($C24="","",IFERROR(VLOOKUP($K24,Parameter!$A$17:$B$19,2,FALSE),"")) | M24: =IF($C24="","",IF(OR($G24="",$H24=""),"",SUM($G24:$H24))) | N24: =IF(OR($M24="",$J24=""),"",$M24*(1+$J24)) | O24: =IF(OR($N24="",$L24=""),"",$N24*$L24) | P24: =IF(OR($N24="",$L24=""),"",IFERROR(ROUND(($N24+$O24)/Parameter!$B$7,0)*Parameter!$B$7,"")) | R24: =IF(OR($Q24="",$P24=""),"",$Q24-$P24) | S24: =IF(OR($R24="",$P24=""),"",IFERROR($R24/$P24,"")) | T24: =IF(OR($G24="",$Q24="",$L24=""),"",IFERROR($G24/($Q24/(1+$L24)),"")) | V24: =IF($C24="","",IF($U24="Inaktiv","Inaktiv",IF(OR($A24="",$B24="",$D24="",$E24="",$F24="",$G24="",$H24="",$K24="",$Q24="",$U24=""),"Angaben fehlen",IF(OR($L24="",$P24=""),"Parameter prüfen",IF($Q24<$P24*(1-Parameter!$B$6),"Preis unter Ziel",IF($T24>Parameter!$B$5,"Wareneinsatzquote hoch","Im Rahmen"))))))
J25: =IF($C25="","",IF($I25="",Parameter!$B$4,$I25)) | L25: =IF($C25="","",IFERROR(VLOOKUP($K25,Parameter!$A$17:$B$19,2,FALSE),"")) | M25: =IF($C25="","",IF(OR($G25="",$H25=""),"",SUM($G25:$H25))) | N25: =IF(OR($M25="",$J25=""),"",$M25*(1+$J25)) | O25: =IF(OR($N25="",$L25=""),"",$N25*$L25) | P25: =IF(OR($N25="",$L25=""),"",IFERROR(ROUND(($N25+$O25)/Parameter!$B$7,0)*Parameter!$B$7,"")) | R25: =IF(OR($Q25="",$P25=""),"",$Q25-$P25) | S25: =IF(OR($R25="",$P25=""),"",IFERROR($R25/$P25,"")) | T25: =IF(OR($G25="",$Q25="",$L25=""),"",IFERROR($G25/($Q25/(1+$L25)),"")) | V25: =IF($C25="","",IF($U25="Inaktiv","Inaktiv",IF(OR($A25="",$B25="",$D25="",$E25="",$F25="",$G25="",$H25="",$K25="",$Q25="",$U25=""),"Angaben fehlen",IF(OR($L25="",$P25=""),"Parameter prüfen",IF($Q25<$P25*(1-Parameter!$B$6),"Preis unter Ziel",IF($T25>Parameter!$B$5,"Wareneinsatzquote hoch","Im Rahmen"))))))
J26: =IF($C26="","",IF($I26="",Parameter!$B$4,$I26)) | L26: =IF($C26="","",IFERROR(VLOOKUP($K26,Parameter!$A$17:$B$19,2,FALSE),"")) | M26: =IF($C26="","",IF(OR($G26="",$H26=""),"",SUM($G26:$H26))) | N26: =IF(OR($M26="",$J26=""),"",$M26*(1+$J26)) | O26: =IF(OR($N26="",$L26=""),"",$N26*$L26) | P26: =IF(OR($N26="",$L26=""),"",IFERROR(ROUND(($N26+$O26)/Parameter!$B$7,0)*Parameter!$B$7,"")) | R26: =IF(OR($Q26="",$P26=""),"",$Q26-$P26) | S26: =IF(OR($R26="",$P26=""),"",IFERROR($R26/$P26,"")) | T26: =IF(OR($G26="",$Q26="",$L26=""),"",IFERROR($G26/($Q26/(1+$L26)),"")) | V26: =IF($C26="","",IF($U26="Inaktiv","Inaktiv",IF(OR($A26="",$B26="",$D26="",$E26="",$F26="",$G26="",$H26="",$K26="",$Q26="",$U26=""),"Angaben fehlen",IF(OR($L26="",$P26=""),"Parameter prüfen",IF($Q26<$P26*(1-Parameter!$B$6),"Preis unter Ziel",IF($T26>Parameter!$B$5,"Wareneinsatzquote hoch","Im Rahmen"))))))
... J104: =IF($C104="","",IF($I104="",Parameter!$B$4,$I104)) | L104: =IF($C104="","",IFERROR(VLOOKUP($K104,Parameter!$A$17:$B$19,2,FALSE),"")) | M104: =IF($C104="","",IF(OR($G104="",$H104=""),"",SUM($G104:$H104))) | N104: =IF(OR($M104="",$J104=""),"",$M104*(1+$J104)) | O104: =IF(OR($N104="",$L104=""),"",$N104*$L104) | P104: =IF(OR($N104="",$L104=""),"",IFERROR(ROUND(($N104+$O104)/Parameter!$B$7,0)*Parameter!$B$7,"")) | R104: =IF(OR($Q104="",$P104=""),"",$Q104-$P104) | S104: =IF(OR($R104="",$P104=""),"",IFERROR($R104/$P104,"")) | T104: =IF(OR($G104="",$Q104="",$L104=""),"",IFERROR($G104/($Q104/(1+$L104)),"")) | V104: =IF($C104="","",IF($U104="Inaktiv","Inaktiv",IF(OR($A104="",$B104="",$D104="",$E104="",$F104="",$G104="",$H104="",$K104="",$Q104="",$U104=""),"Angaben fehlen",IF(OR($L104="",$P104=""),"Parameter prüfen",IF($Q104<$P104*(1-Parameter!$B$6),"Preis unter Ziel",IF($T104>Parameter!$B$5,"Wareneinsatzquote hoch","Im Rahmen"))))))

Sheet Parameter
A1: Parameter und Rechenannahmen
A2: Gelbe Zellen sind veränderbar. Steuerprofile sind freie Rechenannahmen und keine steuerliche Einordnung.
A3: Bezeichnung | B3: Wert | C3: Einheit | D3: Erläuterung
A4: Standard-Aufschlag | B4: 1.8 | C4: % | D4: Wird verwendet, wenn in der Kalkulation kein individueller Aufschlag eingetragen ist.
A5: Ziel-Wareneinsatzquote (max.) | B5: 0.32 | C5: % | D5: Veränderbare Warnschwelle für die Wareneinsatzquote.
A6: Warnschwelle Preisunterschreitung | B6: 0.05 | C6: % | D6: Warnt, wenn der aktuelle Bruttopreis um mehr als diesen Satz unter dem Zielpreis liegt.
A7: Rundungsschritt Bruttopreis | B7: 0.1 | C7: € | D7: Schrittweite für die Rundung des berechneten Ziel-Bruttopreises.
A8: Mindestdatum für Eingaben | B8: 45907 | C8: Datum | D8: Untergrenze der Datumsprüfung im Kalkulationsblatt.
A9: Höchstdatum für Eingaben | B9: 46637 | C9: Datum | D9: Obergrenze der Datumsprüfung im Kalkulationsblatt.
A10: Maximale Kosten je Einheit | B10: 500 | C10: € | D10: Plausibilitätsgrenze je Kostenfeld.
A11: Maximaler individueller Aufschlag | B11: 10 | C11: % | D11: Plausibilitätsgrenze; 10,00 entspricht 1.000,0 %.
A12: Maximaler aktueller Bruttopreis | B12: 2000 | C12: € | D12: Plausibilitätsgrenze für den eingetragenen Verkaufspreis.
A15: Steuerprofile als veränderbare Rechenannahmen
A16: Steuerprofil | B16: Satz | C16: Einheit | D16: Erläuterung
A17: Profil A | B17: 0.19 | C17: % | D17: Frei anpassbare Rechenannahme.
A18: Profil B | B18: 0.07 | C18: % | D18: Frei anpassbare Rechenannahme.
A19: Profil C | B19: 0 | C19: % | D19: Frei anpassbare Rechenannahme.
A21: Wichtiger Hinweis | B21: Sätze, Schwellen und Profile sind ausschließlich veränderbare Kalkulationsannahmen. Die Datei bietet keine Rechts- oder Steuerberatung.
