Workbook

Sheet Übersicht
A1: Menü Kalkulation Excel Gastronomie
A2: Mischkalkulation für mehrgängige, frei erfundene Menüangebote auf Basis der Eingaben und veränderbaren Annahmen.
A3: Stand | B3: =TODAY() | C3: Datenzeitraum | D3: =IF(COUNT('Menükalkulation'!$B$5:$B$104)=0,"",MIN('Menükalkulation'!$B$5:$B$104)) | E3: bis | F3: =IF(COUNT('Menükalkulation'!$B$5:$B$104)=0,"",MAX('Menükalkulation'!$B$5:$B$104))
A4: Planungsrahmen | B4: =Parameter!$B$9 | C4: bis | D4: =Parameter!$B$10
A7: Gesamtsicht
A8: Kalkulierte Menüs | B8: =COUNTIF('Menükalkulation'!$A$5:$A$104,"<>") | C8: Geplante Gäste | D8: =SUM('Menükalkulation'!$F$5:$F$104) | E8: Warnungen | F8: =COUNTIFS('Menükalkulation'!$A$5:$A$104,"<>",'Menükalkulation'!$AC$5:$AC$104,"<>Im Ziel")
A10: Nettoerlös gesamt | B10: =SUM('Menükalkulation'!$Y$5:$Y$104) | C10: Selbstkosten gesamt | D10: =SUM('Menükalkulation'!$Z$5:$Z$104) | E10: Deckungsbeitrag gesamt | F10: =SUM('Menükalkulation'!$AA$5:$AA$104)
A11: Gewichtete Ist-Marge | B11: =IFERROR(SUM('Menükalkulation'!$AA$5:$AA$104)/SUM('Menükalkulation'!$Y$5:$Y$104),"") | C11: Gewichtete Zielmarge | D11: =IFERROR(SUMPRODUCT('Menükalkulation'!$V$5:$V$104,'Menükalkulation'!$Y$5:$Y$104)/SUM('Menükalkulation'!$Y$5:$Y$104),"") | E11: Ø Preisabweichung | F11: =IFERROR(AVERAGE('Menükalkulation'!$X$5:$X$104),"")
A12: Kapazitätswarnungen | B12: =COUNTIF('Menükalkulation'!$AC$5:$AC$104,"Kapazität überschritten") | C12: Deutlich unter Ziel | D12: =COUNTIF('Menükalkulation'!$AC$5:$AC$104,"Marge deutlich unter Ziel") | E12: Unter Ziel | F12: =COUNTIF('Menükalkulation'!$AC$5:$AC$104,"Marge unter Ziel")
A14: Mischkalkulation nach Kategorie
A15: Kategorie | B15: Menüs | C15: Gäste | D15: Nettoerlös | E15: Deckungsbeitrag | F15: Marge
A16: Abendmenü | B16: =COUNTIF('Menükalkulation'!$D$5:$D$104,A16) | C16: =SUMIF('Menükalkulation'!$D$5:$D$104,A16,'Menükalkulation'!$F$5:$F$104) | D16: =SUMIF('Menükalkulation'!$D$5:$D$104,A16,'Menükalkulation'!$Y$5:$Y$104) | E16: =SUMIF('Menükalkulation'!$D$5:$D$104,A16,'Menükalkulation'!$AA$5:$AA$104) | F16: =IFERROR(E16/D16,"")
A17: Bankett | B17: =COUNTIF('Menükalkulation'!$D$5:$D$104,A17) | C17: =SUMIF('Menükalkulation'!$D$5:$D$104,A17,'Menükalkulation'!$F$5:$F$104) | D17: =SUMIF('Menükalkulation'!$D$5:$D$104,A17,'Menükalkulation'!$Y$5:$Y$104) | E17: =SUMIF('Menükalkulation'!$D$5:$D$104,A17,'Menükalkulation'!$AA$5:$AA$104) | F17: =IFERROR(E17/D17,"")
A18: Catering | B18: =COUNTIF('Menükalkulation'!$D$5:$D$104,A18) | C18: =SUMIF('Menükalkulation'!$D$5:$D$104,A18,'Menükalkulation'!$F$5:$F$104) | D18: =SUMIF('Menükalkulation'!$D$5:$D$104,A18,'Menükalkulation'!$Y$5:$Y$104) | E18: =SUMIF('Menükalkulation'!$D$5:$D$104,A18,'Menükalkulation'!$AA$5:$AA$104) | F18: =IFERROR(E18/D18,"")
A19: Mittagsmenü | B19: =COUNTIF('Menükalkulation'!$D$5:$D$104,A19) | C19: =SUMIF('Menükalkulation'!$D$5:$D$104,A19,'Menükalkulation'!$F$5:$F$104) | D19: =SUMIF('Menükalkulation'!$D$5:$D$104,A19,'Menükalkulation'!$Y$5:$Y$104) | E19: =SUMIF('Menükalkulation'!$D$5:$D$104,A19,'Menükalkulation'!$AA$5:$AA$104) | F19: =IFERROR(E19/D19,"")
A20: Gesamt | B20: =SUM(B16:B19) | C20: =SUM(C16:C19) | D20: =SUM(D16:D19) | E20: =SUM(E16:E19) | F20: =IFERROR(E20/D20,"")
A22: Warnungsübersicht
A23: Angaben fehlen | B23: =COUNTIF('Menükalkulation'!$AC$5:$AC$104,"Angaben fehlen") | C23: Außerhalb Planung | D23: =COUNTIF('Menükalkulation'!$AC$5:$AC$104,"Außerhalb Planung") | E23: Nicht berechenbar | F23: =COUNTIF('Menükalkulation'!$AC$5:$AC$104,"Marge nicht berechenbar")
A24: Marge deutlich unter Ziel | B24: =COUNTIF('Menükalkulation'!$AC$5:$AC$104,"Marge deutlich unter Ziel") | C24: Marge unter Ziel | D24: =COUNTIF('Menükalkulation'!$AC$5:$AC$104,"Marge unter Ziel") | E24: Gesamtstatus | F24: =IF(B8=0,"Keine Daten",IF(F8=0,"Keine Warnung",F8&" Warnung(en) prüfen"))

Sheet Menükalkulation
A1: Menükalkulation für mehrgängige Angebote
A2: Alle Menü-, Betriebs- und Teambezeichnungen sind frei erfunden. Formeln gelten durchgehend für Zeile 5 bis 104.
A3: Gelb = Eingabe | Blau beziehungsweise Wechselzeile = Berechnung | Leere Datensätze bleiben optisch leer.
A4: Menü-ID | B4: Kalkulationsdatum | C4: Menübezeichnung | D4: Kategorie | E4: Zuständigkeit | F4: Gäste | G4: Gänge | H4: Vorspeise p. P. | I4: Hauptgang p. P. | J4: Dessert p. P. | K4: Getränke p. P. | L4: Sonstiges p. P. | M4: Wareneinsatz p. P. | N4: Personalstunden gesamt | O4: Personalkosten p. P. | P4: Gemeinkosten p. P. | Q4: Selbstkosten p. P. | R4: Verkaufspreis brutto p. P. | S4: Nettoerlös p. P. | T4: Deckungsbeitrag p. P. | U4: Ist-Marge | V4: Zielmarge | W4: Zielpreis brutto p. P. | X4: Preisabweichung brutto p. P. | Y4: Nettoerlös gesamt | Z4: Selbstkosten gesamt | AA4: Deckungsbeitrag gesamt | AB4: Status | AC4: Warnung
A5: MK-26-001 | B5: 46280 | C5: Kupfergarten Drei-Gang | D5: Abendmenü | E5: Fiktives Team Kupfer | F5: 40 | G5: 3 | H5: 4.2 | I5: 12.8 | J5: 3.8 | K5: 2.5 | L5: 0.9 | M5: =IF(COUNTA(H5:L5)=0,"",SUM(H5:L5)) | N5: 18 | O5: =IF(OR(F5="",N5=""),"",IFERROR(N5*Parameter!$B$4/F5,"")) | P5: =IF(M5="","",M5*Parameter!$B$5) | Q5: =IF(OR(M5="",O5="",P5=""),"",SUM(M5,O5,P5)) | R5: 78 | S5: =IF(R5="","",IFERROR(R5/(1+Parameter!$B$6),"")) | T5: =IF(OR(S5="",Q5=""),"",S5-Q5) | U5: =IF(OR(T5="",S5=""),"",IFERROR(T5/S5,"")) | V5: =IF(D5="","",IFERROR(VLOOKUP(D5,Parameter!$E$4:$F$7,2,FALSE),"")) | W5: =IF(OR(Q5="",V5=""),"",IFERROR(Q5/(1-V5)*(1+Parameter!$B$6),"")) | X5: =IF(OR(R5="",W5=""),"",R5-W5) | Y5: =IF(OR(S5="",F5=""),"",S5*F5) | Z5: =IF(OR(Q5="",F5=""),"",Q5*F5) | AA5: =IF(OR(T5="",F5=""),"",T5*F5) | AB5: Intern geprüft | AC5: =IF(A5="","",IF(OR(B5="",C5="",D5="",E5="",F5="",G5="",M5="",N5="",R5="",AB5=""),"Angaben fehlen",IF(OR(B5<Parameter!$B$9,B5>Parameter!$B$10),"Außerhalb Planung",IF(F5>Parameter!$B$8,"Kapazität überschritten",IF(OR(U5="",V5=""),"Marge nicht berechenbar",IF(U5<V5-Parameter!$B$7,"Marge deutlich unter Ziel",IF(U5<V5,"Marge unter Ziel","Im Ziel")))))))
A6: MK-26-002 | B6: 46294 | C6: Mondfeder Bankettfolge | D6: Bankett | E6: Fiktives Team Mondfeder | F6: 90 | G6: 4 | H6: 5.4 | I6: 14.9 | J6: 4.6 | K6: 1.4 | L6: 0.9 | M6: =IF(COUNTA(H6:L6)=0,"",SUM(H6:L6)) | N6: 34 | O6: =IF(OR(F6="",N6=""),"",IFERROR(N6*Parameter!$B$4/F6,"")) | P6: =IF(M6="","",M6*Parameter!$B$5) | Q6: =IF(OR(M6="",O6="",P6=""),"",SUM(M6,O6,P6)) | R6: 82 | S6: =IF(R6="","",IFERROR(R6/(1+Parameter!$B$6),"")) | T6: =IF(OR(S6="",Q6=""),"",S6-Q6) | U6: =IF(OR(T6="",S6=""),"",IFERROR(T6/S6,"")) | V6: =IF(D6="","",IFERROR(VLOOKUP(D6,Parameter!$E$4:$F$7,2,FALSE),"")) | W6: =IF(OR(Q6="",V6=""),"",IFERROR(Q6/(1-V6)*(1+Parameter!$B$6),"")) | X6: =IF(OR(R6="",W6=""),"",R6-W6) | Y6: =IF(OR(S6="",F6=""),"",S6*F6) | Z6: =IF(OR(Q6="",F6=""),"",Q6*F6) | AA6: =IF(OR(T6="",F6=""),"",T6*F6) | AB6: Entwurf | AC6: =IF(A6="","",IF(OR(B6="",C6="",D6="",E6="",F6="",G6="",M6="",N6="",R6="",AB6=""),"Angaben fehlen",IF(OR(B6<Parameter!$B$9,B6>Parameter!$B$10),"Außerhalb Planung",IF(F6>Parameter!$B$8,"Kapazität überschritten",IF(OR(U6="",V6=""),"Marge nicht berechenbar",IF(U6<V6-Parameter!$B$7,"Marge deutlich unter Ziel",IF(U6<V6,"Marge unter Ziel","Im Ziel")))))))
A7: MK-26-003 | B7: 46308 | C7: Bernsteinbogen Cateringmenü | D7: Catering | E7: Fiktives Team Bernstein | F7: 60 | G7: 3 | H7: 3.7 | I7: 11.3 | J7: 3.2 | K7: 1.3 | L7: 0.9 | M7: =IF(COUNTA(H7:L7)=0,"",SUM(H7:L7)) | N7: 25 | O7: =IF(OR(F7="",N7=""),"",IFERROR(N7*Parameter!$B$4/F7,"")) | P7: =IF(M7="","",M7*Parameter!$B$5) | Q7: =IF(OR(M7="",O7="",P7=""),"",SUM(M7,O7,P7)) | R7: 61 | S7: =IF(R7="","",IFERROR(R7/(1+Parameter!$B$6),"")) | T7: =IF(OR(S7="",Q7=""),"",S7-Q7) | U7: =IF(OR(T7="",S7=""),"",IFERROR(T7/S7,"")) | V7: =IF(D7="","",IFERROR(VLOOKUP(D7,Parameter!$E$4:$F$7,2,FALSE),"")) | W7: =IF(OR(Q7="",V7=""),"",IFERROR(Q7/(1-V7)*(1+Parameter!$B$6),"")) | X7: =IF(OR(R7="",W7=""),"",R7-W7) | Y7: =IF(OR(S7="",F7=""),"",S7*F7) | Z7: =IF(OR(Q7="",F7=""),"",Q7*F7) | AA7: =IF(OR(T7="",F7=""),"",T7*F7) | AB7: Intern geprüft | AC7: =IF(A7="","",IF(OR(B7="",C7="",D7="",E7="",F7="",G7="",M7="",N7="",R7="",AB7=""),"Angaben fehlen",IF(OR(B7<Parameter!$B$9,B7>Parameter!$B$10),"Außerhalb Planung",IF(F7>Parameter!$B$8,"Kapazität überschritten",IF(OR(U7="",V7=""),"Marge nicht berechenbar",IF(U7<V7-Parameter!$B$7,"Marge deutlich unter Ziel",IF(U7<V7,"Marge unter Ziel","Im Ziel")))))))
A8: MK-26-004 | B8: 46322 | C8: Papierstern Mittagsfolge | D8: Mittagsmenü | E8: Fiktives Team Papierstern | F8: 45 | G8: 3 | H8: 2.8 | I8: 8.6 | J8: 2.3 | K8: 0.9 | L8: 0.6 | M8: =IF(COUNTA(H8:L8)=0,"",SUM(H8:L8)) | N8: 15 | O8: =IF(OR(F8="",N8=""),"",IFERROR(N8*Parameter!$B$4/F8,"")) | P8: =IF(M8="","",M8*Parameter!$B$5) | Q8: =IF(OR(M8="",O8="",P8=""),"",SUM(M8,O8,P8)) | R8: 44 | S8: =IF(R8="","",IFERROR(R8/(1+Parameter!$B$6),"")) | T8: =IF(OR(S8="",Q8=""),"",S8-Q8) | U8: =IF(OR(T8="",S8=""),"",IFERROR(T8/S8,"")) | V8: =IF(D8="","",IFERROR(VLOOKUP(D8,Parameter!$E$4:$F$7,2,FALSE),"")) | W8: =IF(OR(Q8="",V8=""),"",IFERROR(Q8/(1-V8)*(1+Parameter!$B$6),"")) | X8: =IF(OR(R8="",W8=""),"",R8-W8) | Y8: =IF(OR(S8="",F8=""),"",S8*F8) | Z8: =IF(OR(Q8="",F8=""),"",Q8*F8) | AA8: =IF(OR(T8="",F8=""),"",T8*F8) | AB8: Entwurf | AC8: =IF(A8="","",IF(OR(B8="",C8="",D8="",E8="",F8="",G8="",M8="",N8="",R8="",AB8=""),"Angaben fehlen",IF(OR(B8<Parameter!$B$9,B8>Parameter!$B$10),"Außerhalb Planung",IF(F8>Parameter!$B$8,"Kapazität überschritten",IF(OR(U8="",V8=""),"Marge nicht berechenbar",IF(U8<V8-Parameter!$B$7,"Marge deutlich unter Ziel",IF(U8<V8,"Marge unter Ziel","Im Ziel")))))))
A9: MK-26-005 | B9: 46336 | C9: Nebelkrone Abendfolge | D9: Abendmenü | E9: Fiktives Team Nebelkrone | F9: 32 | G9: 5 | H9: 5.2 | I9: 14.7 | J9: 4.4 | K9: 2.1 | L9: 1.4 | M9: =IF(COUNTA(H9:L9)=0,"",SUM(H9:L9)) | N9: 20 | O9: =IF(OR(F9="",N9=""),"",IFERROR(N9*Parameter!$B$4/F9,"")) | P9: =IF(M9="","",M9*Parameter!$B$5) | Q9: =IF(OR(M9="",O9="",P9=""),"",SUM(M9,O9,P9)) | R9: 72 | S9: =IF(R9="","",IFERROR(R9/(1+Parameter!$B$6),"")) | T9: =IF(OR(S9="",Q9=""),"",S9-Q9) | U9: =IF(OR(T9="",S9=""),"",IFERROR(T9/S9,"")) | V9: =IF(D9="","",IFERROR(VLOOKUP(D9,Parameter!$E$4:$F$7,2,FALSE),"")) | W9: =IF(OR(Q9="",V9=""),"",IFERROR(Q9/(1-V9)*(1+Parameter!$B$6),"")) | X9: =IF(OR(R9="",W9=""),"",R9-W9) | Y9: =IF(OR(S9="",F9=""),"",S9*F9) | Z9: =IF(OR(Q9="",F9=""),"",Q9*F9) | AA9: =IF(OR(T9="",F9=""),"",T9*F9) | AB9: Zurückgestellt | AC9: =IF(A9="","",IF(OR(B9="",C9="",D9="",E9="",F9="",G9="",M9="",N9="",R9="",AB9=""),"Angaben fehlen",IF(OR(B9<Parameter!$B$9,B9>Parameter!$B$10),"Außerhalb Planung",IF(F9>Parameter!$B$8,"Kapazität überschritten",IF(OR(U9="",V9=""),"Marge nicht berechenbar",IF(U9<V9-Parameter!$B$7,"Marge deutlich unter Ziel",IF(U9<V9,"Marge unter Ziel","Im Ziel")))))))
A10: MK-26-006 | B10: 46350 | C10: Silberhain Festbankett | D10: Bankett | E10: Fiktives Team Silberhain | F10: 140 | G10: 4 | H10: 5.8 | I10: 16.2 | J10: 4.9 | K10: 1.2 | L10: 1.1 | M10: =IF(COUNTA(H10:L10)=0,"",SUM(H10:L10)) | N10: 48 | O10: =IF(OR(F10="",N10=""),"",IFERROR(N10*Parameter!$B$4/F10,"")) | P10: =IF(M10="","",M10*Parameter!$B$5) | Q10: =IF(OR(M10="",O10="",P10=""),"",SUM(M10,O10,P10)) | R10: 88 | S10: =IF(R10="","",IFERROR(R10/(1+Parameter!$B$6),"")) | T10: =IF(OR(S10="",Q10=""),"",S10-Q10) | U10: =IF(OR(T10="",S10=""),"",IFERROR(T10/S10,"")) | V10: =IF(D10="","",IFERROR(VLOOKUP(D10,Parameter!$E$4:$F$7,2,FALSE),"")) | W10: =IF(OR(Q10="",V10=""),"",IFERROR(Q10/(1-V10)*(1+Parameter!$B$6),"")) | X10: =IF(OR(R10="",W10=""),"",R10-W10) | Y10: =IF(OR(S10="",F10=""),"",S10*F10) | Z10: =IF(OR(Q10="",F10=""),"",Q10*F10) | AA10: =IF(OR(T10="",F10=""),"",T10*F10) | AB10: Entwurf | AC10: =IF(A10="","",IF(OR(B10="",C10="",D10="",E10="",F10="",G10="",M10="",N10="",R10="",AB10=""),"Angaben fehlen",IF(OR(B10<Parameter!$B$9,B10>Parameter!$B$10),"Außerhalb Planung",IF(F10>Parameter!$B$8,"Kapazität überschritten",IF(OR(U10="",V10=""),"Marge nicht berechenbar",IF(U10<V10-Parameter!$B$7,"Marge deutlich unter Ziel",IF(U10<V10,"Marge unter Ziel","Im Ziel")))))))
A11: MK-26-007 | B11: 46364 | C11: Leuchtturm Picknickfolge | D11: Catering | E11: Fiktives Team Leuchtturm | F11: 75 | G11: 3 | H11: 3.4 | I11: 10.8 | J11: 3.1 | K11: 1.4 | L11: 0.7 | M11: =IF(COUNTA(H11:L11)=0,"",SUM(H11:L11)) | N11: 24 | O11: =IF(OR(F11="",N11=""),"",IFERROR(N11*Parameter!$B$4/F11,"")) | P11: =IF(M11="","",M11*Parameter!$B$5) | Q11: =IF(OR(M11="",O11="",P11=""),"",SUM(M11,O11,P11)) | R11: 64 | S11: =IF(R11="","",IFERROR(R11/(1+Parameter!$B$6),"")) | T11: =IF(OR(S11="",Q11=""),"",S11-Q11) | U11: =IF(OR(T11="",S11=""),"",IFERROR(T11/S11,"")) | V11: =IF(D11="","",IFERROR(VLOOKUP(D11,Parameter!$E$4:$F$7,2,FALSE),"")) | W11: =IF(OR(Q11="",V11=""),"",IFERROR(Q11/(1-V11)*(1+Parameter!$B$6),"")) | X11: =IF(OR(R11="",W11=""),"",R11-W11) | Y11: =IF(OR(S11="",F11=""),"",S11*F11) | Z11: =IF(OR(Q11="",F11=""),"",Q11*F11) | AA11: =IF(OR(T11="",F11=""),"",T11*F11) | AB11: Intern geprüft | AC11: =IF(A11="","",IF(OR(B11="",C11="",D11="",E11="",F11="",G11="",M11="",N11="",R11="",AB11=""),"Angaben fehlen",IF(OR(B11<Parameter!$B$9,B11>Parameter!$B$10),"Außerhalb Planung",IF(F11>Parameter!$B$8,"Kapazität überschritten",IF(OR(U11="",V11=""),"Marge nicht berechenbar",IF(U11<V11-Parameter!$B$7,"Marge deutlich unter Ziel",IF(U11<V11,"Marge unter Ziel","Im Ziel")))))))
A12: MK-26-008 | B12: 46378 | C12: Wolkenblatt Mittagsmenü | D12: Mittagsmenü | E12: Fiktives Team Wolkenblatt | F12: 30 | G12: 3 | H12: 3.2 | I12: 9.4 | J12: 2.8 | K12: 1 | L12: 0.8 | M12: =IF(COUNTA(H12:L12)=0,"",SUM(H12:L12)) | N12: 17 | O12: =IF(OR(F12="",N12=""),"",IFERROR(N12*Parameter!$B$4/F12,"")) | P12: =IF(M12="","",M12*Parameter!$B$5) | Q12: =IF(OR(M12="",O12="",P12=""),"",SUM(M12,O12,P12)) | R12: 39 | S12: =IF(R12="","",IFERROR(R12/(1+Parameter!$B$6),"")) | T12: =IF(OR(S12="",Q12=""),"",S12-Q12) | U12: =IF(OR(T12="",S12=""),"",IFERROR(T12/S12,"")) | V12: =IF(D12="","",IFERROR(VLOOKUP(D12,Parameter!$E$4:$F$7,2,FALSE),"")) | W12: =IF(OR(Q12="",V12=""),"",IFERROR(Q12/(1-V12)*(1+Parameter!$B$6),"")) | X12: =IF(OR(R12="",W12=""),"",R12-W12) | Y12: =IF(OR(S12="",F12=""),"",S12*F12) | Z12: =IF(OR(Q12="",F12=""),"",Q12*F12) | AA12: =IF(OR(T12="",F12=""),"",T12*F12) | AB12: Zurückgestellt | AC12: =IF(A12="","",IF(OR(B12="",C12="",D12="",E12="",F12="",G12="",M12="",N12="",R12="",AB12=""),"Angaben fehlen",IF(OR(B12<Parameter!$B$9,B12>Parameter!$B$10),"Außerhalb Planung",IF(F12>Parameter!$B$8,"Kapazität überschritten",IF(OR(U12="",V12=""),"Marge nicht berechenbar",IF(U12<V12-Parameter!$B$7,"Marge deutlich unter Ziel",IF(U12<V12,"Marge unter Ziel","Im Ziel")))))))
A13: MK-26-009 | B13: 46392 | C13: Samtfunke Genussfolge | D13: Abendmenü | E13: Fiktives Team Samtfunke | F13: 50 | G13: 4 | H13: 4.8 | I13: 13.6 | J13: 4.1 | K13: 2.3 | L13: 1 | M13: =IF(COUNTA(H13:L13)=0,"",SUM(H13:L13)) | N13: 20 | O13: =IF(OR(F13="",N13=""),"",IFERROR(N13*Parameter!$B$4/F13,"")) | P13: =IF(M13="","",M13*Parameter!$B$5) | Q13: =IF(OR(M13="",O13="",P13=""),"",SUM(M13,O13,P13)) | R13: 86 | S13: =IF(R13="","",IFERROR(R13/(1+Parameter!$B$6),"")) | T13: =IF(OR(S13="",Q13=""),"",S13-Q13) | U13: =IF(OR(T13="",S13=""),"",IFERROR(T13/S13,"")) | V13: =IF(D13="","",IFERROR(VLOOKUP(D13,Parameter!$E$4:$F$7,2,FALSE),"")) | W13: =IF(OR(Q13="",V13=""),"",IFERROR(Q13/(1-V13)*(1+Parameter!$B$6),"")) | X13: =IF(OR(R13="",W13=""),"",R13-W13) | Y13: =IF(OR(S13="",F13=""),"",S13*F13) | Z13: =IF(OR(Q13="",F13=""),"",Q13*F13) | AA13: =IF(OR(T13="",F13=""),"",T13*F13) | AB13: Intern geprüft | AC13: =IF(A13="","",IF(OR(B13="",C13="",D13="",E13="",F13="",G13="",M13="",N13="",R13="",AB13=""),"Angaben fehlen",IF(OR(B13<Parameter!$B$9,B13>Parameter!$B$10),"Außerhalb Planung",IF(F13>Parameter!$B$8,"Kapazität überschritten",IF(OR(U13="",V13=""),"Marge nicht berechenbar",IF(U13<V13-Parameter!$B$7,"Marge deutlich unter Ziel",IF(U13<V13,"Marge unter Ziel","Im Ziel")))))))
A14: MK-26-010 | B14: 46406 | C14: Kieselmond Bankettmenü | D14: Bankett | E14: Fiktives Team Kieselmond | F14: 110 | G14: 4 | H14: 5.1 | I14: 15.3 | J14: 4.5 | K14: 1.5 | L14: 0.9 | M14: =IF(COUNTA(H14:L14)=0,"",SUM(H14:L14)) | N14: 38 | O14: =IF(OR(F14="",N14=""),"",IFERROR(N14*Parameter!$B$4/F14,"")) | P14: =IF(M14="","",M14*Parameter!$B$5) | Q14: =IF(OR(M14="",O14="",P14=""),"",SUM(M14,O14,P14)) | R14: 84 | S14: =IF(R14="","",IFERROR(R14/(1+Parameter!$B$6),"")) | T14: =IF(OR(S14="",Q14=""),"",S14-Q14) | U14: =IF(OR(T14="",S14=""),"",IFERROR(T14/S14,"")) | V14: =IF(D14="","",IFERROR(VLOOKUP(D14,Parameter!$E$4:$F$7,2,FALSE),"")) | W14: =IF(OR(Q14="",V14=""),"",IFERROR(Q14/(1-V14)*(1+Parameter!$B$6),"")) | X14: =IF(OR(R14="",W14=""),"",R14-W14) | Y14: =IF(OR(S14="",F14=""),"",S14*F14) | Z14: =IF(OR(Q14="",F14=""),"",Q14*F14) | AA14: =IF(OR(T14="",F14=""),"",T14*F14) | AB14: Entwurf | AC14: =IF(A14="","",IF(OR(B14="",C14="",D14="",E14="",F14="",G14="",M14="",N14="",R14="",AB14=""),"Angaben fehlen",IF(OR(B14<Parameter!$B$9,B14>Parameter!$B$10),"Außerhalb Planung",IF(F14>Parameter!$B$8,"Kapazität überschritten",IF(OR(U14="",V14=""),"Marge nicht berechenbar",IF(U14<V14-Parameter!$B$7,"Marge deutlich unter Ziel",IF(U14<V14,"Marge unter Ziel","Im Ziel")))))))
M15: =IF(COUNTA(H15:L15)=0,"",SUM(H15:L15)) | O15: =IF(OR(F15="",N15=""),"",IFERROR(N15*Parameter!$B$4/F15,"")) | P15: =IF(M15="","",M15*Parameter!$B$5) | Q15: =IF(OR(M15="",O15="",P15=""),"",SUM(M15,O15,P15)) | S15: =IF(R15="","",IFERROR(R15/(1+Parameter!$B$6),"")) | T15: =IF(OR(S15="",Q15=""),"",S15-Q15) | U15: =IF(OR(T15="",S15=""),"",IFERROR(T15/S15,"")) | V15: =IF(D15="","",IFERROR(VLOOKUP(D15,Parameter!$E$4:$F$7,2,FALSE),"")) | W15: =IF(OR(Q15="",V15=""),"",IFERROR(Q15/(1-V15)*(1+Parameter!$B$6),"")) | X15: =IF(OR(R15="",W15=""),"",R15-W15) | Y15: =IF(OR(S15="",F15=""),"",S15*F15) | Z15: =IF(OR(Q15="",F15=""),"",Q15*F15) | AA15: =IF(OR(T15="",F15=""),"",T15*F15) | AC15: =IF(A15="","",IF(OR(B15="",C15="",D15="",E15="",F15="",G15="",M15="",N15="",R15="",AB15=""),"Angaben fehlen",IF(OR(B15<Parameter!$B$9,B15>Parameter!$B$10),"Außerhalb Planung",IF(F15>Parameter!$B$8,"Kapazität überschritten",IF(OR(U15="",V15=""),"Marge nicht berechenbar",IF(U15<V15-Parameter!$B$7,"Marge deutlich unter Ziel",IF(U15<V15,"Marge unter Ziel","Im Ziel")))))))
M16: =IF(COUNTA(H16:L16)=0,"",SUM(H16:L16)) | O16: =IF(OR(F16="",N16=""),"",IFERROR(N16*Parameter!$B$4/F16,"")) | P16: =IF(M16="","",M16*Parameter!$B$5) | Q16: =IF(OR(M16="",O16="",P16=""),"",SUM(M16,O16,P16)) | S16: =IF(R16="","",IFERROR(R16/(1+Parameter!$B$6),"")) | T16: =IF(OR(S16="",Q16=""),"",S16-Q16) | U16: =IF(OR(T16="",S16=""),"",IFERROR(T16/S16,"")) | V16: =IF(D16="","",IFERROR(VLOOKUP(D16,Parameter!$E$4:$F$7,2,FALSE),"")) | W16: =IF(OR(Q16="",V16=""),"",IFERROR(Q16/(1-V16)*(1+Parameter!$B$6),"")) | X16: =IF(OR(R16="",W16=""),"",R16-W16) | Y16: =IF(OR(S16="",F16=""),"",S16*F16) | Z16: =IF(OR(Q16="",F16=""),"",Q16*F16) | AA16: =IF(OR(T16="",F16=""),"",T16*F16) | AC16: =IF(A16="","",IF(OR(B16="",C16="",D16="",E16="",F16="",G16="",M16="",N16="",R16="",AB16=""),"Angaben fehlen",IF(OR(B16<Parameter!$B$9,B16>Parameter!$B$10),"Außerhalb Planung",IF(F16>Parameter!$B$8,"Kapazität überschritten",IF(OR(U16="",V16=""),"Marge nicht berechenbar",IF(U16<V16-Parameter!$B$7,"Marge deutlich unter Ziel",IF(U16<V16,"Marge unter Ziel","Im Ziel")))))))
M17: =IF(COUNTA(H17:L17)=0,"",SUM(H17:L17)) | O17: =IF(OR(F17="",N17=""),"",IFERROR(N17*Parameter!$B$4/F17,"")) | P17: =IF(M17="","",M17*Parameter!$B$5) | Q17: =IF(OR(M17="",O17="",P17=""),"",SUM(M17,O17,P17)) | S17: =IF(R17="","",IFERROR(R17/(1+Parameter!$B$6),"")) | T17: =IF(OR(S17="",Q17=""),"",S17-Q17) | U17: =IF(OR(T17="",S17=""),"",IFERROR(T17/S17,"")) | V17: =IF(D17="","",IFERROR(VLOOKUP(D17,Parameter!$E$4:$F$7,2,FALSE),"")) | W17: =IF(OR(Q17="",V17=""),"",IFERROR(Q17/(1-V17)*(1+Parameter!$B$6),"")) | X17: =IF(OR(R17="",W17=""),"",R17-W17) | Y17: =IF(OR(S17="",F17=""),"",S17*F17) | Z17: =IF(OR(Q17="",F17=""),"",Q17*F17) | AA17: =IF(OR(T17="",F17=""),"",T17*F17) | AC17: =IF(A17="","",IF(OR(B17="",C17="",D17="",E17="",F17="",G17="",M17="",N17="",R17="",AB17=""),"Angaben fehlen",IF(OR(B17<Parameter!$B$9,B17>Parameter!$B$10),"Außerhalb Planung",IF(F17>Parameter!$B$8,"Kapazität überschritten",IF(OR(U17="",V17=""),"Marge nicht berechenbar",IF(U17<V17-Parameter!$B$7,"Marge deutlich unter Ziel",IF(U17<V17,"Marge unter Ziel","Im Ziel")))))))
M18: =IF(COUNTA(H18:L18)=0,"",SUM(H18:L18)) | O18: =IF(OR(F18="",N18=""),"",IFERROR(N18*Parameter!$B$4/F18,"")) | P18: =IF(M18="","",M18*Parameter!$B$5) | Q18: =IF(OR(M18="",O18="",P18=""),"",SUM(M18,O18,P18)) | S18: =IF(R18="","",IFERROR(R18/(1+Parameter!$B$6),"")) | T18: =IF(OR(S18="",Q18=""),"",S18-Q18) | U18: =IF(OR(T18="",S18=""),"",IFERROR(T18/S18,"")) | V18: =IF(D18="","",IFERROR(VLOOKUP(D18,Parameter!$E$4:$F$7,2,FALSE),"")) | W18: =IF(OR(Q18="",V18=""),"",IFERROR(Q18/(1-V18)*(1+Parameter!$B$6),"")) | X18: =IF(OR(R18="",W18=""),"",R18-W18) | Y18: =IF(OR(S18="",F18=""),"",S18*F18) | Z18: =IF(OR(Q18="",F18=""),"",Q18*F18) | AA18: =IF(OR(T18="",F18=""),"",T18*F18) | AC18: =IF(A18="","",IF(OR(B18="",C18="",D18="",E18="",F18="",G18="",M18="",N18="",R18="",AB18=""),"Angaben fehlen",IF(OR(B18<Parameter!$B$9,B18>Parameter!$B$10),"Außerhalb Planung",IF(F18>Parameter!$B$8,"Kapazität überschritten",IF(OR(U18="",V18=""),"Marge nicht berechenbar",IF(U18<V18-Parameter!$B$7,"Marge deutlich unter Ziel",IF(U18<V18,"Marge unter Ziel","Im Ziel")))))))
M19: =IF(COUNTA(H19:L19)=0,"",SUM(H19:L19)) | O19: =IF(OR(F19="",N19=""),"",IFERROR(N19*Parameter!$B$4/F19,"")) | P19: =IF(M19="","",M19*Parameter!$B$5) | Q19: =IF(OR(M19="",O19="",P19=""),"",SUM(M19,O19,P19)) | S19: =IF(R19="","",IFERROR(R19/(1+Parameter!$B$6),"")) | T19: =IF(OR(S19="",Q19=""),"",S19-Q19) | U19: =IF(OR(T19="",S19=""),"",IFERROR(T19/S19,"")) | V19: =IF(D19="","",IFERROR(VLOOKUP(D19,Parameter!$E$4:$F$7,2,FALSE),"")) | W19: =IF(OR(Q19="",V19=""),"",IFERROR(Q19/(1-V19)*(1+Parameter!$B$6),"")) | X19: =IF(OR(R19="",W19=""),"",R19-W19) | Y19: =IF(OR(S19="",F19=""),"",S19*F19) | Z19: =IF(OR(Q19="",F19=""),"",Q19*F19) | AA19: =IF(OR(T19="",F19=""),"",T19*F19) | AC19: =IF(A19="","",IF(OR(B19="",C19="",D19="",E19="",F19="",G19="",M19="",N19="",R19="",AB19=""),"Angaben fehlen",IF(OR(B19<Parameter!$B$9,B19>Parameter!$B$10),"Außerhalb Planung",IF(F19>Parameter!$B$8,"Kapazität überschritten",IF(OR(U19="",V19=""),"Marge nicht berechenbar",IF(U19<V19-Parameter!$B$7,"Marge deutlich unter Ziel",IF(U19<V19,"Marge unter Ziel","Im Ziel")))))))
M20: =IF(COUNTA(H20:L20)=0,"",SUM(H20:L20)) | O20: =IF(OR(F20="",N20=""),"",IFERROR(N20*Parameter!$B$4/F20,"")) | P20: =IF(M20="","",M20*Parameter!$B$5) | Q20: =IF(OR(M20="",O20="",P20=""),"",SUM(M20,O20,P20)) | S20: =IF(R20="","",IFERROR(R20/(1+Parameter!$B$6),"")) | T20: =IF(OR(S20="",Q20=""),"",S20-Q20) | U20: =IF(OR(T20="",S20=""),"",IFERROR(T20/S20,"")) | V20: =IF(D20="","",IFERROR(VLOOKUP(D20,Parameter!$E$4:$F$7,2,FALSE),"")) | W20: =IF(OR(Q20="",V20=""),"",IFERROR(Q20/(1-V20)*(1+Parameter!$B$6),"")) | X20: =IF(OR(R20="",W20=""),"",R20-W20) | Y20: =IF(OR(S20="",F20=""),"",S20*F20) | Z20: =IF(OR(Q20="",F20=""),"",Q20*F20) | AA20: =IF(OR(T20="",F20=""),"",T20*F20) | AC20: =IF(A20="","",IF(OR(B20="",C20="",D20="",E20="",F20="",G20="",M20="",N20="",R20="",AB20=""),"Angaben fehlen",IF(OR(B20<Parameter!$B$9,B20>Parameter!$B$10),"Außerhalb Planung",IF(F20>Parameter!$B$8,"Kapazität überschritten",IF(OR(U20="",V20=""),"Marge nicht berechenbar",IF(U20<V20-Parameter!$B$7,"Marge deutlich unter Ziel",IF(U20<V20,"Marge unter Ziel","Im Ziel")))))))
M21: =IF(COUNTA(H21:L21)=0,"",SUM(H21:L21)) | O21: =IF(OR(F21="",N21=""),"",IFERROR(N21*Parameter!$B$4/F21,"")) | P21: =IF(M21="","",M21*Parameter!$B$5) | Q21: =IF(OR(M21="",O21="",P21=""),"",SUM(M21,O21,P21)) | S21: =IF(R21="","",IFERROR(R21/(1+Parameter!$B$6),"")) | T21: =IF(OR(S21="",Q21=""),"",S21-Q21) | U21: =IF(OR(T21="",S21=""),"",IFERROR(T21/S21,"")) | V21: =IF(D21="","",IFERROR(VLOOKUP(D21,Parameter!$E$4:$F$7,2,FALSE),"")) | W21: =IF(OR(Q21="",V21=""),"",IFERROR(Q21/(1-V21)*(1+Parameter!$B$6),"")) | X21: =IF(OR(R21="",W21=""),"",R21-W21) | Y21: =IF(OR(S21="",F21=""),"",S21*F21) | Z21: =IF(OR(Q21="",F21=""),"",Q21*F21) | AA21: =IF(OR(T21="",F21=""),"",T21*F21) | AC21: =IF(A21="","",IF(OR(B21="",C21="",D21="",E21="",F21="",G21="",M21="",N21="",R21="",AB21=""),"Angaben fehlen",IF(OR(B21<Parameter!$B$9,B21>Parameter!$B$10),"Außerhalb Planung",IF(F21>Parameter!$B$8,"Kapazität überschritten",IF(OR(U21="",V21=""),"Marge nicht berechenbar",IF(U21<V21-Parameter!$B$7,"Marge deutlich unter Ziel",IF(U21<V21,"Marge unter Ziel","Im Ziel")))))))
M22: =IF(COUNTA(H22:L22)=0,"",SUM(H22:L22)) | O22: =IF(OR(F22="",N22=""),"",IFERROR(N22*Parameter!$B$4/F22,"")) | P22: =IF(M22="","",M22*Parameter!$B$5) | Q22: =IF(OR(M22="",O22="",P22=""),"",SUM(M22,O22,P22)) | S22: =IF(R22="","",IFERROR(R22/(1+Parameter!$B$6),"")) | T22: =IF(OR(S22="",Q22=""),"",S22-Q22) | U22: =IF(OR(T22="",S22=""),"",IFERROR(T22/S22,"")) | V22: =IF(D22="","",IFERROR(VLOOKUP(D22,Parameter!$E$4:$F$7,2,FALSE),"")) | W22: =IF(OR(Q22="",V22=""),"",IFERROR(Q22/(1-V22)*(1+Parameter!$B$6),"")) | X22: =IF(OR(R22="",W22=""),"",R22-W22) | Y22: =IF(OR(S22="",F22=""),"",S22*F22) | Z22: =IF(OR(Q22="",F22=""),"",Q22*F22) | AA22: =IF(OR(T22="",F22=""),"",T22*F22) | AC22: =IF(A22="","",IF(OR(B22="",C22="",D22="",E22="",F22="",G22="",M22="",N22="",R22="",AB22=""),"Angaben fehlen",IF(OR(B22<Parameter!$B$9,B22>Parameter!$B$10),"Außerhalb Planung",IF(F22>Parameter!$B$8,"Kapazität überschritten",IF(OR(U22="",V22=""),"Marge nicht berechenbar",IF(U22<V22-Parameter!$B$7,"Marge deutlich unter Ziel",IF(U22<V22,"Marge unter Ziel","Im Ziel")))))))
M23: =IF(COUNTA(H23:L23)=0,"",SUM(H23:L23)) | O23: =IF(OR(F23="",N23=""),"",IFERROR(N23*Parameter!$B$4/F23,"")) | P23: =IF(M23="","",M23*Parameter!$B$5) | Q23: =IF(OR(M23="",O23="",P23=""),"",SUM(M23,O23,P23)) | S23: =IF(R23="","",IFERROR(R23/(1+Parameter!$B$6),"")) | T23: =IF(OR(S23="",Q23=""),"",S23-Q23) | U23: =IF(OR(T23="",S23=""),"",IFERROR(T23/S23,"")) | V23: =IF(D23="","",IFERROR(VLOOKUP(D23,Parameter!$E$4:$F$7,2,FALSE),"")) | W23: =IF(OR(Q23="",V23=""),"",IFERROR(Q23/(1-V23)*(1+Parameter!$B$6),"")) | X23: =IF(OR(R23="",W23=""),"",R23-W23) | Y23: =IF(OR(S23="",F23=""),"",S23*F23) | Z23: =IF(OR(Q23="",F23=""),"",Q23*F23) | AA23: =IF(OR(T23="",F23=""),"",T23*F23) | AC23: =IF(A23="","",IF(OR(B23="",C23="",D23="",E23="",F23="",G23="",M23="",N23="",R23="",AB23=""),"Angaben fehlen",IF(OR(B23<Parameter!$B$9,B23>Parameter!$B$10),"Außerhalb Planung",IF(F23>Parameter!$B$8,"Kapazität überschritten",IF(OR(U23="",V23=""),"Marge nicht berechenbar",IF(U23<V23-Parameter!$B$7,"Marge deutlich unter Ziel",IF(U23<V23,"Marge unter Ziel","Im Ziel")))))))
M24: =IF(COUNTA(H24:L24)=0,"",SUM(H24:L24)) | O24: =IF(OR(F24="",N24=""),"",IFERROR(N24*Parameter!$B$4/F24,"")) | P24: =IF(M24="","",M24*Parameter!$B$5) | Q24: =IF(OR(M24="",O24="",P24=""),"",SUM(M24,O24,P24)) | S24: =IF(R24="","",IFERROR(R24/(1+Parameter!$B$6),"")) | T24: =IF(OR(S24="",Q24=""),"",S24-Q24) | U24: =IF(OR(T24="",S24=""),"",IFERROR(T24/S24,"")) | V24: =IF(D24="","",IFERROR(VLOOKUP(D24,Parameter!$E$4:$F$7,2,FALSE),"")) | W24: =IF(OR(Q24="",V24=""),"",IFERROR(Q24/(1-V24)*(1+Parameter!$B$6),"")) | X24: =IF(OR(R24="",W24=""),"",R24-W24) | Y24: =IF(OR(S24="",F24=""),"",S24*F24) | Z24: =IF(OR(Q24="",F24=""),"",Q24*F24) | AA24: =IF(OR(T24="",F24=""),"",T24*F24) | AC24: =IF(A24="","",IF(OR(B24="",C24="",D24="",E24="",F24="",G24="",M24="",N24="",R24="",AB24=""),"Angaben fehlen",IF(OR(B24<Parameter!$B$9,B24>Parameter!$B$10),"Außerhalb Planung",IF(F24>Parameter!$B$8,"Kapazität überschritten",IF(OR(U24="",V24=""),"Marge nicht berechenbar",IF(U24<V24-Parameter!$B$7,"Marge deutlich unter Ziel",IF(U24<V24,"Marge unter Ziel","Im Ziel")))))))
M25: =IF(COUNTA(H25:L25)=0,"",SUM(H25:L25)) | O25: =IF(OR(F25="",N25=""),"",IFERROR(N25*Parameter!$B$4/F25,"")) | P25: =IF(M25="","",M25*Parameter!$B$5) | Q25: =IF(OR(M25="",O25="",P25=""),"",SUM(M25,O25,P25)) | S25: =IF(R25="","",IFERROR(R25/(1+Parameter!$B$6),"")) | T25: =IF(OR(S25="",Q25=""),"",S25-Q25) | U25: =IF(OR(T25="",S25=""),"",IFERROR(T25/S25,"")) | V25: =IF(D25="","",IFERROR(VLOOKUP(D25,Parameter!$E$4:$F$7,2,FALSE),"")) | W25: =IF(OR(Q25="",V25=""),"",IFERROR(Q25/(1-V25)*(1+Parameter!$B$6),"")) | X25: =IF(OR(R25="",W25=""),"",R25-W25) | Y25: =IF(OR(S25="",F25=""),"",S25*F25) | Z25: =IF(OR(Q25="",F25=""),"",Q25*F25) | AA25: =IF(OR(T25="",F25=""),"",T25*F25) | AC25: =IF(A25="","",IF(OR(B25="",C25="",D25="",E25="",F25="",G25="",M25="",N25="",R25="",AB25=""),"Angaben fehlen",IF(OR(B25<Parameter!$B$9,B25>Parameter!$B$10),"Außerhalb Planung",IF(F25>Parameter!$B$8,"Kapazität überschritten",IF(OR(U25="",V25=""),"Marge nicht berechenbar",IF(U25<V25-Parameter!$B$7,"Marge deutlich unter Ziel",IF(U25<V25,"Marge unter Ziel","Im Ziel")))))))
M26: =IF(COUNTA(H26:L26)=0,"",SUM(H26:L26)) | O26: =IF(OR(F26="",N26=""),"",IFERROR(N26*Parameter!$B$4/F26,"")) | P26: =IF(M26="","",M26*Parameter!$B$5) | Q26: =IF(OR(M26="",O26="",P26=""),"",SUM(M26,O26,P26)) | S26: =IF(R26="","",IFERROR(R26/(1+Parameter!$B$6),"")) | T26: =IF(OR(S26="",Q26=""),"",S26-Q26) | U26: =IF(OR(T26="",S26=""),"",IFERROR(T26/S26,"")) | V26: =IF(D26="","",IFERROR(VLOOKUP(D26,Parameter!$E$4:$F$7,2,FALSE),"")) | W26: =IF(OR(Q26="",V26=""),"",IFERROR(Q26/(1-V26)*(1+Parameter!$B$6),"")) | X26: =IF(OR(R26="",W26=""),"",R26-W26) | Y26: =IF(OR(S26="",F26=""),"",S26*F26) | Z26: =IF(OR(Q26="",F26=""),"",Q26*F26) | AA26: =IF(OR(T26="",F26=""),"",T26*F26) | AC26: =IF(A26="","",IF(OR(B26="",C26="",D26="",E26="",F26="",G26="",M26="",N26="",R26="",AB26=""),"Angaben fehlen",IF(OR(B26<Parameter!$B$9,B26>Parameter!$B$10),"Außerhalb Planung",IF(F26>Parameter!$B$8,"Kapazität überschritten",IF(OR(U26="",V26=""),"Marge nicht berechenbar",IF(U26<V26-Parameter!$B$7,"Marge deutlich unter Ziel",IF(U26<V26,"Marge unter Ziel","Im Ziel")))))))
... M104: =IF(COUNTA(H104:L104)=0,"",SUM(H104:L104)) | O104: =IF(OR(F104="",N104=""),"",IFERROR(N104*Parameter!$B$4/F104,"")) | P104: =IF(M104="","",M104*Parameter!$B$5) | Q104: =IF(OR(M104="",O104="",P104=""),"",SUM(M104,O104,P104)) | S104: =IF(R104="","",IFERROR(R104/(1+Parameter!$B$6),"")) | T104: =IF(OR(S104="",Q104=""),"",S104-Q104) | U104: =IF(OR(T104="",S104=""),"",IFERROR(T104/S104,"")) | V104: =IF(D104="","",IFERROR(VLOOKUP(D104,Parameter!$E$4:$F$7,2,FALSE),"")) | W104: =IF(OR(Q104="",V104=""),"",IFERROR(Q104/(1-V104)*(1+Parameter!$B$6),"")) | X104: =IF(OR(R104="",W104=""),"",R104-W104) | Y104: =IF(OR(S104="",F104=""),"",S104*F104) | Z104: =IF(OR(Q104="",F104=""),"",Q104*F104) | AA104: =IF(OR(T104="",F104=""),"",T104*F104) | AC104: =IF(A104="","",IF(OR(B104="",C104="",D104="",E104="",F104="",G104="",M104="",N104="",R104="",AB104=""),"Angaben fehlen",IF(OR(B104<Parameter!$B$9,B104>Parameter!$B$10),"Außerhalb Planung",IF(F104>Parameter!$B$8,"Kapazität überschritten",IF(OR(U104="",V104=""),"Marge nicht berechenbar",IF(U104<V104-Parameter!$B$7,"Marge deutlich unter Ziel",IF(U104<V104,"Marge unter Ziel","Im Ziel")))))))

Sheet Parameter
A1: Parameter und stabile Auswahllisten
A2: Gelb markierte Werte sind veränderbare Planungsannahmen; Kategorien und Statuswerte bilden stabile Listen.
A3: Annahme | B3: Wert | C3: Einheit | E3: Kategorie | F3: Zielmarge | H3: Status
A4: Personalkostensatz | B4: 26 | C4: € je Stunde | E4: Abendmenü | F4: 0.4 | H4: Entwurf
A5: Gemeinkostenzuschlag | B5: 0.12 | C5: vom Wareneinsatz | E5: Bankett | F5: 0.38 | H5: Intern geprüft
A6: Kalkulationssatz Umsatzsteuer | B6: 0.19 | C6: Planungsannahme | E6: Catering | F6: 0.35 | H6: Zurückgestellt
A7: Toleranz unter Zielmarge | B7: 0.03 | C7: Prozentpunkte | E7: Mittagsmenü | F7: 0.32
A8: Kapazität je Auftrag | B8: 120 | C8: Gäste
A9: Planungsbeginn | B9: 46243 | C9: Datum
A10: Planungsende | B10: 46638 | C10: Datum
