Workbook

Sheet Übersicht
A1: Monatsübersicht krankheitsbedingter Ausfalltage
A2: Auswertungsmonat | B2: =Parameter!$B$2 | G2: Bereich | H2: Krankheitstage
A3: Krankheitstage gesamt | B3: =SUM($C$8:$C$107) | G3: =IF(Parameter!E12="","",Parameter!E12) | H3: =IF(G3="","",SUMIFS($C$8:$C$107,$B$8:$B$107,G3))
A4: Betroffene Mitarbeiter-IDs | B4: =COUNTIF($C$8:$C$107,">0") | G4: =IF(Parameter!E13="","",Parameter!E13) | H4: =IF(G4="","",SUMIFS($C$8:$C$107,$B$8:$B$107,G4))
A5: Fallsegmente gesamt | B5: =SUM($D$8:$D$107) | G5: =IF(Parameter!E14="","",Parameter!E14) | H5: =IF(G5="","",SUMIFS($C$8:$C$107,$B$8:$B$107,G5))
A6: Fehlerhafte Eingabezeilen | B6: =COUNTIFS('Krankheitsfälle'!$I$2:$I$151,"<>",'Krankheitsfälle'!$I$2:$I$151,"<>OK") | G6: =IF(Parameter!E15="","",Parameter!E15) | H6: =IF(G6="","",SUMIFS($C$8:$C$107,$B$8:$B$107,G6))
A7: Mitarbeiter-ID | B7: Bereich | C7: Krankheitstage | D7: Fallsegmente | E7: Warnstatus | G7: =IF(Parameter!E16="","",Parameter!E16) | H7: =IF(G7="","",SUMIFS($C$8:$C$107,$B$8:$B$107,G7))
A8: =IF(Parameter!A12="","",Parameter!A12) | B8: =IF(A8="","",IFERROR(INDEX(Parameter!$B$12:$B$111,MATCH(A8,Parameter!$A$12:$A$111,0)),"")) | C8: =IF(A8="","",SUMIFS('Krankheitsfälle'!$G$2:$G$151,'Krankheitsfälle'!$B$2:$B$151,A8,'Krankheitsfälle'!$F$2:$F$151,$B$2,'Krankheitsfälle'!$I$2:$I$151,"OK")) | D8: =IF(A8="","",COUNTIFS('Krankheitsfälle'!$B$2:$B$151,A8,'Krankheitsfälle'!$F$2:$F$151,$B$2,'Krankheitsfälle'!$I$2:$I$151,"OK")) | E8: =IF(A8="","",IF(C8>=Parameter!$B$3,"Schwelle erreicht","")) | G8: =IF(Parameter!E17="","",Parameter!E17) | H8: =IF(G8="","",SUMIFS($C$8:$C$107,$B$8:$B$107,G8))
A9: =IF(Parameter!A13="","",Parameter!A13) | B9: =IF(A9="","",IFERROR(INDEX(Parameter!$B$12:$B$111,MATCH(A9,Parameter!$A$12:$A$111,0)),"")) | C9: =IF(A9="","",SUMIFS('Krankheitsfälle'!$G$2:$G$151,'Krankheitsfälle'!$B$2:$B$151,A9,'Krankheitsfälle'!$F$2:$F$151,$B$2,'Krankheitsfälle'!$I$2:$I$151,"OK")) | D9: =IF(A9="","",COUNTIFS('Krankheitsfälle'!$B$2:$B$151,A9,'Krankheitsfälle'!$F$2:$F$151,$B$2,'Krankheitsfälle'!$I$2:$I$151,"OK")) | E9: =IF(A9="","",IF(C9>=Parameter!$B$3,"Schwelle erreicht",""))
A10: =IF(Parameter!A14="","",Parameter!A14) | B10: =IF(A10="","",IFERROR(INDEX(Parameter!$B$12:$B$111,MATCH(A10,Parameter!$A$12:$A$111,0)),"")) | C10: =IF(A10="","",SUMIFS('Krankheitsfälle'!$G$2:$G$151,'Krankheitsfälle'!$B$2:$B$151,A10,'Krankheitsfälle'!$F$2:$F$151,$B$2,'Krankheitsfälle'!$I$2:$I$151,"OK")) | D10: =IF(A10="","",COUNTIFS('Krankheitsfälle'!$B$2:$B$151,A10,'Krankheitsfälle'!$F$2:$F$151,$B$2,'Krankheitsfälle'!$I$2:$I$151,"OK")) | E10: =IF(A10="","",IF(C10>=Parameter!$B$3,"Schwelle erreicht","")) | G10: Nutzungshinweis | H10: Einordnung
A11: =IF(Parameter!A15="","",Parameter!A15) | B11: =IF(A11="","",IFERROR(INDEX(Parameter!$B$12:$B$111,MATCH(A11,Parameter!$A$12:$A$111,0)),"")) | C11: =IF(A11="","",SUMIFS('Krankheitsfälle'!$G$2:$G$151,'Krankheitsfälle'!$B$2:$B$151,A11,'Krankheitsfälle'!$F$2:$F$151,$B$2,'Krankheitsfälle'!$I$2:$I$151,"OK")) | D11: =IF(A11="","",COUNTIFS('Krankheitsfälle'!$B$2:$B$151,A11,'Krankheitsfälle'!$F$2:$F$151,$B$2,'Krankheitsfälle'!$I$2:$I$151,"OK")) | E11: =IF(A11="","",IF(C11>=Parameter!$B$3,"Schwelle erreicht","")) | G11: Zweck | H11: Nur operative Personal- und Einsatzplanung
A12: =IF(Parameter!A16="","",Parameter!A16) | B12: =IF(A12="","",IFERROR(INDEX(Parameter!$B$12:$B$111,MATCH(A12,Parameter!$A$12:$A$111,0)),"")) | C12: =IF(A12="","",SUMIFS('Krankheitsfälle'!$G$2:$G$151,'Krankheitsfälle'!$B$2:$B$151,A12,'Krankheitsfälle'!$F$2:$F$151,$B$2,'Krankheitsfälle'!$I$2:$I$151,"OK")) | D12: =IF(A12="","",COUNTIFS('Krankheitsfälle'!$B$2:$B$151,A12,'Krankheitsfälle'!$F$2:$F$151,$B$2,'Krankheitsfälle'!$I$2:$I$151,"OK")) | E12: =IF(A12="","",IF(C12>=Parameter!$B$3,"Schwelle erreicht","")) | G12: Inhalt | H12: Keine Diagnosen, Symptome, Behandlungsdaten oder Krankheitsursachen
A13: =IF(Parameter!A17="","",Parameter!A17) | B13: =IF(A13="","",IFERROR(INDEX(Parameter!$B$12:$B$111,MATCH(A13,Parameter!$A$12:$A$111,0)),"")) | C13: =IF(A13="","",SUMIFS('Krankheitsfälle'!$G$2:$G$151,'Krankheitsfälle'!$B$2:$B$151,A13,'Krankheitsfälle'!$F$2:$F$151,$B$2,'Krankheitsfälle'!$I$2:$I$151,"OK")) | D13: =IF(A13="","",COUNTIFS('Krankheitsfälle'!$B$2:$B$151,A13,'Krankheitsfälle'!$F$2:$F$151,$B$2,'Krankheitsfälle'!$I$2:$I$151,"OK")) | E13: =IF(A13="","",IF(C13>=Parameter!$B$3,"Schwelle erreicht","")) | G13: Bewertung | H13: Keine arbeitsrechtlichen, medizinischen oder steuerlichen Schlussfolgerungen
A14: =IF(Parameter!A18="","",Parameter!A18) | B14: =IF(A14="","",IFERROR(INDEX(Parameter!$B$12:$B$111,MATCH(A14,Parameter!$A$12:$A$111,0)),"")) | C14: =IF(A14="","",SUMIFS('Krankheitsfälle'!$G$2:$G$151,'Krankheitsfälle'!$B$2:$B$151,A14,'Krankheitsfälle'!$F$2:$F$151,$B$2,'Krankheitsfälle'!$I$2:$I$151,"OK")) | D14: =IF(A14="","",COUNTIFS('Krankheitsfälle'!$B$2:$B$151,A14,'Krankheitsfälle'!$F$2:$F$151,$B$2,'Krankheitsfälle'!$I$2:$I$151,"OK")) | E14: =IF(A14="","",IF(C14>=Parameter!$B$3,"Schwelle erreicht","")) | G14: Zugriff | H14: Organisatorisch auf intern befugte Personen beschränken
A15: =IF(Parameter!A19="","",Parameter!A19) | B15: =IF(A15="","",IFERROR(INDEX(Parameter!$B$12:$B$111,MATCH(A15,Parameter!$A$12:$A$111,0)),"")) | C15: =IF(A15="","",SUMIFS('Krankheitsfälle'!$G$2:$G$151,'Krankheitsfälle'!$B$2:$B$151,A15,'Krankheitsfälle'!$F$2:$F$151,$B$2,'Krankheitsfälle'!$I$2:$I$151,"OK")) | D15: =IF(A15="","",COUNTIFS('Krankheitsfälle'!$B$2:$B$151,A15,'Krankheitsfälle'!$F$2:$F$151,$B$2,'Krankheitsfälle'!$I$2:$I$151,"OK")) | E15: =IF(A15="","",IF(C15>=Parameter!$B$3,"Schwelle erreicht","")) | G15: Status | H15: Kein Sicherheits-, Rechts- oder Konformitätsversprechen
A16: =IF(Parameter!A20="","",Parameter!A20) | B16: =IF(A16="","",IFERROR(INDEX(Parameter!$B$12:$B$111,MATCH(A16,Parameter!$A$12:$A$111,0)),"")) | C16: =IF(A16="","",SUMIFS('Krankheitsfälle'!$G$2:$G$151,'Krankheitsfälle'!$B$2:$B$151,A16,'Krankheitsfälle'!$F$2:$F$151,$B$2,'Krankheitsfälle'!$I$2:$I$151,"OK")) | D16: =IF(A16="","",COUNTIFS('Krankheitsfälle'!$B$2:$B$151,A16,'Krankheitsfälle'!$F$2:$F$151,$B$2,'Krankheitsfälle'!$I$2:$I$151,"OK")) | E16: =IF(A16="","",IF(C16>=Parameter!$B$3,"Schwelle erreicht",""))
A17: =IF(Parameter!A21="","",Parameter!A21) | B17: =IF(A17="","",IFERROR(INDEX(Parameter!$B$12:$B$111,MATCH(A17,Parameter!$A$12:$A$111,0)),"")) | C17: =IF(A17="","",SUMIFS('Krankheitsfälle'!$G$2:$G$151,'Krankheitsfälle'!$B$2:$B$151,A17,'Krankheitsfälle'!$F$2:$F$151,$B$2,'Krankheitsfälle'!$I$2:$I$151,"OK")) | D17: =IF(A17="","",COUNTIFS('Krankheitsfälle'!$B$2:$B$151,A17,'Krankheitsfälle'!$F$2:$F$151,$B$2,'Krankheitsfälle'!$I$2:$I$151,"OK")) | E17: =IF(A17="","",IF(C17>=Parameter!$B$3,"Schwelle erreicht",""))
A18: =IF(Parameter!A22="","",Parameter!A22) | B18: =IF(A18="","",IFERROR(INDEX(Parameter!$B$12:$B$111,MATCH(A18,Parameter!$A$12:$A$111,0)),"")) | C18: =IF(A18="","",SUMIFS('Krankheitsfälle'!$G$2:$G$151,'Krankheitsfälle'!$B$2:$B$151,A18,'Krankheitsfälle'!$F$2:$F$151,$B$2,'Krankheitsfälle'!$I$2:$I$151,"OK")) | D18: =IF(A18="","",COUNTIFS('Krankheitsfälle'!$B$2:$B$151,A18,'Krankheitsfälle'!$F$2:$F$151,$B$2,'Krankheitsfälle'!$I$2:$I$151,"OK")) | E18: =IF(A18="","",IF(C18>=Parameter!$B$3,"Schwelle erreicht",""))
A19: =IF(Parameter!A23="","",Parameter!A23) | B19: =IF(A19="","",IFERROR(INDEX(Parameter!$B$12:$B$111,MATCH(A19,Parameter!$A$12:$A$111,0)),"")) | C19: =IF(A19="","",SUMIFS('Krankheitsfälle'!$G$2:$G$151,'Krankheitsfälle'!$B$2:$B$151,A19,'Krankheitsfälle'!$F$2:$F$151,$B$2,'Krankheitsfälle'!$I$2:$I$151,"OK")) | D19: =IF(A19="","",COUNTIFS('Krankheitsfälle'!$B$2:$B$151,A19,'Krankheitsfälle'!$F$2:$F$151,$B$2,'Krankheitsfälle'!$I$2:$I$151,"OK")) | E19: =IF(A19="","",IF(C19>=Parameter!$B$3,"Schwelle erreicht",""))
A20: =IF(Parameter!A24="","",Parameter!A24) | B20: =IF(A20="","",IFERROR(INDEX(Parameter!$B$12:$B$111,MATCH(A20,Parameter!$A$12:$A$111,0)),"")) | C20: =IF(A20="","",SUMIFS('Krankheitsfälle'!$G$2:$G$151,'Krankheitsfälle'!$B$2:$B$151,A20,'Krankheitsfälle'!$F$2:$F$151,$B$2,'Krankheitsfälle'!$I$2:$I$151,"OK")) | D20: =IF(A20="","",COUNTIFS('Krankheitsfälle'!$B$2:$B$151,A20,'Krankheitsfälle'!$F$2:$F$151,$B$2,'Krankheitsfälle'!$I$2:$I$151,"OK")) | E20: =IF(A20="","",IF(C20>=Parameter!$B$3,"Schwelle erreicht",""))
A21: =IF(Parameter!A25="","",Parameter!A25) | B21: =IF(A21="","",IFERROR(INDEX(Parameter!$B$12:$B$111,MATCH(A21,Parameter!$A$12:$A$111,0)),"")) | C21: =IF(A21="","",SUMIFS('Krankheitsfälle'!$G$2:$G$151,'Krankheitsfälle'!$B$2:$B$151,A21,'Krankheitsfälle'!$F$2:$F$151,$B$2,'Krankheitsfälle'!$I$2:$I$151,"OK")) | D21: =IF(A21="","",COUNTIFS('Krankheitsfälle'!$B$2:$B$151,A21,'Krankheitsfälle'!$F$2:$F$151,$B$2,'Krankheitsfälle'!$I$2:$I$151,"OK")) | E21: =IF(A21="","",IF(C21>=Parameter!$B$3,"Schwelle erreicht",""))
A22: =IF(Parameter!A26="","",Parameter!A26) | B22: =IF(A22="","",IFERROR(INDEX(Parameter!$B$12:$B$111,MATCH(A22,Parameter!$A$12:$A$111,0)),"")) | C22: =IF(A22="","",SUMIFS('Krankheitsfälle'!$G$2:$G$151,'Krankheitsfälle'!$B$2:$B$151,A22,'Krankheitsfälle'!$F$2:$F$151,$B$2,'Krankheitsfälle'!$I$2:$I$151,"OK")) | D22: =IF(A22="","",COUNTIFS('Krankheitsfälle'!$B$2:$B$151,A22,'Krankheitsfälle'!$F$2:$F$151,$B$2,'Krankheitsfälle'!$I$2:$I$151,"OK")) | E22: =IF(A22="","",IF(C22>=Parameter!$B$3,"Schwelle erreicht",""))
A23: =IF(Parameter!A27="","",Parameter!A27) | B23: =IF(A23="","",IFERROR(INDEX(Parameter!$B$12:$B$111,MATCH(A23,Parameter!$A$12:$A$111,0)),"")) | C23: =IF(A23="","",SUMIFS('Krankheitsfälle'!$G$2:$G$151,'Krankheitsfälle'!$B$2:$B$151,A23,'Krankheitsfälle'!$F$2:$F$151,$B$2,'Krankheitsfälle'!$I$2:$I$151,"OK")) | D23: =IF(A23="","",COUNTIFS('Krankheitsfälle'!$B$2:$B$151,A23,'Krankheitsfälle'!$F$2:$F$151,$B$2,'Krankheitsfälle'!$I$2:$I$151,"OK")) | E23: =IF(A23="","",IF(C23>=Parameter!$B$3,"Schwelle erreicht",""))
A24: =IF(Parameter!A28="","",Parameter!A28) | B24: =IF(A24="","",IFERROR(INDEX(Parameter!$B$12:$B$111,MATCH(A24,Parameter!$A$12:$A$111,0)),"")) | C24: =IF(A24="","",SUMIFS('Krankheitsfälle'!$G$2:$G$151,'Krankheitsfälle'!$B$2:$B$151,A24,'Krankheitsfälle'!$F$2:$F$151,$B$2,'Krankheitsfälle'!$I$2:$I$151,"OK")) | D24: =IF(A24="","",COUNTIFS('Krankheitsfälle'!$B$2:$B$151,A24,'Krankheitsfälle'!$F$2:$F$151,$B$2,'Krankheitsfälle'!$I$2:$I$151,"OK")) | E24: =IF(A24="","",IF(C24>=Parameter!$B$3,"Schwelle erreicht",""))
A25: =IF(Parameter!A29="","",Parameter!A29) | B25: =IF(A25="","",IFERROR(INDEX(Parameter!$B$12:$B$111,MATCH(A25,Parameter!$A$12:$A$111,0)),"")) | C25: =IF(A25="","",SUMIFS('Krankheitsfälle'!$G$2:$G$151,'Krankheitsfälle'!$B$2:$B$151,A25,'Krankheitsfälle'!$F$2:$F$151,$B$2,'Krankheitsfälle'!$I$2:$I$151,"OK")) | D25: =IF(A25="","",COUNTIFS('Krankheitsfälle'!$B$2:$B$151,A25,'Krankheitsfälle'!$F$2:$F$151,$B$2,'Krankheitsfälle'!$I$2:$I$151,"OK")) | E25: =IF(A25="","",IF(C25>=Parameter!$B$3,"Schwelle erreicht",""))
A26: =IF(Parameter!A30="","",Parameter!A30) | B26: =IF(A26="","",IFERROR(INDEX(Parameter!$B$12:$B$111,MATCH(A26,Parameter!$A$12:$A$111,0)),"")) | C26: =IF(A26="","",SUMIFS('Krankheitsfälle'!$G$2:$G$151,'Krankheitsfälle'!$B$2:$B$151,A26,'Krankheitsfälle'!$F$2:$F$151,$B$2,'Krankheitsfälle'!$I$2:$I$151,"OK")) | D26: =IF(A26="","",COUNTIFS('Krankheitsfälle'!$B$2:$B$151,A26,'Krankheitsfälle'!$F$2:$F$151,$B$2,'Krankheitsfälle'!$I$2:$I$151,"OK")) | E26: =IF(A26="","",IF(C26>=Parameter!$B$3,"Schwelle erreicht",""))
A27: =IF(Parameter!A31="","",Parameter!A31) | B27: =IF(A27="","",IFERROR(INDEX(Parameter!$B$12:$B$111,MATCH(A27,Parameter!$A$12:$A$111,0)),"")) | C27: =IF(A27="","",SUMIFS('Krankheitsfälle'!$G$2:$G$151,'Krankheitsfälle'!$B$2:$B$151,A27,'Krankheitsfälle'!$F$2:$F$151,$B$2,'Krankheitsfälle'!$I$2:$I$151,"OK")) | D27: =IF(A27="","",COUNTIFS('Krankheitsfälle'!$B$2:$B$151,A27,'Krankheitsfälle'!$F$2:$F$151,$B$2,'Krankheitsfälle'!$I$2:$I$151,"OK")) | E27: =IF(A27="","",IF(C27>=Parameter!$B$3,"Schwelle erreicht",""))
... A107: =IF(Parameter!A111="","",Parameter!A111) | B107: =IF(A107="","",IFERROR(INDEX(Parameter!$B$12:$B$111,MATCH(A107,Parameter!$A$12:$A$111,0)),"")) | C107: =IF(A107="","",SUMIFS('Krankheitsfälle'!$G$2:$G$151,'Krankheitsfälle'!$B$2:$B$151,A107,'Krankheitsfälle'!$F$2:$F$151,$B$2,'Krankheitsfälle'!$I$2:$I$151,"OK")) | D107: =IF(A107="","",COUNTIFS('Krankheitsfälle'!$B$2:$B$151,A107,'Krankheitsfälle'!$F$2:$F$151,$B$2,'Krankheitsfälle'!$I$2:$I$151,"OK")) | E107: =IF(A107="","",IF(C107>=Parameter!$B$3,"Schwelle erreicht",""))

Sheet Parameter
A1: Parameter und pseudonyme Mitarbeiter-Stammdaten
A2: Auswertungsmonat | B2: 46235 | D2: Eingabehinweise
A3: Warnschwelle Krankheitstage | B3: 5 | D3: Gelb markierte Zellen sind bearbeitbare Eingaben.
A4: Zulässiges Datum von | B4: 45658 | D4: Es werden ausschließlich pseudonyme Mitarbeiter-IDs verwendet.
A5: Zulässiges Datum bis | B5: 46752 | D5: Ausfalltage werden wegen wechselnder Dienste manuell erfasst.
D6: Monatsübergreifende Zeiträume sind an der Monatsgrenze zu teilen.
D7: Die Warnschwelle ist keine arbeitsrechtliche oder medizinische Bewertung.
A11: Mitarbeiter-ID | B11: Bereich | C11: Aktiv | E11: Bereiche
A12: FIK-001 | B12: Küche | C12: Ja | E12: Küche
A13: FIK-002 | B13: Service | C13: Ja | E13: Service
A14: FIK-003 | B14: Bar | C14: Ja | E14: Bar
A15: FIK-004 | B15: Küche | C15: Ja | E15: Spülküche
A16: FIK-005 | B16: Spülküche | C16: Ja | E16: Lager
A17: FIK-006 | B17: Service | C17: Ja | E17: Verwaltung
A18: FIK-007 | B18: Bar | C18: Ja
A19: FIK-008 | B19: Lager | C19: Ja
A20: FIK-009 | B20: Verwaltung | C20: Ja | D20: Temporärer Prüffall | E20: Testeingabe | F20: Erwartetes Ergebnis
A21: FIK-010 | B21: Küche | C21: Nein | D21: Doppelte Mitarbeiter-ID | E21: Bestehende ID im Stamm erneut eintragen | F21: ID wird rot markiert
D22: Unbekannte ID | E22: Nicht gelistete ID in Krankheitsfälle eintragen | F22: Mitarbeiter-ID unbekannt
D23: Monatswechsel | E23: Beginn und Ende in zwei Monaten eintragen | F23: An Monatsgrenze teilen
D24: Überschneidung | E24: Zwei Zeiträume derselben ID überlappen lassen | F24: Zeiträume überschneiden sich
D25: Leere Zeile | E25: Eine vorbereitete Zeile unverändert lassen | F25: Prüfstatus bleibt leer
D26: Ausfalltage zu hoch | E26: Mehr Ausfalltage als Kalendertage eintragen | F26: Ausfalltage zu hoch

Sheet Krankheitsfälle
A1: Datensatz-ID | B1: Mitarbeiter-ID | C1: Bereich | D1: Beginn | E1: Ende | F1: Berichtsmonat | G1: Ausfalltage laut Dienstplan | H1: Kalendertage | I1: Prüfstatus
A2: KF-0001 | B2: FIK-001 | C2: =IF(B2="","",IFERROR(INDEX(Parameter!$B$12:$B$111,MATCH(B2,Parameter!$A$12:$A$111,0)),"Unbekannt")) | D2: 46237 | E2: 46238 | F2: =IF(D2="","",DATE(YEAR(D2),MONTH(D2),1)) | G2: 2 | H2: =IF(OR(D2="",E2=""),"",E2-D2+1) | I2: =IF(COUNTA(A2:B2,D2:E2,G2)=0,"",IF(OR(A2="",B2="",D2="",E2="",G2=""),"Unvollständig",IF(COUNTIF($A$2:$A$151,A2)>1,"Datensatz-ID doppelt",IF(IFERROR(MATCH(B2,Parameter!$A$12:$A$111,0),0)=0,"Mitarbeiter-ID unbekannt",IF(E2<D2,"Ende vor Beginn",IF(EOMONTH(D2,0)<>EOMONTH(E2,0),"An Monatsgrenze teilen",IF(G2>H2,"Ausfalltage zu hoch",IF(COUNTIFS($B$2:$B$151,B2,$D$2:$D$151,"<="&E2,$E$2:$E$151,">="&D2)>1,"Zeiträume überschneiden sich","OK"))))))))
A3: KF-0002 | B3: FIK-002 | C3: =IF(B3="","",IFERROR(INDEX(Parameter!$B$12:$B$111,MATCH(B3,Parameter!$A$12:$A$111,0)),"Unbekannt")) | D3: 46239 | E3: 46241 | F3: =IF(D3="","",DATE(YEAR(D3),MONTH(D3),1)) | G3: 3 | H3: =IF(OR(D3="",E3=""),"",E3-D3+1) | I3: =IF(COUNTA(A3:B3,D3:E3,G3)=0,"",IF(OR(A3="",B3="",D3="",E3="",G3=""),"Unvollständig",IF(COUNTIF($A$2:$A$151,A3)>1,"Datensatz-ID doppelt",IF(IFERROR(MATCH(B3,Parameter!$A$12:$A$111,0),0)=0,"Mitarbeiter-ID unbekannt",IF(E3<D3,"Ende vor Beginn",IF(EOMONTH(D3,0)<>EOMONTH(E3,0),"An Monatsgrenze teilen",IF(G3>H3,"Ausfalltage zu hoch",IF(COUNTIFS($B$2:$B$151,B3,$D$2:$D$151,"<="&E3,$E$2:$E$151,">="&D3)>1,"Zeiträume überschneiden sich","OK"))))))))
A4: KF-0003 | B4: FIK-003 | C4: =IF(B4="","",IFERROR(INDEX(Parameter!$B$12:$B$111,MATCH(B4,Parameter!$A$12:$A$111,0)),"Unbekannt")) | D4: 46243 | E4: 46243 | F4: =IF(D4="","",DATE(YEAR(D4),MONTH(D4),1)) | G4: 1 | H4: =IF(OR(D4="",E4=""),"",E4-D4+1) | I4: =IF(COUNTA(A4:B4,D4:E4,G4)=0,"",IF(OR(A4="",B4="",D4="",E4="",G4=""),"Unvollständig",IF(COUNTIF($A$2:$A$151,A4)>1,"Datensatz-ID doppelt",IF(IFERROR(MATCH(B4,Parameter!$A$12:$A$111,0),0)=0,"Mitarbeiter-ID unbekannt",IF(E4<D4,"Ende vor Beginn",IF(EOMONTH(D4,0)<>EOMONTH(E4,0),"An Monatsgrenze teilen",IF(G4>H4,"Ausfalltage zu hoch",IF(COUNTIFS($B$2:$B$151,B4,$D$2:$D$151,"<="&E4,$E$2:$E$151,">="&D4)>1,"Zeiträume überschneiden sich","OK"))))))))
A5: KF-0004 | B5: FIK-004 | C5: =IF(B5="","",IFERROR(INDEX(Parameter!$B$12:$B$111,MATCH(B5,Parameter!$A$12:$A$111,0)),"Unbekannt")) | D5: 46244 | E5: 46251 | F5: =IF(D5="","",DATE(YEAR(D5),MONTH(D5),1)) | G5: 6 | H5: =IF(OR(D5="",E5=""),"",E5-D5+1) | I5: =IF(COUNTA(A5:B5,D5:E5,G5)=0,"",IF(OR(A5="",B5="",D5="",E5="",G5=""),"Unvollständig",IF(COUNTIF($A$2:$A$151,A5)>1,"Datensatz-ID doppelt",IF(IFERROR(MATCH(B5,Parameter!$A$12:$A$111,0),0)=0,"Mitarbeiter-ID unbekannt",IF(E5<D5,"Ende vor Beginn",IF(EOMONTH(D5,0)<>EOMONTH(E5,0),"An Monatsgrenze teilen",IF(G5>H5,"Ausfalltage zu hoch",IF(COUNTIFS($B$2:$B$151,B5,$D$2:$D$151,"<="&E5,$E$2:$E$151,">="&D5)>1,"Zeiträume überschneiden sich","OK"))))))))
A6: KF-0005 | B6: FIK-005 | C6: =IF(B6="","",IFERROR(INDEX(Parameter!$B$12:$B$111,MATCH(B6,Parameter!$A$12:$A$111,0)),"Unbekannt")) | D6: 46248 | E6: 46250 | F6: =IF(D6="","",DATE(YEAR(D6),MONTH(D6),1)) | G6: 2 | H6: =IF(OR(D6="",E6=""),"",E6-D6+1) | I6: =IF(COUNTA(A6:B6,D6:E6,G6)=0,"",IF(OR(A6="",B6="",D6="",E6="",G6=""),"Unvollständig",IF(COUNTIF($A$2:$A$151,A6)>1,"Datensatz-ID doppelt",IF(IFERROR(MATCH(B6,Parameter!$A$12:$A$111,0),0)=0,"Mitarbeiter-ID unbekannt",IF(E6<D6,"Ende vor Beginn",IF(EOMONTH(D6,0)<>EOMONTH(E6,0),"An Monatsgrenze teilen",IF(G6>H6,"Ausfalltage zu hoch",IF(COUNTIFS($B$2:$B$151,B6,$D$2:$D$151,"<="&E6,$E$2:$E$151,">="&D6)>1,"Zeiträume überschneiden sich","OK"))))))))
A7: KF-0006 | B7: FIK-006 | C7: =IF(B7="","",IFERROR(INDEX(Parameter!$B$12:$B$111,MATCH(B7,Parameter!$A$12:$A$111,0)),"Unbekannt")) | D7: 46254 | E7: 46258 | F7: =IF(D7="","",DATE(YEAR(D7),MONTH(D7),1)) | G7: 4 | H7: =IF(OR(D7="",E7=""),"",E7-D7+1) | I7: =IF(COUNTA(A7:B7,D7:E7,G7)=0,"",IF(OR(A7="",B7="",D7="",E7="",G7=""),"Unvollständig",IF(COUNTIF($A$2:$A$151,A7)>1,"Datensatz-ID doppelt",IF(IFERROR(MATCH(B7,Parameter!$A$12:$A$111,0),0)=0,"Mitarbeiter-ID unbekannt",IF(E7<D7,"Ende vor Beginn",IF(EOMONTH(D7,0)<>EOMONTH(E7,0),"An Monatsgrenze teilen",IF(G7>H7,"Ausfalltage zu hoch",IF(COUNTIFS($B$2:$B$151,B7,$D$2:$D$151,"<="&E7,$E$2:$E$151,">="&D7)>1,"Zeiträume überschneiden sich","OK"))))))))
A8: KF-0007 | B8: FIK-001 | C8: =IF(B8="","",IFERROR(INDEX(Parameter!$B$12:$B$111,MATCH(B8,Parameter!$A$12:$A$111,0)),"Unbekannt")) | D8: 46261 | E8: 46261 | F8: =IF(D8="","",DATE(YEAR(D8),MONTH(D8),1)) | G8: 1 | H8: =IF(OR(D8="",E8=""),"",E8-D8+1) | I8: =IF(COUNTA(A8:B8,D8:E8,G8)=0,"",IF(OR(A8="",B8="",D8="",E8="",G8=""),"Unvollständig",IF(COUNTIF($A$2:$A$151,A8)>1,"Datensatz-ID doppelt",IF(IFERROR(MATCH(B8,Parameter!$A$12:$A$111,0),0)=0,"Mitarbeiter-ID unbekannt",IF(E8<D8,"Ende vor Beginn",IF(EOMONTH(D8,0)<>EOMONTH(E8,0),"An Monatsgrenze teilen",IF(G8>H8,"Ausfalltage zu hoch",IF(COUNTIFS($B$2:$B$151,B8,$D$2:$D$151,"<="&E8,$E$2:$E$151,">="&D8)>1,"Zeiträume überschneiden sich","OK"))))))))
A9: KF-0008 | B9: FIK-007 | C9: =IF(B9="","",IFERROR(INDEX(Parameter!$B$12:$B$111,MATCH(B9,Parameter!$A$12:$A$111,0)),"Unbekannt")) | D9: 46263 | E9: 46263 | F9: =IF(D9="","",DATE(YEAR(D9),MONTH(D9),1)) | G9: 1 | H9: =IF(OR(D9="",E9=""),"",E9-D9+1) | I9: =IF(COUNTA(A9:B9,D9:E9,G9)=0,"",IF(OR(A9="",B9="",D9="",E9="",G9=""),"Unvollständig",IF(COUNTIF($A$2:$A$151,A9)>1,"Datensatz-ID doppelt",IF(IFERROR(MATCH(B9,Parameter!$A$12:$A$111,0),0)=0,"Mitarbeiter-ID unbekannt",IF(E9<D9,"Ende vor Beginn",IF(EOMONTH(D9,0)<>EOMONTH(E9,0),"An Monatsgrenze teilen",IF(G9>H9,"Ausfalltage zu hoch",IF(COUNTIFS($B$2:$B$151,B9,$D$2:$D$151,"<="&E9,$E$2:$E$151,">="&D9)>1,"Zeiträume überschneiden sich","OK"))))))))
A10: KF-0009 | B10: FIK-002 | C10: =IF(B10="","",IFERROR(INDEX(Parameter!$B$12:$B$111,MATCH(B10,Parameter!$A$12:$A$111,0)),"Unbekannt")) | D10: 46209 | E10: 46210 | F10: =IF(D10="","",DATE(YEAR(D10),MONTH(D10),1)) | G10: 2 | H10: =IF(OR(D10="",E10=""),"",E10-D10+1) | I10: =IF(COUNTA(A10:B10,D10:E10,G10)=0,"",IF(OR(A10="",B10="",D10="",E10="",G10=""),"Unvollständig",IF(COUNTIF($A$2:$A$151,A10)>1,"Datensatz-ID doppelt",IF(IFERROR(MATCH(B10,Parameter!$A$12:$A$111,0),0)=0,"Mitarbeiter-ID unbekannt",IF(E10<D10,"Ende vor Beginn",IF(EOMONTH(D10,0)<>EOMONTH(E10,0),"An Monatsgrenze teilen",IF(G10>H10,"Ausfalltage zu hoch",IF(COUNTIFS($B$2:$B$151,B10,$D$2:$D$151,"<="&E10,$E$2:$E$151,">="&D10)>1,"Zeiträume überschneiden sich","OK"))))))))
A11: KF-0010 | B11: FIK-008 | C11: =IF(B11="","",IFERROR(INDEX(Parameter!$B$12:$B$111,MATCH(B11,Parameter!$A$12:$A$111,0)),"Unbekannt")) | D11: 46267 | E11: 46268 | F11: =IF(D11="","",DATE(YEAR(D11),MONTH(D11),1)) | G11: 2 | H11: =IF(OR(D11="",E11=""),"",E11-D11+1) | I11: =IF(COUNTA(A11:B11,D11:E11,G11)=0,"",IF(OR(A11="",B11="",D11="",E11="",G11=""),"Unvollständig",IF(COUNTIF($A$2:$A$151,A11)>1,"Datensatz-ID doppelt",IF(IFERROR(MATCH(B11,Parameter!$A$12:$A$111,0),0)=0,"Mitarbeiter-ID unbekannt",IF(E11<D11,"Ende vor Beginn",IF(EOMONTH(D11,0)<>EOMONTH(E11,0),"An Monatsgrenze teilen",IF(G11>H11,"Ausfalltage zu hoch",IF(COUNTIFS($B$2:$B$151,B11,$D$2:$D$151,"<="&E11,$E$2:$E$151,">="&D11)>1,"Zeiträume überschneiden sich","OK"))))))))
C12: =IF(B12="","",IFERROR(INDEX(Parameter!$B$12:$B$111,MATCH(B12,Parameter!$A$12:$A$111,0)),"Unbekannt")) | F12: =IF(D12="","",DATE(YEAR(D12),MONTH(D12),1)) | H12: =IF(OR(D12="",E12=""),"",E12-D12+1) | I12: =IF(COUNTA(A12:B12,D12:E12,G12)=0,"",IF(OR(A12="",B12="",D12="",E12="",G12=""),"Unvollständig",IF(COUNTIF($A$2:$A$151,A12)>1,"Datensatz-ID doppelt",IF(IFERROR(MATCH(B12,Parameter!$A$12:$A$111,0),0)=0,"Mitarbeiter-ID unbekannt",IF(E12<D12,"Ende vor Beginn",IF(EOMONTH(D12,0)<>EOMONTH(E12,0),"An Monatsgrenze teilen",IF(G12>H12,"Ausfalltage zu hoch",IF(COUNTIFS($B$2:$B$151,B12,$D$2:$D$151,"<="&E12,$E$2:$E$151,">="&D12)>1,"Zeiträume überschneiden sich","OK"))))))))
C13: =IF(B13="","",IFERROR(INDEX(Parameter!$B$12:$B$111,MATCH(B13,Parameter!$A$12:$A$111,0)),"Unbekannt")) | F13: =IF(D13="","",DATE(YEAR(D13),MONTH(D13),1)) | H13: =IF(OR(D13="",E13=""),"",E13-D13+1) | I13: =IF(COUNTA(A13:B13,D13:E13,G13)=0,"",IF(OR(A13="",B13="",D13="",E13="",G13=""),"Unvollständig",IF(COUNTIF($A$2:$A$151,A13)>1,"Datensatz-ID doppelt",IF(IFERROR(MATCH(B13,Parameter!$A$12:$A$111,0),0)=0,"Mitarbeiter-ID unbekannt",IF(E13<D13,"Ende vor Beginn",IF(EOMONTH(D13,0)<>EOMONTH(E13,0),"An Monatsgrenze teilen",IF(G13>H13,"Ausfalltage zu hoch",IF(COUNTIFS($B$2:$B$151,B13,$D$2:$D$151,"<="&E13,$E$2:$E$151,">="&D13)>1,"Zeiträume überschneiden sich","OK"))))))))
C14: =IF(B14="","",IFERROR(INDEX(Parameter!$B$12:$B$111,MATCH(B14,Parameter!$A$12:$A$111,0)),"Unbekannt")) | F14: =IF(D14="","",DATE(YEAR(D14),MONTH(D14),1)) | H14: =IF(OR(D14="",E14=""),"",E14-D14+1) | I14: =IF(COUNTA(A14:B14,D14:E14,G14)=0,"",IF(OR(A14="",B14="",D14="",E14="",G14=""),"Unvollständig",IF(COUNTIF($A$2:$A$151,A14)>1,"Datensatz-ID doppelt",IF(IFERROR(MATCH(B14,Parameter!$A$12:$A$111,0),0)=0,"Mitarbeiter-ID unbekannt",IF(E14<D14,"Ende vor Beginn",IF(EOMONTH(D14,0)<>EOMONTH(E14,0),"An Monatsgrenze teilen",IF(G14>H14,"Ausfalltage zu hoch",IF(COUNTIFS($B$2:$B$151,B14,$D$2:$D$151,"<="&E14,$E$2:$E$151,">="&D14)>1,"Zeiträume überschneiden sich","OK"))))))))
C15: =IF(B15="","",IFERROR(INDEX(Parameter!$B$12:$B$111,MATCH(B15,Parameter!$A$12:$A$111,0)),"Unbekannt")) | F15: =IF(D15="","",DATE(YEAR(D15),MONTH(D15),1)) | H15: =IF(OR(D15="",E15=""),"",E15-D15+1) | I15: =IF(COUNTA(A15:B15,D15:E15,G15)=0,"",IF(OR(A15="",B15="",D15="",E15="",G15=""),"Unvollständig",IF(COUNTIF($A$2:$A$151,A15)>1,"Datensatz-ID doppelt",IF(IFERROR(MATCH(B15,Parameter!$A$12:$A$111,0),0)=0,"Mitarbeiter-ID unbekannt",IF(E15<D15,"Ende vor Beginn",IF(EOMONTH(D15,0)<>EOMONTH(E15,0),"An Monatsgrenze teilen",IF(G15>H15,"Ausfalltage zu hoch",IF(COUNTIFS($B$2:$B$151,B15,$D$2:$D$151,"<="&E15,$E$2:$E$151,">="&D15)>1,"Zeiträume überschneiden sich","OK"))))))))
C16: =IF(B16="","",IFERROR(INDEX(Parameter!$B$12:$B$111,MATCH(B16,Parameter!$A$12:$A$111,0)),"Unbekannt")) | F16: =IF(D16="","",DATE(YEAR(D16),MONTH(D16),1)) | H16: =IF(OR(D16="",E16=""),"",E16-D16+1) | I16: =IF(COUNTA(A16:B16,D16:E16,G16)=0,"",IF(OR(A16="",B16="",D16="",E16="",G16=""),"Unvollständig",IF(COUNTIF($A$2:$A$151,A16)>1,"Datensatz-ID doppelt",IF(IFERROR(MATCH(B16,Parameter!$A$12:$A$111,0),0)=0,"Mitarbeiter-ID unbekannt",IF(E16<D16,"Ende vor Beginn",IF(EOMONTH(D16,0)<>EOMONTH(E16,0),"An Monatsgrenze teilen",IF(G16>H16,"Ausfalltage zu hoch",IF(COUNTIFS($B$2:$B$151,B16,$D$2:$D$151,"<="&E16,$E$2:$E$151,">="&D16)>1,"Zeiträume überschneiden sich","OK"))))))))
C17: =IF(B17="","",IFERROR(INDEX(Parameter!$B$12:$B$111,MATCH(B17,Parameter!$A$12:$A$111,0)),"Unbekannt")) | F17: =IF(D17="","",DATE(YEAR(D17),MONTH(D17),1)) | H17: =IF(OR(D17="",E17=""),"",E17-D17+1) | I17: =IF(COUNTA(A17:B17,D17:E17,G17)=0,"",IF(OR(A17="",B17="",D17="",E17="",G17=""),"Unvollständig",IF(COUNTIF($A$2:$A$151,A17)>1,"Datensatz-ID doppelt",IF(IFERROR(MATCH(B17,Parameter!$A$12:$A$111,0),0)=0,"Mitarbeiter-ID unbekannt",IF(E17<D17,"Ende vor Beginn",IF(EOMONTH(D17,0)<>EOMONTH(E17,0),"An Monatsgrenze teilen",IF(G17>H17,"Ausfalltage zu hoch",IF(COUNTIFS($B$2:$B$151,B17,$D$2:$D$151,"<="&E17,$E$2:$E$151,">="&D17)>1,"Zeiträume überschneiden sich","OK"))))))))
C18: =IF(B18="","",IFERROR(INDEX(Parameter!$B$12:$B$111,MATCH(B18,Parameter!$A$12:$A$111,0)),"Unbekannt")) | F18: =IF(D18="","",DATE(YEAR(D18),MONTH(D18),1)) | H18: =IF(OR(D18="",E18=""),"",E18-D18+1) | I18: =IF(COUNTA(A18:B18,D18:E18,G18)=0,"",IF(OR(A18="",B18="",D18="",E18="",G18=""),"Unvollständig",IF(COUNTIF($A$2:$A$151,A18)>1,"Datensatz-ID doppelt",IF(IFERROR(MATCH(B18,Parameter!$A$12:$A$111,0),0)=0,"Mitarbeiter-ID unbekannt",IF(E18<D18,"Ende vor Beginn",IF(EOMONTH(D18,0)<>EOMONTH(E18,0),"An Monatsgrenze teilen",IF(G18>H18,"Ausfalltage zu hoch",IF(COUNTIFS($B$2:$B$151,B18,$D$2:$D$151,"<="&E18,$E$2:$E$151,">="&D18)>1,"Zeiträume überschneiden sich","OK"))))))))
C19: =IF(B19="","",IFERROR(INDEX(Parameter!$B$12:$B$111,MATCH(B19,Parameter!$A$12:$A$111,0)),"Unbekannt")) | F19: =IF(D19="","",DATE(YEAR(D19),MONTH(D19),1)) | H19: =IF(OR(D19="",E19=""),"",E19-D19+1) | I19: =IF(COUNTA(A19:B19,D19:E19,G19)=0,"",IF(OR(A19="",B19="",D19="",E19="",G19=""),"Unvollständig",IF(COUNTIF($A$2:$A$151,A19)>1,"Datensatz-ID doppelt",IF(IFERROR(MATCH(B19,Parameter!$A$12:$A$111,0),0)=0,"Mitarbeiter-ID unbekannt",IF(E19<D19,"Ende vor Beginn",IF(EOMONTH(D19,0)<>EOMONTH(E19,0),"An Monatsgrenze teilen",IF(G19>H19,"Ausfalltage zu hoch",IF(COUNTIFS($B$2:$B$151,B19,$D$2:$D$151,"<="&E19,$E$2:$E$151,">="&D19)>1,"Zeiträume überschneiden sich","OK"))))))))
C20: =IF(B20="","",IFERROR(INDEX(Parameter!$B$12:$B$111,MATCH(B20,Parameter!$A$12:$A$111,0)),"Unbekannt")) | F20: =IF(D20="","",DATE(YEAR(D20),MONTH(D20),1)) | H20: =IF(OR(D20="",E20=""),"",E20-D20+1) | I20: =IF(COUNTA(A20:B20,D20:E20,G20)=0,"",IF(OR(A20="",B20="",D20="",E20="",G20=""),"Unvollständig",IF(COUNTIF($A$2:$A$151,A20)>1,"Datensatz-ID doppelt",IF(IFERROR(MATCH(B20,Parameter!$A$12:$A$111,0),0)=0,"Mitarbeiter-ID unbekannt",IF(E20<D20,"Ende vor Beginn",IF(EOMONTH(D20,0)<>EOMONTH(E20,0),"An Monatsgrenze teilen",IF(G20>H20,"Ausfalltage zu hoch",IF(COUNTIFS($B$2:$B$151,B20,$D$2:$D$151,"<="&E20,$E$2:$E$151,">="&D20)>1,"Zeiträume überschneiden sich","OK"))))))))
C21: =IF(B21="","",IFERROR(INDEX(Parameter!$B$12:$B$111,MATCH(B21,Parameter!$A$12:$A$111,0)),"Unbekannt")) | F21: =IF(D21="","",DATE(YEAR(D21),MONTH(D21),1)) | H21: =IF(OR(D21="",E21=""),"",E21-D21+1) | I21: =IF(COUNTA(A21:B21,D21:E21,G21)=0,"",IF(OR(A21="",B21="",D21="",E21="",G21=""),"Unvollständig",IF(COUNTIF($A$2:$A$151,A21)>1,"Datensatz-ID doppelt",IF(IFERROR(MATCH(B21,Parameter!$A$12:$A$111,0),0)=0,"Mitarbeiter-ID unbekannt",IF(E21<D21,"Ende vor Beginn",IF(EOMONTH(D21,0)<>EOMONTH(E21,0),"An Monatsgrenze teilen",IF(G21>H21,"Ausfalltage zu hoch",IF(COUNTIFS($B$2:$B$151,B21,$D$2:$D$151,"<="&E21,$E$2:$E$151,">="&D21)>1,"Zeiträume überschneiden sich","OK"))))))))
C22: =IF(B22="","",IFERROR(INDEX(Parameter!$B$12:$B$111,MATCH(B22,Parameter!$A$12:$A$111,0)),"Unbekannt")) | F22: =IF(D22="","",DATE(YEAR(D22),MONTH(D22),1)) | H22: =IF(OR(D22="",E22=""),"",E22-D22+1) | I22: =IF(COUNTA(A22:B22,D22:E22,G22)=0,"",IF(OR(A22="",B22="",D22="",E22="",G22=""),"Unvollständig",IF(COUNTIF($A$2:$A$151,A22)>1,"Datensatz-ID doppelt",IF(IFERROR(MATCH(B22,Parameter!$A$12:$A$111,0),0)=0,"Mitarbeiter-ID unbekannt",IF(E22<D22,"Ende vor Beginn",IF(EOMONTH(D22,0)<>EOMONTH(E22,0),"An Monatsgrenze teilen",IF(G22>H22,"Ausfalltage zu hoch",IF(COUNTIFS($B$2:$B$151,B22,$D$2:$D$151,"<="&E22,$E$2:$E$151,">="&D22)>1,"Zeiträume überschneiden sich","OK"))))))))
C23: =IF(B23="","",IFERROR(INDEX(Parameter!$B$12:$B$111,MATCH(B23,Parameter!$A$12:$A$111,0)),"Unbekannt")) | F23: =IF(D23="","",DATE(YEAR(D23),MONTH(D23),1)) | H23: =IF(OR(D23="",E23=""),"",E23-D23+1) | I23: =IF(COUNTA(A23:B23,D23:E23,G23)=0,"",IF(OR(A23="",B23="",D23="",E23="",G23=""),"Unvollständig",IF(COUNTIF($A$2:$A$151,A23)>1,"Datensatz-ID doppelt",IF(IFERROR(MATCH(B23,Parameter!$A$12:$A$111,0),0)=0,"Mitarbeiter-ID unbekannt",IF(E23<D23,"Ende vor Beginn",IF(EOMONTH(D23,0)<>EOMONTH(E23,0),"An Monatsgrenze teilen",IF(G23>H23,"Ausfalltage zu hoch",IF(COUNTIFS($B$2:$B$151,B23,$D$2:$D$151,"<="&E23,$E$2:$E$151,">="&D23)>1,"Zeiträume überschneiden sich","OK"))))))))
... C151: =IF(B151="","",IFERROR(INDEX(Parameter!$B$12:$B$111,MATCH(B151,Parameter!$A$12:$A$111,0)),"Unbekannt")) | F151: =IF(D151="","",DATE(YEAR(D151),MONTH(D151),1)) | H151: =IF(OR(D151="",E151=""),"",E151-D151+1) | I151: =IF(COUNTA(A151:B151,D151:E151,G151)=0,"",IF(OR(A151="",B151="",D151="",E151="",G151=""),"Unvollständig",IF(COUNTIF($A$2:$A$151,A151)>1,"Datensatz-ID doppelt",IF(IFERROR(MATCH(B151,Parameter!$A$12:$A$111,0),0)=0,"Mitarbeiter-ID unbekannt",IF(E151<D151,"Ende vor Beginn",IF(EOMONTH(D151,0)<>EOMONTH(E151,0),"An Monatsgrenze teilen",IF(G151>H151,"Ausfalltage zu hoch",IF(COUNTIFS($B$2:$B$151,B151,$D$2:$D$151,"<="&E151,$E$2:$E$151,">="&D151)>1,"Zeiträume überschneiden sich","OK"))))))))
