Workbook

Sheet Übersicht
A1: Dienstplan Gastronomie – Übersicht
A2: Auswertungsstand | B2: =TODAY() | D2: Warnlage | E2: Anzahl
A3: Planungswoche | B3: =Parameter!$B$3 | D3: Warnungen in Planungswoche | E3: =B11
A4: Zeitraum bis | B4: =B3+6 | D4: Fehlende Angaben | E4: =COUNTIFS(Dienstplan!$B$5:$B$104,">="&$B$3,Dienstplan!$B$5:$B$104,"<="&$B$4,Dienstplan!$O$5:$O$104,"Angaben fehlen")
D5: Schichtdauer prüfen | E5: =COUNTIFS(Dienstplan!$B$5:$B$104,">="&$B$3,Dienstplan!$B$5:$B$104,"<="&$B$4,Dienstplan!$O$5:$O$104,"Dauer prüfen")
A6: Kennzahl | B6: Wert | D6: Mehrfachplanung prüfen | E6: =COUNTIFS(Dienstplan!$B$5:$B$104,">="&$B$3,Dienstplan!$B$5:$B$104,"<="&$B$4,Dienstplan!$O$5:$O$104,"Mehrfachplanung prüfen")
A7: Aktive Schichten | B7: =COUNTIFS(Dienstplan!$B$5:$B$104,">="&$B$3,Dienstplan!$B$5:$B$104,"<="&$B$4,Dienstplan!$N$5:$N$104,"Geplant")+COUNTIFS(Dienstplan!$B$5:$B$104,">="&$B$3,Dienstplan!$B$5:$B$104,"<="&$B$4,Dienstplan!$N$5:$N$104,"Bestätigt") | D7: Außerhalb Planungswoche | E7: =COUNTIF(Dienstplan!$O$5:$O$104,"Außerhalb Planwoche")
A8: Planstunden | B8: =SUMIFS(Dienstplan!$K$5:$K$104,Dienstplan!$B$5:$B$104,">="&$B$3,Dienstplan!$B$5:$B$104,"<="&$B$4,Dienstplan!$N$5:$N$104,"Geplant")+SUMIFS(Dienstplan!$K$5:$K$104,Dienstplan!$B$5:$B$104,">="&$B$3,Dienstplan!$B$5:$B$104,"<="&$B$4,Dienstplan!$N$5:$N$104,"Bestätigt") | D8: Teammitglieder über Ziel | E8: =COUNTIF($G$29:$G$128,"Über Ziel")
A9: Plankosten | B9: =SUMIFS(Dienstplan!$M$5:$M$104,Dienstplan!$B$5:$B$104,">="&$B$3,Dienstplan!$B$5:$B$104,"<="&$B$4,Dienstplan!$N$5:$N$104,"Geplant")+SUMIFS(Dienstplan!$M$5:$M$104,Dienstplan!$B$5:$B$104,">="&$B$3,Dienstplan!$B$5:$B$104,"<="&$B$4,Dienstplan!$N$5:$N$104,"Bestätigt")
A10: Bestätigte Schichten | B10: =COUNTIFS(Dienstplan!$B$5:$B$104,">="&$B$3,Dienstplan!$B$5:$B$104,"<="&$B$4,Dienstplan!$N$5:$N$104,"Bestätigt")
A11: Planwarnungen | B11: =COUNTIFS(Dienstplan!$B$5:$B$104,">="&$B$3,Dienstplan!$B$5:$B$104,"<="&$B$4,Dienstplan!$O$5:$O$104,"<>OK",Dienstplan!$O$5:$O$104,"<>")
A12: Abgesagte Einträge | B12: =COUNTIFS(Dienstplan!$B$5:$B$104,">="&$B$3,Dienstplan!$B$5:$B$104,"<="&$B$4,Dienstplan!$N$5:$N$104,"Abgesagt")
A16: Tagesauswertung
A17: Datum | B17: Tag | C17: Schichten | D17: Planstunden | E17: Plankosten | F17: Warnungen
A18: =$B$3+0 | B18: =CHOOSE(WEEKDAY(A18,2),"Mo","Di","Mi","Do","Fr","Sa","So") | C18: =COUNTIFS(Dienstplan!$B$5:$B$104,A18,Dienstplan!$N$5:$N$104,"Geplant")+COUNTIFS(Dienstplan!$B$5:$B$104,A18,Dienstplan!$N$5:$N$104,"Bestätigt") | D18: =SUMIFS(Dienstplan!$K$5:$K$104,Dienstplan!$B$5:$B$104,A18,Dienstplan!$N$5:$N$104,"Geplant")+SUMIFS(Dienstplan!$K$5:$K$104,Dienstplan!$B$5:$B$104,A18,Dienstplan!$N$5:$N$104,"Bestätigt") | E18: =SUMIFS(Dienstplan!$M$5:$M$104,Dienstplan!$B$5:$B$104,A18,Dienstplan!$N$5:$N$104,"Geplant")+SUMIFS(Dienstplan!$M$5:$M$104,Dienstplan!$B$5:$B$104,A18,Dienstplan!$N$5:$N$104,"Bestätigt") | F18: =COUNTIFS(Dienstplan!$B$5:$B$104,A18,Dienstplan!$O$5:$O$104,"<>OK",Dienstplan!$O$5:$O$104,"<>")
A19: =$B$3+1 | B19: =CHOOSE(WEEKDAY(A19,2),"Mo","Di","Mi","Do","Fr","Sa","So") | C19: =COUNTIFS(Dienstplan!$B$5:$B$104,A19,Dienstplan!$N$5:$N$104,"Geplant")+COUNTIFS(Dienstplan!$B$5:$B$104,A19,Dienstplan!$N$5:$N$104,"Bestätigt") | D19: =SUMIFS(Dienstplan!$K$5:$K$104,Dienstplan!$B$5:$B$104,A19,Dienstplan!$N$5:$N$104,"Geplant")+SUMIFS(Dienstplan!$K$5:$K$104,Dienstplan!$B$5:$B$104,A19,Dienstplan!$N$5:$N$104,"Bestätigt") | E19: =SUMIFS(Dienstplan!$M$5:$M$104,Dienstplan!$B$5:$B$104,A19,Dienstplan!$N$5:$N$104,"Geplant")+SUMIFS(Dienstplan!$M$5:$M$104,Dienstplan!$B$5:$B$104,A19,Dienstplan!$N$5:$N$104,"Bestätigt") | F19: =COUNTIFS(Dienstplan!$B$5:$B$104,A19,Dienstplan!$O$5:$O$104,"<>OK",Dienstplan!$O$5:$O$104,"<>")
A20: =$B$3+2 | B20: =CHOOSE(WEEKDAY(A20,2),"Mo","Di","Mi","Do","Fr","Sa","So") | C20: =COUNTIFS(Dienstplan!$B$5:$B$104,A20,Dienstplan!$N$5:$N$104,"Geplant")+COUNTIFS(Dienstplan!$B$5:$B$104,A20,Dienstplan!$N$5:$N$104,"Bestätigt") | D20: =SUMIFS(Dienstplan!$K$5:$K$104,Dienstplan!$B$5:$B$104,A20,Dienstplan!$N$5:$N$104,"Geplant")+SUMIFS(Dienstplan!$K$5:$K$104,Dienstplan!$B$5:$B$104,A20,Dienstplan!$N$5:$N$104,"Bestätigt") | E20: =SUMIFS(Dienstplan!$M$5:$M$104,Dienstplan!$B$5:$B$104,A20,Dienstplan!$N$5:$N$104,"Geplant")+SUMIFS(Dienstplan!$M$5:$M$104,Dienstplan!$B$5:$B$104,A20,Dienstplan!$N$5:$N$104,"Bestätigt") | F20: =COUNTIFS(Dienstplan!$B$5:$B$104,A20,Dienstplan!$O$5:$O$104,"<>OK",Dienstplan!$O$5:$O$104,"<>")
A21: =$B$3+3 | B21: =CHOOSE(WEEKDAY(A21,2),"Mo","Di","Mi","Do","Fr","Sa","So") | C21: =COUNTIFS(Dienstplan!$B$5:$B$104,A21,Dienstplan!$N$5:$N$104,"Geplant")+COUNTIFS(Dienstplan!$B$5:$B$104,A21,Dienstplan!$N$5:$N$104,"Bestätigt") | D21: =SUMIFS(Dienstplan!$K$5:$K$104,Dienstplan!$B$5:$B$104,A21,Dienstplan!$N$5:$N$104,"Geplant")+SUMIFS(Dienstplan!$K$5:$K$104,Dienstplan!$B$5:$B$104,A21,Dienstplan!$N$5:$N$104,"Bestätigt") | E21: =SUMIFS(Dienstplan!$M$5:$M$104,Dienstplan!$B$5:$B$104,A21,Dienstplan!$N$5:$N$104,"Geplant")+SUMIFS(Dienstplan!$M$5:$M$104,Dienstplan!$B$5:$B$104,A21,Dienstplan!$N$5:$N$104,"Bestätigt") | F21: =COUNTIFS(Dienstplan!$B$5:$B$104,A21,Dienstplan!$O$5:$O$104,"<>OK",Dienstplan!$O$5:$O$104,"<>")
A22: =$B$3+4 | B22: =CHOOSE(WEEKDAY(A22,2),"Mo","Di","Mi","Do","Fr","Sa","So") | C22: =COUNTIFS(Dienstplan!$B$5:$B$104,A22,Dienstplan!$N$5:$N$104,"Geplant")+COUNTIFS(Dienstplan!$B$5:$B$104,A22,Dienstplan!$N$5:$N$104,"Bestätigt") | D22: =SUMIFS(Dienstplan!$K$5:$K$104,Dienstplan!$B$5:$B$104,A22,Dienstplan!$N$5:$N$104,"Geplant")+SUMIFS(Dienstplan!$K$5:$K$104,Dienstplan!$B$5:$B$104,A22,Dienstplan!$N$5:$N$104,"Bestätigt") | E22: =SUMIFS(Dienstplan!$M$5:$M$104,Dienstplan!$B$5:$B$104,A22,Dienstplan!$N$5:$N$104,"Geplant")+SUMIFS(Dienstplan!$M$5:$M$104,Dienstplan!$B$5:$B$104,A22,Dienstplan!$N$5:$N$104,"Bestätigt") | F22: =COUNTIFS(Dienstplan!$B$5:$B$104,A22,Dienstplan!$O$5:$O$104,"<>OK",Dienstplan!$O$5:$O$104,"<>")
A23: =$B$3+5 | B23: =CHOOSE(WEEKDAY(A23,2),"Mo","Di","Mi","Do","Fr","Sa","So") | C23: =COUNTIFS(Dienstplan!$B$5:$B$104,A23,Dienstplan!$N$5:$N$104,"Geplant")+COUNTIFS(Dienstplan!$B$5:$B$104,A23,Dienstplan!$N$5:$N$104,"Bestätigt") | D23: =SUMIFS(Dienstplan!$K$5:$K$104,Dienstplan!$B$5:$B$104,A23,Dienstplan!$N$5:$N$104,"Geplant")+SUMIFS(Dienstplan!$K$5:$K$104,Dienstplan!$B$5:$B$104,A23,Dienstplan!$N$5:$N$104,"Bestätigt") | E23: =SUMIFS(Dienstplan!$M$5:$M$104,Dienstplan!$B$5:$B$104,A23,Dienstplan!$N$5:$N$104,"Geplant")+SUMIFS(Dienstplan!$M$5:$M$104,Dienstplan!$B$5:$B$104,A23,Dienstplan!$N$5:$N$104,"Bestätigt") | F23: =COUNTIFS(Dienstplan!$B$5:$B$104,A23,Dienstplan!$O$5:$O$104,"<>OK",Dienstplan!$O$5:$O$104,"<>")
A24: =$B$3+6 | B24: =CHOOSE(WEEKDAY(A24,2),"Mo","Di","Mi","Do","Fr","Sa","So") | C24: =COUNTIFS(Dienstplan!$B$5:$B$104,A24,Dienstplan!$N$5:$N$104,"Geplant")+COUNTIFS(Dienstplan!$B$5:$B$104,A24,Dienstplan!$N$5:$N$104,"Bestätigt") | D24: =SUMIFS(Dienstplan!$K$5:$K$104,Dienstplan!$B$5:$B$104,A24,Dienstplan!$N$5:$N$104,"Geplant")+SUMIFS(Dienstplan!$K$5:$K$104,Dienstplan!$B$5:$B$104,A24,Dienstplan!$N$5:$N$104,"Bestätigt") | E24: =SUMIFS(Dienstplan!$M$5:$M$104,Dienstplan!$B$5:$B$104,A24,Dienstplan!$N$5:$N$104,"Geplant")+SUMIFS(Dienstplan!$M$5:$M$104,Dienstplan!$B$5:$B$104,A24,Dienstplan!$N$5:$N$104,"Bestätigt") | F24: =COUNTIFS(Dienstplan!$B$5:$B$104,A24,Dienstplan!$O$5:$O$104,"<>OK",Dienstplan!$O$5:$O$104,"<>")
A27: Wochenauswertung je fiktivem Teammitglied
A28: Fiktive Mitarbeitende | B28: Rolle | C28: Wochenziel | D28: Planstunden | E28: Abweichung | F28: Auslastung | G28: Hinweis
A29: =IF(Parameter!$A$11="","",Parameter!$A$11) | B29: =IF($A29="","",Parameter!$B$11) | C29: =IF(OR($A29="",Parameter!$C$11=""),"",Parameter!$C$11) | D29: =IF($A29="","",SUMIFS(Dienstplan!$K$5:$K$104,Dienstplan!$D$5:$D$104,$A29,Dienstplan!$B$5:$B$104,">="&$B$3,Dienstplan!$B$5:$B$104,"<="&$B$4,Dienstplan!$N$5:$N$104,"Geplant")+SUMIFS(Dienstplan!$K$5:$K$104,Dienstplan!$D$5:$D$104,$A29,Dienstplan!$B$5:$B$104,">="&$B$3,Dienstplan!$B$5:$B$104,"<="&$B$4,Dienstplan!$N$5:$N$104,"Bestätigt")) | E29: =IF(OR($A29="",$C29=""),"",$D29-$C29) | F29: =IF(OR($A29="",$C29=""),"",IFERROR($D29/$C29,"")) | G29: =IF($A29="","",IF($C29="","Ziel fehlt",IF($F29>1+Parameter!$B$5,"Über Ziel",IF($F29<1-Parameter!$B$6,"Unter Ziel","Im Rahmen"))))
A30: =IF(Parameter!$A$12="","",Parameter!$A$12) | B30: =IF($A30="","",Parameter!$B$12) | C30: =IF(OR($A30="",Parameter!$C$12=""),"",Parameter!$C$12) | D30: =IF($A30="","",SUMIFS(Dienstplan!$K$5:$K$104,Dienstplan!$D$5:$D$104,$A30,Dienstplan!$B$5:$B$104,">="&$B$3,Dienstplan!$B$5:$B$104,"<="&$B$4,Dienstplan!$N$5:$N$104,"Geplant")+SUMIFS(Dienstplan!$K$5:$K$104,Dienstplan!$D$5:$D$104,$A30,Dienstplan!$B$5:$B$104,">="&$B$3,Dienstplan!$B$5:$B$104,"<="&$B$4,Dienstplan!$N$5:$N$104,"Bestätigt")) | E30: =IF(OR($A30="",$C30=""),"",$D30-$C30) | F30: =IF(OR($A30="",$C30=""),"",IFERROR($D30/$C30,"")) | G30: =IF($A30="","",IF($C30="","Ziel fehlt",IF($F30>1+Parameter!$B$5,"Über Ziel",IF($F30<1-Parameter!$B$6,"Unter Ziel","Im Rahmen"))))
A31: =IF(Parameter!$A$13="","",Parameter!$A$13) | B31: =IF($A31="","",Parameter!$B$13) | C31: =IF(OR($A31="",Parameter!$C$13=""),"",Parameter!$C$13) | D31: =IF($A31="","",SUMIFS(Dienstplan!$K$5:$K$104,Dienstplan!$D$5:$D$104,$A31,Dienstplan!$B$5:$B$104,">="&$B$3,Dienstplan!$B$5:$B$104,"<="&$B$4,Dienstplan!$N$5:$N$104,"Geplant")+SUMIFS(Dienstplan!$K$5:$K$104,Dienstplan!$D$5:$D$104,$A31,Dienstplan!$B$5:$B$104,">="&$B$3,Dienstplan!$B$5:$B$104,"<="&$B$4,Dienstplan!$N$5:$N$104,"Bestätigt")) | E31: =IF(OR($A31="",$C31=""),"",$D31-$C31) | F31: =IF(OR($A31="",$C31=""),"",IFERROR($D31/$C31,"")) | G31: =IF($A31="","",IF($C31="","Ziel fehlt",IF($F31>1+Parameter!$B$5,"Über Ziel",IF($F31<1-Parameter!$B$6,"Unter Ziel","Im Rahmen"))))
A32: =IF(Parameter!$A$14="","",Parameter!$A$14) | B32: =IF($A32="","",Parameter!$B$14) | C32: =IF(OR($A32="",Parameter!$C$14=""),"",Parameter!$C$14) | D32: =IF($A32="","",SUMIFS(Dienstplan!$K$5:$K$104,Dienstplan!$D$5:$D$104,$A32,Dienstplan!$B$5:$B$104,">="&$B$3,Dienstplan!$B$5:$B$104,"<="&$B$4,Dienstplan!$N$5:$N$104,"Geplant")+SUMIFS(Dienstplan!$K$5:$K$104,Dienstplan!$D$5:$D$104,$A32,Dienstplan!$B$5:$B$104,">="&$B$3,Dienstplan!$B$5:$B$104,"<="&$B$4,Dienstplan!$N$5:$N$104,"Bestätigt")) | E32: =IF(OR($A32="",$C32=""),"",$D32-$C32) | F32: =IF(OR($A32="",$C32=""),"",IFERROR($D32/$C32,"")) | G32: =IF($A32="","",IF($C32="","Ziel fehlt",IF($F32>1+Parameter!$B$5,"Über Ziel",IF($F32<1-Parameter!$B$6,"Unter Ziel","Im Rahmen"))))
A33: =IF(Parameter!$A$15="","",Parameter!$A$15) | B33: =IF($A33="","",Parameter!$B$15) | C33: =IF(OR($A33="",Parameter!$C$15=""),"",Parameter!$C$15) | D33: =IF($A33="","",SUMIFS(Dienstplan!$K$5:$K$104,Dienstplan!$D$5:$D$104,$A33,Dienstplan!$B$5:$B$104,">="&$B$3,Dienstplan!$B$5:$B$104,"<="&$B$4,Dienstplan!$N$5:$N$104,"Geplant")+SUMIFS(Dienstplan!$K$5:$K$104,Dienstplan!$D$5:$D$104,$A33,Dienstplan!$B$5:$B$104,">="&$B$3,Dienstplan!$B$5:$B$104,"<="&$B$4,Dienstplan!$N$5:$N$104,"Bestätigt")) | E33: =IF(OR($A33="",$C33=""),"",$D33-$C33) | F33: =IF(OR($A33="",$C33=""),"",IFERROR($D33/$C33,"")) | G33: =IF($A33="","",IF($C33="","Ziel fehlt",IF($F33>1+Parameter!$B$5,"Über Ziel",IF($F33<1-Parameter!$B$6,"Unter Ziel","Im Rahmen"))))
A34: =IF(Parameter!$A$16="","",Parameter!$A$16) | B34: =IF($A34="","",Parameter!$B$16) | C34: =IF(OR($A34="",Parameter!$C$16=""),"",Parameter!$C$16) | D34: =IF($A34="","",SUMIFS(Dienstplan!$K$5:$K$104,Dienstplan!$D$5:$D$104,$A34,Dienstplan!$B$5:$B$104,">="&$B$3,Dienstplan!$B$5:$B$104,"<="&$B$4,Dienstplan!$N$5:$N$104,"Geplant")+SUMIFS(Dienstplan!$K$5:$K$104,Dienstplan!$D$5:$D$104,$A34,Dienstplan!$B$5:$B$104,">="&$B$3,Dienstplan!$B$5:$B$104,"<="&$B$4,Dienstplan!$N$5:$N$104,"Bestätigt")) | E34: =IF(OR($A34="",$C34=""),"",$D34-$C34) | F34: =IF(OR($A34="",$C34=""),"",IFERROR($D34/$C34,"")) | G34: =IF($A34="","",IF($C34="","Ziel fehlt",IF($F34>1+Parameter!$B$5,"Über Ziel",IF($F34<1-Parameter!$B$6,"Unter Ziel","Im Rahmen"))))
A35: =IF(Parameter!$A$17="","",Parameter!$A$17) | B35: =IF($A35="","",Parameter!$B$17) | C35: =IF(OR($A35="",Parameter!$C$17=""),"",Parameter!$C$17) | D35: =IF($A35="","",SUMIFS(Dienstplan!$K$5:$K$104,Dienstplan!$D$5:$D$104,$A35,Dienstplan!$B$5:$B$104,">="&$B$3,Dienstplan!$B$5:$B$104,"<="&$B$4,Dienstplan!$N$5:$N$104,"Geplant")+SUMIFS(Dienstplan!$K$5:$K$104,Dienstplan!$D$5:$D$104,$A35,Dienstplan!$B$5:$B$104,">="&$B$3,Dienstplan!$B$5:$B$104,"<="&$B$4,Dienstplan!$N$5:$N$104,"Bestätigt")) | E35: =IF(OR($A35="",$C35=""),"",$D35-$C35) | F35: =IF(OR($A35="",$C35=""),"",IFERROR($D35/$C35,"")) | G35: =IF($A35="","",IF($C35="","Ziel fehlt",IF($F35>1+Parameter!$B$5,"Über Ziel",IF($F35<1-Parameter!$B$6,"Unter Ziel","Im Rahmen"))))
A36: =IF(Parameter!$A$18="","",Parameter!$A$18) | B36: =IF($A36="","",Parameter!$B$18) | C36: =IF(OR($A36="",Parameter!$C$18=""),"",Parameter!$C$18) | D36: =IF($A36="","",SUMIFS(Dienstplan!$K$5:$K$104,Dienstplan!$D$5:$D$104,$A36,Dienstplan!$B$5:$B$104,">="&$B$3,Dienstplan!$B$5:$B$104,"<="&$B$4,Dienstplan!$N$5:$N$104,"Geplant")+SUMIFS(Dienstplan!$K$5:$K$104,Dienstplan!$D$5:$D$104,$A36,Dienstplan!$B$5:$B$104,">="&$B$3,Dienstplan!$B$5:$B$104,"<="&$B$4,Dienstplan!$N$5:$N$104,"Bestätigt")) | E36: =IF(OR($A36="",$C36=""),"",$D36-$C36) | F36: =IF(OR($A36="",$C36=""),"",IFERROR($D36/$C36,"")) | G36: =IF($A36="","",IF($C36="","Ziel fehlt",IF($F36>1+Parameter!$B$5,"Über Ziel",IF($F36<1-Parameter!$B$6,"Unter Ziel","Im Rahmen"))))
A37: =IF(Parameter!$A$19="","",Parameter!$A$19) | B37: =IF($A37="","",Parameter!$B$19) | C37: =IF(OR($A37="",Parameter!$C$19=""),"",Parameter!$C$19) | D37: =IF($A37="","",SUMIFS(Dienstplan!$K$5:$K$104,Dienstplan!$D$5:$D$104,$A37,Dienstplan!$B$5:$B$104,">="&$B$3,Dienstplan!$B$5:$B$104,"<="&$B$4,Dienstplan!$N$5:$N$104,"Geplant")+SUMIFS(Dienstplan!$K$5:$K$104,Dienstplan!$D$5:$D$104,$A37,Dienstplan!$B$5:$B$104,">="&$B$3,Dienstplan!$B$5:$B$104,"<="&$B$4,Dienstplan!$N$5:$N$104,"Bestätigt")) | E37: =IF(OR($A37="",$C37=""),"",$D37-$C37) | F37: =IF(OR($A37="",$C37=""),"",IFERROR($D37/$C37,"")) | G37: =IF($A37="","",IF($C37="","Ziel fehlt",IF($F37>1+Parameter!$B$5,"Über Ziel",IF($F37<1-Parameter!$B$6,"Unter Ziel","Im Rahmen"))))
A38: =IF(Parameter!$A$20="","",Parameter!$A$20) | B38: =IF($A38="","",Parameter!$B$20) | C38: =IF(OR($A38="",Parameter!$C$20=""),"",Parameter!$C$20) | D38: =IF($A38="","",SUMIFS(Dienstplan!$K$5:$K$104,Dienstplan!$D$5:$D$104,$A38,Dienstplan!$B$5:$B$104,">="&$B$3,Dienstplan!$B$5:$B$104,"<="&$B$4,Dienstplan!$N$5:$N$104,"Geplant")+SUMIFS(Dienstplan!$K$5:$K$104,Dienstplan!$D$5:$D$104,$A38,Dienstplan!$B$5:$B$104,">="&$B$3,Dienstplan!$B$5:$B$104,"<="&$B$4,Dienstplan!$N$5:$N$104,"Bestätigt")) | E38: =IF(OR($A38="",$C38=""),"",$D38-$C38) | F38: =IF(OR($A38="",$C38=""),"",IFERROR($D38/$C38,"")) | G38: =IF($A38="","",IF($C38="","Ziel fehlt",IF($F38>1+Parameter!$B$5,"Über Ziel",IF($F38<1-Parameter!$B$6,"Unter Ziel","Im Rahmen"))))
A39: =IF(Parameter!$A$21="","",Parameter!$A$21) | B39: =IF($A39="","",Parameter!$B$21) | C39: =IF(OR($A39="",Parameter!$C$21=""),"",Parameter!$C$21) | D39: =IF($A39="","",SUMIFS(Dienstplan!$K$5:$K$104,Dienstplan!$D$5:$D$104,$A39,Dienstplan!$B$5:$B$104,">="&$B$3,Dienstplan!$B$5:$B$104,"<="&$B$4,Dienstplan!$N$5:$N$104,"Geplant")+SUMIFS(Dienstplan!$K$5:$K$104,Dienstplan!$D$5:$D$104,$A39,Dienstplan!$B$5:$B$104,">="&$B$3,Dienstplan!$B$5:$B$104,"<="&$B$4,Dienstplan!$N$5:$N$104,"Bestätigt")) | E39: =IF(OR($A39="",$C39=""),"",$D39-$C39) | F39: =IF(OR($A39="",$C39=""),"",IFERROR($D39/$C39,"")) | G39: =IF($A39="","",IF($C39="","Ziel fehlt",IF($F39>1+Parameter!$B$5,"Über Ziel",IF($F39<1-Parameter!$B$6,"Unter Ziel","Im Rahmen"))))
A40: =IF(Parameter!$A$22="","",Parameter!$A$22) | B40: =IF($A40="","",Parameter!$B$22) | C40: =IF(OR($A40="",Parameter!$C$22=""),"",Parameter!$C$22) | D40: =IF($A40="","",SUMIFS(Dienstplan!$K$5:$K$104,Dienstplan!$D$5:$D$104,$A40,Dienstplan!$B$5:$B$104,">="&$B$3,Dienstplan!$B$5:$B$104,"<="&$B$4,Dienstplan!$N$5:$N$104,"Geplant")+SUMIFS(Dienstplan!$K$5:$K$104,Dienstplan!$D$5:$D$104,$A40,Dienstplan!$B$5:$B$104,">="&$B$3,Dienstplan!$B$5:$B$104,"<="&$B$4,Dienstplan!$N$5:$N$104,"Bestätigt")) | E40: =IF(OR($A40="",$C40=""),"",$D40-$C40) | F40: =IF(OR($A40="",$C40=""),"",IFERROR($D40/$C40,"")) | G40: =IF($A40="","",IF($C40="","Ziel fehlt",IF($F40>1+Parameter!$B$5,"Über Ziel",IF($F40<1-Parameter!$B$6,"Unter Ziel","Im Rahmen"))))
A41: =IF(Parameter!$A$23="","",Parameter!$A$23) | B41: =IF($A41="","",Parameter!$B$23) | C41: =IF(OR($A41="",Parameter!$C$23=""),"",Parameter!$C$23) | D41: =IF($A41="","",SUMIFS(Dienstplan!$K$5:$K$104,Dienstplan!$D$5:$D$104,$A41,Dienstplan!$B$5:$B$104,">="&$B$3,Dienstplan!$B$5:$B$104,"<="&$B$4,Dienstplan!$N$5:$N$104,"Geplant")+SUMIFS(Dienstplan!$K$5:$K$104,Dienstplan!$D$5:$D$104,$A41,Dienstplan!$B$5:$B$104,">="&$B$3,Dienstplan!$B$5:$B$104,"<="&$B$4,Dienstplan!$N$5:$N$104,"Bestätigt")) | E41: =IF(OR($A41="",$C41=""),"",$D41-$C41) | F41: =IF(OR($A41="",$C41=""),"",IFERROR($D41/$C41,"")) | G41: =IF($A41="","",IF($C41="","Ziel fehlt",IF($F41>1+Parameter!$B$5,"Über Ziel",IF($F41<1-Parameter!$B$6,"Unter Ziel","Im Rahmen"))))
A42: =IF(Parameter!$A$24="","",Parameter!$A$24) | B42: =IF($A42="","",Parameter!$B$24) | C42: =IF(OR($A42="",Parameter!$C$24=""),"",Parameter!$C$24) | D42: =IF($A42="","",SUMIFS(Dienstplan!$K$5:$K$104,Dienstplan!$D$5:$D$104,$A42,Dienstplan!$B$5:$B$104,">="&$B$3,Dienstplan!$B$5:$B$104,"<="&$B$4,Dienstplan!$N$5:$N$104,"Geplant")+SUMIFS(Dienstplan!$K$5:$K$104,Dienstplan!$D$5:$D$104,$A42,Dienstplan!$B$5:$B$104,">="&$B$3,Dienstplan!$B$5:$B$104,"<="&$B$4,Dienstplan!$N$5:$N$104,"Bestätigt")) | E42: =IF(OR($A42="",$C42=""),"",$D42-$C42) | F42: =IF(OR($A42="",$C42=""),"",IFERROR($D42/$C42,"")) | G42: =IF($A42="","",IF($C42="","Ziel fehlt",IF($F42>1+Parameter!$B$5,"Über Ziel",IF($F42<1-Parameter!$B$6,"Unter Ziel","Im Rahmen"))))
A43: =IF(Parameter!$A$25="","",Parameter!$A$25) | B43: =IF($A43="","",Parameter!$B$25) | C43: =IF(OR($A43="",Parameter!$C$25=""),"",Parameter!$C$25) | D43: =IF($A43="","",SUMIFS(Dienstplan!$K$5:$K$104,Dienstplan!$D$5:$D$104,$A43,Dienstplan!$B$5:$B$104,">="&$B$3,Dienstplan!$B$5:$B$104,"<="&$B$4,Dienstplan!$N$5:$N$104,"Geplant")+SUMIFS(Dienstplan!$K$5:$K$104,Dienstplan!$D$5:$D$104,$A43,Dienstplan!$B$5:$B$104,">="&$B$3,Dienstplan!$B$5:$B$104,"<="&$B$4,Dienstplan!$N$5:$N$104,"Bestätigt")) | E43: =IF(OR($A43="",$C43=""),"",$D43-$C43) | F43: =IF(OR($A43="",$C43=""),"",IFERROR($D43/$C43,"")) | G43: =IF($A43="","",IF($C43="","Ziel fehlt",IF($F43>1+Parameter!$B$5,"Über Ziel",IF($F43<1-Parameter!$B$6,"Unter Ziel","Im Rahmen"))))
A44: =IF(Parameter!$A$26="","",Parameter!$A$26) | B44: =IF($A44="","",Parameter!$B$26) | C44: =IF(OR($A44="",Parameter!$C$26=""),"",Parameter!$C$26) | D44: =IF($A44="","",SUMIFS(Dienstplan!$K$5:$K$104,Dienstplan!$D$5:$D$104,$A44,Dienstplan!$B$5:$B$104,">="&$B$3,Dienstplan!$B$5:$B$104,"<="&$B$4,Dienstplan!$N$5:$N$104,"Geplant")+SUMIFS(Dienstplan!$K$5:$K$104,Dienstplan!$D$5:$D$104,$A44,Dienstplan!$B$5:$B$104,">="&$B$3,Dienstplan!$B$5:$B$104,"<="&$B$4,Dienstplan!$N$5:$N$104,"Bestätigt")) | E44: =IF(OR($A44="",$C44=""),"",$D44-$C44) | F44: =IF(OR($A44="",$C44=""),"",IFERROR($D44/$C44,"")) | G44: =IF($A44="","",IF($C44="","Ziel fehlt",IF($F44>1+Parameter!$B$5,"Über Ziel",IF($F44<1-Parameter!$B$6,"Unter Ziel","Im Rahmen"))))
A45: =IF(Parameter!$A$27="","",Parameter!$A$27) | B45: =IF($A45="","",Parameter!$B$27) | C45: =IF(OR($A45="",Parameter!$C$27=""),"",Parameter!$C$27) | D45: =IF($A45="","",SUMIFS(Dienstplan!$K$5:$K$104,Dienstplan!$D$5:$D$104,$A45,Dienstplan!$B$5:$B$104,">="&$B$3,Dienstplan!$B$5:$B$104,"<="&$B$4,Dienstplan!$N$5:$N$104,"Geplant")+SUMIFS(Dienstplan!$K$5:$K$104,Dienstplan!$D$5:$D$104,$A45,Dienstplan!$B$5:$B$104,">="&$B$3,Dienstplan!$B$5:$B$104,"<="&$B$4,Dienstplan!$N$5:$N$104,"Bestätigt")) | E45: =IF(OR($A45="",$C45=""),"",$D45-$C45) | F45: =IF(OR($A45="",$C45=""),"",IFERROR($D45/$C45,"")) | G45: =IF($A45="","",IF($C45="","Ziel fehlt",IF($F45>1+Parameter!$B$5,"Über Ziel",IF($F45<1-Parameter!$B$6,"Unter Ziel","Im Rahmen"))))
...

Sheet Dienstplan
A1: Dienstplan Gastronomie – Schichtplanung
A2: Gelbe Zellen sind Eingaben; berechnete Felder bleiben bei unvollständigen Zeilen leer.
A3: Planungswoche | B3: =Parameter!$B$3
A4: Plan-ID | B4: Datum | C4: Wochentag | D4: Mitarbeitende | E4: Rolle | F4: Bereich | G4: Schicht | H4: Beginn | I4: Ende | J4: Pause (Min.) | K4: Planstunden | L4: Stundenlohn | M4: Plankosten | N4: Status | O4: Prüfhinweis
A5: PLAN-001 | B5: 46272 | C5: =IF(B5="","",CHOOSE(WEEKDAY(B5,2),"Mo","Di","Mi","Do","Fr","Sa","So")) | D5: Kunstfigur Alva Nord | E5: =IF(D5="","",IFERROR(VLOOKUP(D5,Parameter!$A$11:$D$110,2,FALSE),"Nicht gefunden")) | F5: Gastraum | G5: Früh | H5: 0.33333333 | I5: 0.58333333 | J5: 30 | K5: =IF(OR(H5="",I5=""),"",MAX(0,MOD(I5-H5,1)*24-IF(J5="",0,J5)/60)) | L5: =IF(D5="","",IFERROR(VLOOKUP(D5,Parameter!$A$11:$D$110,4,FALSE),"")) | M5: =IF(OR(K5="",L5=""),"",K5*L5) | N5: Bestätigt | O5: =IF(COUNTA(A5,B5,D5,F5,G5,H5,I5,J5,N5)=0,"",IF(OR(A5="",B5="",D5="",F5="",G5="",H5="",I5="",J5="",N5=""),"Angaben fehlen",IF(E5="Nicht gefunden","Mitarbeitende prüfen",IF(OR(B5<Parameter!$B$3,B5>Parameter!$B$3+6),"Außerhalb Planwoche",IF(K5>Parameter!$B$4,"Dauer prüfen",IF(AND(OR(N5="Geplant",N5="Bestätigt"),COUNTIFS($B$5:$B$104,B5,$D$5:$D$104,D5,$N$5:$N$104,"Geplant")+COUNTIFS($B$5:$B$104,B5,$D$5:$D$104,D5,$N$5:$N$104,"Bestätigt")>1),"Mehrfachplanung prüfen","OK"))))))
A6: PLAN-002 | B6: 46272 | C6: =IF(B6="","",CHOOSE(WEEKDAY(B6,2),"Mo","Di","Mi","Do","Fr","Sa","So")) | D6: Testperson Bero Süd | E6: =IF(D6="","",IFERROR(VLOOKUP(D6,Parameter!$A$11:$D$110,2,FALSE),"Nicht gefunden")) | F6: Küche warm | G6: Früh | H6: 0.29166667 | I6: 0.64583333 | J6: 30 | K6: =IF(OR(H6="",I6=""),"",MAX(0,MOD(I6-H6,1)*24-IF(J6="",0,J6)/60)) | L6: =IF(D6="","",IFERROR(VLOOKUP(D6,Parameter!$A$11:$D$110,4,FALSE),"")) | M6: =IF(OR(K6="",L6=""),"",K6*L6) | N6: Bestätigt | O6: =IF(COUNTA(A6,B6,D6,F6,G6,H6,I6,J6,N6)=0,"",IF(OR(A6="",B6="",D6="",F6="",G6="",H6="",I6="",J6="",N6=""),"Angaben fehlen",IF(E6="Nicht gefunden","Mitarbeitende prüfen",IF(OR(B6<Parameter!$B$3,B6>Parameter!$B$3+6),"Außerhalb Planwoche",IF(K6>Parameter!$B$4,"Dauer prüfen",IF(AND(OR(N6="Geplant",N6="Bestätigt"),COUNTIFS($B$5:$B$104,B6,$D$5:$D$104,D6,$N$5:$N$104,"Geplant")+COUNTIFS($B$5:$B$104,B6,$D$5:$D$104,D6,$N$5:$N$104,"Bestätigt")>1),"Mehrfachplanung prüfen","OK"))))))
A7: PLAN-003 | B7: 46273 | C7: =IF(B7="","",CHOOSE(WEEKDAY(B7,2),"Mo","Di","Mi","Do","Fr","Sa","So")) | D7: Fantasiename Cora West | E7: =IF(D7="","",IFERROR(VLOOKUP(D7,Parameter!$A$11:$D$110,2,FALSE),"Nicht gefunden")) | F7: Bar | G7: Spät | H7: 0.70833333 | I7: 0.95833333 | J7: 20 | K7: =IF(OR(H7="",I7=""),"",MAX(0,MOD(I7-H7,1)*24-IF(J7="",0,J7)/60)) | L7: =IF(D7="","",IFERROR(VLOOKUP(D7,Parameter!$A$11:$D$110,4,FALSE),"")) | M7: =IF(OR(K7="",L7=""),"",K7*L7) | N7: Abgesagt | O7: =IF(COUNTA(A7,B7,D7,F7,G7,H7,I7,J7,N7)=0,"",IF(OR(A7="",B7="",D7="",F7="",G7="",H7="",I7="",J7="",N7=""),"Angaben fehlen",IF(E7="Nicht gefunden","Mitarbeitende prüfen",IF(OR(B7<Parameter!$B$3,B7>Parameter!$B$3+6),"Außerhalb Planwoche",IF(K7>Parameter!$B$4,"Dauer prüfen",IF(AND(OR(N7="Geplant",N7="Bestätigt"),COUNTIFS($B$5:$B$104,B7,$D$5:$D$104,D7,$N$5:$N$104,"Geplant")+COUNTIFS($B$5:$B$104,B7,$D$5:$D$104,D7,$N$5:$N$104,"Bestätigt")>1),"Mehrfachplanung prüfen","OK"))))))
A8: PLAN-004 | B8: 46274 | C8: =IF(B8="","",CHOOSE(WEEKDAY(B8,2),"Mo","Di","Mi","Do","Fr","Sa","So")) | D8: Demofigur Dario Ost | E8: =IF(D8="","",IFERROR(VLOOKUP(D8,Parameter!$A$11:$D$110,2,FALSE),"Nicht gefunden")) | F8: Gastraum | G8: Mittel | H8: 0.45833333 | I8: 0.79166667 | J8: 30 | K8: =IF(OR(H8="",I8=""),"",MAX(0,MOD(I8-H8,1)*24-IF(J8="",0,J8)/60)) | L8: =IF(D8="","",IFERROR(VLOOKUP(D8,Parameter!$A$11:$D$110,4,FALSE),"")) | M8: =IF(OR(K8="",L8=""),"",K8*L8) | N8: Bestätigt | O8: =IF(COUNTA(A8,B8,D8,F8,G8,H8,I8,J8,N8)=0,"",IF(OR(A8="",B8="",D8="",F8="",G8="",H8="",I8="",J8="",N8=""),"Angaben fehlen",IF(E8="Nicht gefunden","Mitarbeitende prüfen",IF(OR(B8<Parameter!$B$3,B8>Parameter!$B$3+6),"Außerhalb Planwoche",IF(K8>Parameter!$B$4,"Dauer prüfen",IF(AND(OR(N8="Geplant",N8="Bestätigt"),COUNTIFS($B$5:$B$104,B8,$D$5:$D$104,D8,$N$5:$N$104,"Geplant")+COUNTIFS($B$5:$B$104,B8,$D$5:$D$104,D8,$N$5:$N$104,"Bestätigt")>1),"Mehrfachplanung prüfen","OK"))))))
A9: PLAN-005 | B9: 46275 | C9: =IF(B9="","",CHOOSE(WEEKDAY(B9,2),"Mo","Di","Mi","Do","Fr","Sa","So")) | D9: Beispielwesen Elin Blau | E9: =IF(D9="","",IFERROR(VLOOKUP(D9,Parameter!$A$11:$D$110,2,FALSE),"Nicht gefunden")) | F9: Küche kalt | G9: Mittel | H9: 0.41666667 | I9: 0.66666667 | J9: 20 | K9: =IF(OR(H9="",I9=""),"",MAX(0,MOD(I9-H9,1)*24-IF(J9="",0,J9)/60)) | L9: =IF(D9="","",IFERROR(VLOOKUP(D9,Parameter!$A$11:$D$110,4,FALSE),"")) | M9: =IF(OR(K9="",L9=""),"",K9*L9) | N9: Geplant | O9: =IF(COUNTA(A9,B9,D9,F9,G9,H9,I9,J9,N9)=0,"",IF(OR(A9="",B9="",D9="",F9="",G9="",H9="",I9="",J9="",N9=""),"Angaben fehlen",IF(E9="Nicht gefunden","Mitarbeitende prüfen",IF(OR(B9<Parameter!$B$3,B9>Parameter!$B$3+6),"Außerhalb Planwoche",IF(K9>Parameter!$B$4,"Dauer prüfen",IF(AND(OR(N9="Geplant",N9="Bestätigt"),COUNTIFS($B$5:$B$104,B9,$D$5:$D$104,D9,$N$5:$N$104,"Geplant")+COUNTIFS($B$5:$B$104,B9,$D$5:$D$104,D9,$N$5:$N$104,"Bestätigt")>1),"Mehrfachplanung prüfen","OK"))))))
A10: PLAN-006 | B10: 46276 | C10: =IF(B10="","",CHOOSE(WEEKDAY(B10,2),"Mo","Di","Mi","Do","Fr","Sa","So")) | D10: Fiktivkraft Fero Grün | E10: =IF(D10="","",IFERROR(VLOOKUP(D10,Parameter!$A$11:$D$110,2,FALSE),"Nicht gefunden")) | F10: Spüle | G10: Spät | H10: 0.66666667 | I10: 0.041666667 | J10: 30 | K10: =IF(OR(H10="",I10=""),"",MAX(0,MOD(I10-H10,1)*24-IF(J10="",0,J10)/60)) | L10: =IF(D10="","",IFERROR(VLOOKUP(D10,Parameter!$A$11:$D$110,4,FALSE),"")) | M10: =IF(OR(K10="",L10=""),"",K10*L10) | N10: Bestätigt | O10: =IF(COUNTA(A10,B10,D10,F10,G10,H10,I10,J10,N10)=0,"",IF(OR(A10="",B10="",D10="",F10="",G10="",H10="",I10="",J10="",N10=""),"Angaben fehlen",IF(E10="Nicht gefunden","Mitarbeitende prüfen",IF(OR(B10<Parameter!$B$3,B10>Parameter!$B$3+6),"Außerhalb Planwoche",IF(K10>Parameter!$B$4,"Dauer prüfen",IF(AND(OR(N10="Geplant",N10="Bestätigt"),COUNTIFS($B$5:$B$104,B10,$D$5:$D$104,D10,$N$5:$N$104,"Geplant")+COUNTIFS($B$5:$B$104,B10,$D$5:$D$104,D10,$N$5:$N$104,"Bestätigt")>1),"Mehrfachplanung prüfen","OK"))))))
A11: PLAN-007 | B11: 46277 | C11: =IF(B11="","",CHOOSE(WEEKDAY(B11,2),"Mo","Di","Mi","Do","Fr","Sa","So")) | D11: Mustergestalt Gesa Rot | E11: =IF(D11="","",IFERROR(VLOOKUP(D11,Parameter!$A$11:$D$110,2,FALSE),"Nicht gefunden")) | F11: Veranstaltung | G11: Event | H11: 0.5 | I11: 0.97916667 | J11: 30 | K11: =IF(OR(H11="",I11=""),"",MAX(0,MOD(I11-H11,1)*24-IF(J11="",0,J11)/60)) | L11: =IF(D11="","",IFERROR(VLOOKUP(D11,Parameter!$A$11:$D$110,4,FALSE),"")) | M11: =IF(OR(K11="",L11=""),"",K11*L11) | N11: Bestätigt | O11: =IF(COUNTA(A11,B11,D11,F11,G11,H11,I11,J11,N11)=0,"",IF(OR(A11="",B11="",D11="",F11="",G11="",H11="",I11="",J11="",N11=""),"Angaben fehlen",IF(E11="Nicht gefunden","Mitarbeitende prüfen",IF(OR(B11<Parameter!$B$3,B11>Parameter!$B$3+6),"Außerhalb Planwoche",IF(K11>Parameter!$B$4,"Dauer prüfen",IF(AND(OR(N11="Geplant",N11="Bestätigt"),COUNTIFS($B$5:$B$104,B11,$D$5:$D$104,D11,$N$5:$N$104,"Geplant")+COUNTIFS($B$5:$B$104,B11,$D$5:$D$104,D11,$N$5:$N$104,"Bestätigt")>1),"Mehrfachplanung prüfen","OK"))))))
A12: PLAN-008 | B12: 46277 | C12: =IF(B12="","",CHOOSE(WEEKDAY(B12,2),"Mo","Di","Mi","Do","Fr","Sa","So")) | D12: Kunstfigur Alva Nord | E12: =IF(D12="","",IFERROR(VLOOKUP(D12,Parameter!$A$11:$D$110,2,FALSE),"Nicht gefunden")) | F12: Terrasse | G12: Spät | H12: 0.70833333 | I12: 0.95833333 | J12: 20 | K12: =IF(OR(H12="",I12=""),"",MAX(0,MOD(I12-H12,1)*24-IF(J12="",0,J12)/60)) | L12: =IF(D12="","",IFERROR(VLOOKUP(D12,Parameter!$A$11:$D$110,4,FALSE),"")) | M12: =IF(OR(K12="",L12=""),"",K12*L12) | N12: Bestätigt | O12: =IF(COUNTA(A12,B12,D12,F12,G12,H12,I12,J12,N12)=0,"",IF(OR(A12="",B12="",D12="",F12="",G12="",H12="",I12="",J12="",N12=""),"Angaben fehlen",IF(E12="Nicht gefunden","Mitarbeitende prüfen",IF(OR(B12<Parameter!$B$3,B12>Parameter!$B$3+6),"Außerhalb Planwoche",IF(K12>Parameter!$B$4,"Dauer prüfen",IF(AND(OR(N12="Geplant",N12="Bestätigt"),COUNTIFS($B$5:$B$104,B12,$D$5:$D$104,D12,$N$5:$N$104,"Geplant")+COUNTIFS($B$5:$B$104,B12,$D$5:$D$104,D12,$N$5:$N$104,"Bestätigt")>1),"Mehrfachplanung prüfen","OK"))))))
A13: PLAN-009 | B13: 46278 | C13: =IF(B13="","",CHOOSE(WEEKDAY(B13,2),"Mo","Di","Mi","Do","Fr","Sa","So")) | D13: Probekraft Hanno Gold | E13: =IF(D13="","",IFERROR(VLOOKUP(D13,Parameter!$A$11:$D$110,2,FALSE),"Nicht gefunden")) | F13: Veranstaltung | G13: Event | H13: 0.41666667 | I13: 0.75 | J13: 30 | K13: =IF(OR(H13="",I13=""),"",MAX(0,MOD(I13-H13,1)*24-IF(J13="",0,J13)/60)) | L13: =IF(D13="","",IFERROR(VLOOKUP(D13,Parameter!$A$11:$D$110,4,FALSE),"")) | M13: =IF(OR(K13="",L13=""),"",K13*L13) | N13: Geplant | O13: =IF(COUNTA(A13,B13,D13,F13,G13,H13,I13,J13,N13)=0,"",IF(OR(A13="",B13="",D13="",F13="",G13="",H13="",I13="",J13="",N13=""),"Angaben fehlen",IF(E13="Nicht gefunden","Mitarbeitende prüfen",IF(OR(B13<Parameter!$B$3,B13>Parameter!$B$3+6),"Außerhalb Planwoche",IF(K13>Parameter!$B$4,"Dauer prüfen",IF(AND(OR(N13="Geplant",N13="Bestätigt"),COUNTIFS($B$5:$B$104,B13,$D$5:$D$104,D13,$N$5:$N$104,"Geplant")+COUNTIFS($B$5:$B$104,B13,$D$5:$D$104,D13,$N$5:$N$104,"Bestätigt")>1),"Mehrfachplanung prüfen","OK"))))))
A14: PLAN-010 | B14: 46277 | C14: =IF(B14="","",CHOOSE(WEEKDAY(B14,2),"Mo","Di","Mi","Do","Fr","Sa","So")) | D14: Kunstfigur Alva Nord | E14: =IF(D14="","",IFERROR(VLOOKUP(D14,Parameter!$A$11:$D$110,2,FALSE),"Nicht gefunden")) | G14: Spät | H14: 0.875 | I14: 0.97916667 | J14: 0 | K14: =IF(OR(H14="",I14=""),"",MAX(0,MOD(I14-H14,1)*24-IF(J14="",0,J14)/60)) | L14: =IF(D14="","",IFERROR(VLOOKUP(D14,Parameter!$A$11:$D$110,4,FALSE),"")) | M14: =IF(OR(K14="",L14=""),"",K14*L14) | N14: Geplant | O14: =IF(COUNTA(A14,B14,D14,F14,G14,H14,I14,J14,N14)=0,"",IF(OR(A14="",B14="",D14="",F14="",G14="",H14="",I14="",J14="",N14=""),"Angaben fehlen",IF(E14="Nicht gefunden","Mitarbeitende prüfen",IF(OR(B14<Parameter!$B$3,B14>Parameter!$B$3+6),"Außerhalb Planwoche",IF(K14>Parameter!$B$4,"Dauer prüfen",IF(AND(OR(N14="Geplant",N14="Bestätigt"),COUNTIFS($B$5:$B$104,B14,$D$5:$D$104,D14,$N$5:$N$104,"Geplant")+COUNTIFS($B$5:$B$104,B14,$D$5:$D$104,D14,$N$5:$N$104,"Bestätigt")>1),"Mehrfachplanung prüfen","OK"))))))
C15: =IF(B15="","",CHOOSE(WEEKDAY(B15,2),"Mo","Di","Mi","Do","Fr","Sa","So")) | E15: =IF(D15="","",IFERROR(VLOOKUP(D15,Parameter!$A$11:$D$110,2,FALSE),"Nicht gefunden")) | K15: =IF(OR(H15="",I15=""),"",MAX(0,MOD(I15-H15,1)*24-IF(J15="",0,J15)/60)) | L15: =IF(D15="","",IFERROR(VLOOKUP(D15,Parameter!$A$11:$D$110,4,FALSE),"")) | M15: =IF(OR(K15="",L15=""),"",K15*L15) | O15: =IF(COUNTA(A15,B15,D15,F15,G15,H15,I15,J15,N15)=0,"",IF(OR(A15="",B15="",D15="",F15="",G15="",H15="",I15="",J15="",N15=""),"Angaben fehlen",IF(E15="Nicht gefunden","Mitarbeitende prüfen",IF(OR(B15<Parameter!$B$3,B15>Parameter!$B$3+6),"Außerhalb Planwoche",IF(K15>Parameter!$B$4,"Dauer prüfen",IF(AND(OR(N15="Geplant",N15="Bestätigt"),COUNTIFS($B$5:$B$104,B15,$D$5:$D$104,D15,$N$5:$N$104,"Geplant")+COUNTIFS($B$5:$B$104,B15,$D$5:$D$104,D15,$N$5:$N$104,"Bestätigt")>1),"Mehrfachplanung prüfen","OK"))))))
C16: =IF(B16="","",CHOOSE(WEEKDAY(B16,2),"Mo","Di","Mi","Do","Fr","Sa","So")) | E16: =IF(D16="","",IFERROR(VLOOKUP(D16,Parameter!$A$11:$D$110,2,FALSE),"Nicht gefunden")) | K16: =IF(OR(H16="",I16=""),"",MAX(0,MOD(I16-H16,1)*24-IF(J16="",0,J16)/60)) | L16: =IF(D16="","",IFERROR(VLOOKUP(D16,Parameter!$A$11:$D$110,4,FALSE),"")) | M16: =IF(OR(K16="",L16=""),"",K16*L16) | O16: =IF(COUNTA(A16,B16,D16,F16,G16,H16,I16,J16,N16)=0,"",IF(OR(A16="",B16="",D16="",F16="",G16="",H16="",I16="",J16="",N16=""),"Angaben fehlen",IF(E16="Nicht gefunden","Mitarbeitende prüfen",IF(OR(B16<Parameter!$B$3,B16>Parameter!$B$3+6),"Außerhalb Planwoche",IF(K16>Parameter!$B$4,"Dauer prüfen",IF(AND(OR(N16="Geplant",N16="Bestätigt"),COUNTIFS($B$5:$B$104,B16,$D$5:$D$104,D16,$N$5:$N$104,"Geplant")+COUNTIFS($B$5:$B$104,B16,$D$5:$D$104,D16,$N$5:$N$104,"Bestätigt")>1),"Mehrfachplanung prüfen","OK"))))))
C17: =IF(B17="","",CHOOSE(WEEKDAY(B17,2),"Mo","Di","Mi","Do","Fr","Sa","So")) | E17: =IF(D17="","",IFERROR(VLOOKUP(D17,Parameter!$A$11:$D$110,2,FALSE),"Nicht gefunden")) | K17: =IF(OR(H17="",I17=""),"",MAX(0,MOD(I17-H17,1)*24-IF(J17="",0,J17)/60)) | L17: =IF(D17="","",IFERROR(VLOOKUP(D17,Parameter!$A$11:$D$110,4,FALSE),"")) | M17: =IF(OR(K17="",L17=""),"",K17*L17) | O17: =IF(COUNTA(A17,B17,D17,F17,G17,H17,I17,J17,N17)=0,"",IF(OR(A17="",B17="",D17="",F17="",G17="",H17="",I17="",J17="",N17=""),"Angaben fehlen",IF(E17="Nicht gefunden","Mitarbeitende prüfen",IF(OR(B17<Parameter!$B$3,B17>Parameter!$B$3+6),"Außerhalb Planwoche",IF(K17>Parameter!$B$4,"Dauer prüfen",IF(AND(OR(N17="Geplant",N17="Bestätigt"),COUNTIFS($B$5:$B$104,B17,$D$5:$D$104,D17,$N$5:$N$104,"Geplant")+COUNTIFS($B$5:$B$104,B17,$D$5:$D$104,D17,$N$5:$N$104,"Bestätigt")>1),"Mehrfachplanung prüfen","OK"))))))
C18: =IF(B18="","",CHOOSE(WEEKDAY(B18,2),"Mo","Di","Mi","Do","Fr","Sa","So")) | E18: =IF(D18="","",IFERROR(VLOOKUP(D18,Parameter!$A$11:$D$110,2,FALSE),"Nicht gefunden")) | K18: =IF(OR(H18="",I18=""),"",MAX(0,MOD(I18-H18,1)*24-IF(J18="",0,J18)/60)) | L18: =IF(D18="","",IFERROR(VLOOKUP(D18,Parameter!$A$11:$D$110,4,FALSE),"")) | M18: =IF(OR(K18="",L18=""),"",K18*L18) | O18: =IF(COUNTA(A18,B18,D18,F18,G18,H18,I18,J18,N18)=0,"",IF(OR(A18="",B18="",D18="",F18="",G18="",H18="",I18="",J18="",N18=""),"Angaben fehlen",IF(E18="Nicht gefunden","Mitarbeitende prüfen",IF(OR(B18<Parameter!$B$3,B18>Parameter!$B$3+6),"Außerhalb Planwoche",IF(K18>Parameter!$B$4,"Dauer prüfen",IF(AND(OR(N18="Geplant",N18="Bestätigt"),COUNTIFS($B$5:$B$104,B18,$D$5:$D$104,D18,$N$5:$N$104,"Geplant")+COUNTIFS($B$5:$B$104,B18,$D$5:$D$104,D18,$N$5:$N$104,"Bestätigt")>1),"Mehrfachplanung prüfen","OK"))))))
C19: =IF(B19="","",CHOOSE(WEEKDAY(B19,2),"Mo","Di","Mi","Do","Fr","Sa","So")) | E19: =IF(D19="","",IFERROR(VLOOKUP(D19,Parameter!$A$11:$D$110,2,FALSE),"Nicht gefunden")) | K19: =IF(OR(H19="",I19=""),"",MAX(0,MOD(I19-H19,1)*24-IF(J19="",0,J19)/60)) | L19: =IF(D19="","",IFERROR(VLOOKUP(D19,Parameter!$A$11:$D$110,4,FALSE),"")) | M19: =IF(OR(K19="",L19=""),"",K19*L19) | O19: =IF(COUNTA(A19,B19,D19,F19,G19,H19,I19,J19,N19)=0,"",IF(OR(A19="",B19="",D19="",F19="",G19="",H19="",I19="",J19="",N19=""),"Angaben fehlen",IF(E19="Nicht gefunden","Mitarbeitende prüfen",IF(OR(B19<Parameter!$B$3,B19>Parameter!$B$3+6),"Außerhalb Planwoche",IF(K19>Parameter!$B$4,"Dauer prüfen",IF(AND(OR(N19="Geplant",N19="Bestätigt"),COUNTIFS($B$5:$B$104,B19,$D$5:$D$104,D19,$N$5:$N$104,"Geplant")+COUNTIFS($B$5:$B$104,B19,$D$5:$D$104,D19,$N$5:$N$104,"Bestätigt")>1),"Mehrfachplanung prüfen","OK"))))))
C20: =IF(B20="","",CHOOSE(WEEKDAY(B20,2),"Mo","Di","Mi","Do","Fr","Sa","So")) | E20: =IF(D20="","",IFERROR(VLOOKUP(D20,Parameter!$A$11:$D$110,2,FALSE),"Nicht gefunden")) | K20: =IF(OR(H20="",I20=""),"",MAX(0,MOD(I20-H20,1)*24-IF(J20="",0,J20)/60)) | L20: =IF(D20="","",IFERROR(VLOOKUP(D20,Parameter!$A$11:$D$110,4,FALSE),"")) | M20: =IF(OR(K20="",L20=""),"",K20*L20) | O20: =IF(COUNTA(A20,B20,D20,F20,G20,H20,I20,J20,N20)=0,"",IF(OR(A20="",B20="",D20="",F20="",G20="",H20="",I20="",J20="",N20=""),"Angaben fehlen",IF(E20="Nicht gefunden","Mitarbeitende prüfen",IF(OR(B20<Parameter!$B$3,B20>Parameter!$B$3+6),"Außerhalb Planwoche",IF(K20>Parameter!$B$4,"Dauer prüfen",IF(AND(OR(N20="Geplant",N20="Bestätigt"),COUNTIFS($B$5:$B$104,B20,$D$5:$D$104,D20,$N$5:$N$104,"Geplant")+COUNTIFS($B$5:$B$104,B20,$D$5:$D$104,D20,$N$5:$N$104,"Bestätigt")>1),"Mehrfachplanung prüfen","OK"))))))
C21: =IF(B21="","",CHOOSE(WEEKDAY(B21,2),"Mo","Di","Mi","Do","Fr","Sa","So")) | E21: =IF(D21="","",IFERROR(VLOOKUP(D21,Parameter!$A$11:$D$110,2,FALSE),"Nicht gefunden")) | K21: =IF(OR(H21="",I21=""),"",MAX(0,MOD(I21-H21,1)*24-IF(J21="",0,J21)/60)) | L21: =IF(D21="","",IFERROR(VLOOKUP(D21,Parameter!$A$11:$D$110,4,FALSE),"")) | M21: =IF(OR(K21="",L21=""),"",K21*L21) | O21: =IF(COUNTA(A21,B21,D21,F21,G21,H21,I21,J21,N21)=0,"",IF(OR(A21="",B21="",D21="",F21="",G21="",H21="",I21="",J21="",N21=""),"Angaben fehlen",IF(E21="Nicht gefunden","Mitarbeitende prüfen",IF(OR(B21<Parameter!$B$3,B21>Parameter!$B$3+6),"Außerhalb Planwoche",IF(K21>Parameter!$B$4,"Dauer prüfen",IF(AND(OR(N21="Geplant",N21="Bestätigt"),COUNTIFS($B$5:$B$104,B21,$D$5:$D$104,D21,$N$5:$N$104,"Geplant")+COUNTIFS($B$5:$B$104,B21,$D$5:$D$104,D21,$N$5:$N$104,"Bestätigt")>1),"Mehrfachplanung prüfen","OK"))))))
C22: =IF(B22="","",CHOOSE(WEEKDAY(B22,2),"Mo","Di","Mi","Do","Fr","Sa","So")) | E22: =IF(D22="","",IFERROR(VLOOKUP(D22,Parameter!$A$11:$D$110,2,FALSE),"Nicht gefunden")) | K22: =IF(OR(H22="",I22=""),"",MAX(0,MOD(I22-H22,1)*24-IF(J22="",0,J22)/60)) | L22: =IF(D22="","",IFERROR(VLOOKUP(D22,Parameter!$A$11:$D$110,4,FALSE),"")) | M22: =IF(OR(K22="",L22=""),"",K22*L22) | O22: =IF(COUNTA(A22,B22,D22,F22,G22,H22,I22,J22,N22)=0,"",IF(OR(A22="",B22="",D22="",F22="",G22="",H22="",I22="",J22="",N22=""),"Angaben fehlen",IF(E22="Nicht gefunden","Mitarbeitende prüfen",IF(OR(B22<Parameter!$B$3,B22>Parameter!$B$3+6),"Außerhalb Planwoche",IF(K22>Parameter!$B$4,"Dauer prüfen",IF(AND(OR(N22="Geplant",N22="Bestätigt"),COUNTIFS($B$5:$B$104,B22,$D$5:$D$104,D22,$N$5:$N$104,"Geplant")+COUNTIFS($B$5:$B$104,B22,$D$5:$D$104,D22,$N$5:$N$104,"Bestätigt")>1),"Mehrfachplanung prüfen","OK"))))))
C23: =IF(B23="","",CHOOSE(WEEKDAY(B23,2),"Mo","Di","Mi","Do","Fr","Sa","So")) | E23: =IF(D23="","",IFERROR(VLOOKUP(D23,Parameter!$A$11:$D$110,2,FALSE),"Nicht gefunden")) | K23: =IF(OR(H23="",I23=""),"",MAX(0,MOD(I23-H23,1)*24-IF(J23="",0,J23)/60)) | L23: =IF(D23="","",IFERROR(VLOOKUP(D23,Parameter!$A$11:$D$110,4,FALSE),"")) | M23: =IF(OR(K23="",L23=""),"",K23*L23) | O23: =IF(COUNTA(A23,B23,D23,F23,G23,H23,I23,J23,N23)=0,"",IF(OR(A23="",B23="",D23="",F23="",G23="",H23="",I23="",J23="",N23=""),"Angaben fehlen",IF(E23="Nicht gefunden","Mitarbeitende prüfen",IF(OR(B23<Parameter!$B$3,B23>Parameter!$B$3+6),"Außerhalb Planwoche",IF(K23>Parameter!$B$4,"Dauer prüfen",IF(AND(OR(N23="Geplant",N23="Bestätigt"),COUNTIFS($B$5:$B$104,B23,$D$5:$D$104,D23,$N$5:$N$104,"Geplant")+COUNTIFS($B$5:$B$104,B23,$D$5:$D$104,D23,$N$5:$N$104,"Bestätigt")>1),"Mehrfachplanung prüfen","OK"))))))
C24: =IF(B24="","",CHOOSE(WEEKDAY(B24,2),"Mo","Di","Mi","Do","Fr","Sa","So")) | E24: =IF(D24="","",IFERROR(VLOOKUP(D24,Parameter!$A$11:$D$110,2,FALSE),"Nicht gefunden")) | K24: =IF(OR(H24="",I24=""),"",MAX(0,MOD(I24-H24,1)*24-IF(J24="",0,J24)/60)) | L24: =IF(D24="","",IFERROR(VLOOKUP(D24,Parameter!$A$11:$D$110,4,FALSE),"")) | M24: =IF(OR(K24="",L24=""),"",K24*L24) | O24: =IF(COUNTA(A24,B24,D24,F24,G24,H24,I24,J24,N24)=0,"",IF(OR(A24="",B24="",D24="",F24="",G24="",H24="",I24="",J24="",N24=""),"Angaben fehlen",IF(E24="Nicht gefunden","Mitarbeitende prüfen",IF(OR(B24<Parameter!$B$3,B24>Parameter!$B$3+6),"Außerhalb Planwoche",IF(K24>Parameter!$B$4,"Dauer prüfen",IF(AND(OR(N24="Geplant",N24="Bestätigt"),COUNTIFS($B$5:$B$104,B24,$D$5:$D$104,D24,$N$5:$N$104,"Geplant")+COUNTIFS($B$5:$B$104,B24,$D$5:$D$104,D24,$N$5:$N$104,"Bestätigt")>1),"Mehrfachplanung prüfen","OK"))))))
C25: =IF(B25="","",CHOOSE(WEEKDAY(B25,2),"Mo","Di","Mi","Do","Fr","Sa","So")) | E25: =IF(D25="","",IFERROR(VLOOKUP(D25,Parameter!$A$11:$D$110,2,FALSE),"Nicht gefunden")) | K25: =IF(OR(H25="",I25=""),"",MAX(0,MOD(I25-H25,1)*24-IF(J25="",0,J25)/60)) | L25: =IF(D25="","",IFERROR(VLOOKUP(D25,Parameter!$A$11:$D$110,4,FALSE),"")) | M25: =IF(OR(K25="",L25=""),"",K25*L25) | O25: =IF(COUNTA(A25,B25,D25,F25,G25,H25,I25,J25,N25)=0,"",IF(OR(A25="",B25="",D25="",F25="",G25="",H25="",I25="",J25="",N25=""),"Angaben fehlen",IF(E25="Nicht gefunden","Mitarbeitende prüfen",IF(OR(B25<Parameter!$B$3,B25>Parameter!$B$3+6),"Außerhalb Planwoche",IF(K25>Parameter!$B$4,"Dauer prüfen",IF(AND(OR(N25="Geplant",N25="Bestätigt"),COUNTIFS($B$5:$B$104,B25,$D$5:$D$104,D25,$N$5:$N$104,"Geplant")+COUNTIFS($B$5:$B$104,B25,$D$5:$D$104,D25,$N$5:$N$104,"Bestätigt")>1),"Mehrfachplanung prüfen","OK"))))))
C26: =IF(B26="","",CHOOSE(WEEKDAY(B26,2),"Mo","Di","Mi","Do","Fr","Sa","So")) | E26: =IF(D26="","",IFERROR(VLOOKUP(D26,Parameter!$A$11:$D$110,2,FALSE),"Nicht gefunden")) | K26: =IF(OR(H26="",I26=""),"",MAX(0,MOD(I26-H26,1)*24-IF(J26="",0,J26)/60)) | L26: =IF(D26="","",IFERROR(VLOOKUP(D26,Parameter!$A$11:$D$110,4,FALSE),"")) | M26: =IF(OR(K26="",L26=""),"",K26*L26) | O26: =IF(COUNTA(A26,B26,D26,F26,G26,H26,I26,J26,N26)=0,"",IF(OR(A26="",B26="",D26="",F26="",G26="",H26="",I26="",J26="",N26=""),"Angaben fehlen",IF(E26="Nicht gefunden","Mitarbeitende prüfen",IF(OR(B26<Parameter!$B$3,B26>Parameter!$B$3+6),"Außerhalb Planwoche",IF(K26>Parameter!$B$4,"Dauer prüfen",IF(AND(OR(N26="Geplant",N26="Bestätigt"),COUNTIFS($B$5:$B$104,B26,$D$5:$D$104,D26,$N$5:$N$104,"Geplant")+COUNTIFS($B$5:$B$104,B26,$D$5:$D$104,D26,$N$5:$N$104,"Bestätigt")>1),"Mehrfachplanung prüfen","OK"))))))
... C104: =IF(B104="","",CHOOSE(WEEKDAY(B104,2),"Mo","Di","Mi","Do","Fr","Sa","So")) | E104: =IF(D104="","",IFERROR(VLOOKUP(D104,Parameter!$A$11:$D$110,2,FALSE),"Nicht gefunden")) | K104: =IF(OR(H104="",I104=""),"",MAX(0,MOD(I104-H104,1)*24-IF(J104="",0,J104)/60)) | L104: =IF(D104="","",IFERROR(VLOOKUP(D104,Parameter!$A$11:$D$110,4,FALSE),"")) | M104: =IF(OR(K104="",L104=""),"",K104*L104) | O104: =IF(COUNTA(A104,B104,D104,F104,G104,H104,I104,J104,N104)=0,"",IF(OR(A104="",B104="",D104="",F104="",G104="",H104="",I104="",J104="",N104=""),"Angaben fehlen",IF(E104="Nicht gefunden","Mitarbeitende prüfen",IF(OR(B104<Parameter!$B$3,B104>Parameter!$B$3+6),"Außerhalb Planwoche",IF(K104>Parameter!$B$4,"Dauer prüfen",IF(AND(OR(N104="Geplant",N104="Bestätigt"),COUNTIFS($B$5:$B$104,B104,$D$5:$D$104,D104,$N$5:$N$104,"Geplant")+COUNTIFS($B$5:$B$104,B104,$D$5:$D$104,D104,$N$5:$N$104,"Bestätigt")>1),"Mehrfachplanung prüfen","OK"))))))

Sheet Parameter
A1: Dienstplan Gastronomie – Parameter
A3: Planungswoche (Montag) | B3: 46272
A4: Maximale Planstunden je Schicht | B4: 10
A5: Warnung Überplanung ab | B5: 0.1
A6: Warnung Unterplanung ab | B6: 0.2
A10: Fiktive Mitarbeitende | B10: Rolle | C10: Wochenziel (h) | D10: Stundenlohn (€) | F10: Bereiche | G10: Rollen | H10: Schichten | I10: Statuswerte
A11: Kunstfigur Alva Nord | B11: Service | C11: 12 | D11: 15.2 | F11: Gastraum | G11: Service | H11: Früh | I11: Geplant
A12: Testperson Bero Süd | B12: Küche | C12: 8 | D12: 17.5 | F12: Terrasse | G12: Küche | H12: Mittel | I12: Bestätigt
A13: Fantasiename Cora West | B13: Bar | C13: 6 | D13: 15.8 | F13: Küche warm | G13: Bar | H13: Spät | I13: Abwesend
A14: Demofigur Dario Ost | B14: Service | C14: 8 | D14: 16 | F14: Küche kalt | G14: Spüle | H14: Event | I14: Abgesagt
A15: Beispielwesen Elin Blau | B15: Küche | C15: 6 | D15: 17 | F15: Bar | G15: Leitung
A16: Fiktivkraft Fero Grün | B16: Spüle | C16: 8.5 | D16: 14 | F16: Spüle | G16: Logistik
A17: Mustergestalt Gesa Rot | B17: Leitung | C17: 10 | D17: 22 | F17: Lager | G17: Aushilfe
A18: Probekraft Hanno Gold | B18: Logistik | C18: 8 | D18: 16.5 | F18: Veranstaltung
A19: Plansymbol Ira Silber | B19: Bar | C19: 8 | D19: 16
A20: Testfigur Joris Violett | B20: Service | C20: 6 | D20: 15
