Workbook

Sheet Übersicht
A1: Dienstplan Gastronomie – Übersicht
A2: Auswertungsstand | B2: =TODAY() | D2: Warnlage | E2: Anzahl
A3: Planungswoche | B3: =Parameter!$B$3 | D3: Warnungen in Planungswoche | E3: =B11
A4: Zeitraum bis | B4: =B3+6 | D4: Fehlende Angaben | E4: =COUNTIFS(Dienstplan!$B$5:$B$104,">="&$B$3,Dienstplan!$B$5:$B$104,"<="&$B$4,Dienstplan!$O$5:$O$104,"Angaben fehlen")
D5: Schichtdauer prüfen | E5: =COUNTIFS(Dienstplan!$B$5:$B$104,">="&$B$3,Dienstplan!$B$5:$B$104,"<="&$B$4,Dienstplan!$O$5:$O$104,"Dauer prüfen")
A6: Kennzahl | B6: Wert | D6: Mehrfachplanung prüfen | E6: =COUNTIFS(Dienstplan!$B$5:$B$104,">="&$B$3,Dienstplan!$B$5:$B$104,"<="&$B$4,Dienstplan!$O$5:$O$104,"Mehrfachplanung prüfen")
A7: Aktive Schichten | B7: =COUNTIFS(Dienstplan!$B$5:$B$104,">="&$B$3,Dienstplan!$B$5:$B$104,"<="&$B$4,Dienstplan!$N$5:$N$104,"Geplant")+COUNTIFS(Dienstplan!$B$5:$B$104,">="&$B$3,Dienstplan!$B$5:$B$104,"<="&$B$4,Dienstplan!$N$5:$N$104,"Bestätigt") | D7: Außerhalb Planungswoche | E7: =COUNTIF(Dienstplan!$O$5:$O$104,"Außerhalb Planwoche")
A8: Planstunden | B8: =SUMIFS(Dienstplan!$K$5:$K$104,Dienstplan!$B$5:$B$104,">="&$B$3,Dienstplan!$B$5:$B$104,"<="&$B$4,Dienstplan!$N$5:$N$104,"Geplant")+SUMIFS(Dienstplan!$K$5:$K$104,Dienstplan!$B$5:$B$104,">="&$B$3,Dienstplan!$B$5:$B$104,"<="&$B$4,Dienstplan!$N$5:$N$104,"Bestätigt") | D8: Teammitglieder über Ziel | E8: =COUNTIF($G$29:$G$128,"Über Ziel")
A9: Plankosten | B9: =SUMIFS(Dienstplan!$M$5:$M$104,Dienstplan!$B$5:$B$104,">="&$B$3,Dienstplan!$B$5:$B$104,"<="&$B$4,Dienstplan!$N$5:$N$104,"Geplant")+SUMIFS(Dienstplan!$M$5:$M$104,Dienstplan!$B$5:$B$104,">="&$B$3,Dienstplan!$B$5:$B$104,"<="&$B$4,Dienstplan!$N$5:$N$104,"Bestätigt")
A10: Bestätigte Schichten | B10: =COUNTIFS(Dienstplan!$B$5:$B$104,">="&$B$3,Dienstplan!$B$5:$B$104,"<="&$B$4,Dienstplan!$N$5:$N$104,"Bestätigt")
A11: Planwarnungen | B11: =COUNTIFS(Dienstplan!$B$5:$B$104,">="&$B$3,Dienstplan!$B$5:$B$104,"<="&$B$4,Dienstplan!$O$5:$O$104,"<>OK",Dienstplan!$O$5:$O$104,"<>")
A12: Abgesagte Einträge | B12: =COUNTIFS(Dienstplan!$B$5:$B$104,">="&$B$3,Dienstplan!$B$5:$B$104,"<="&$B$4,Dienstplan!$N$5:$N$104,"Abgesagt")
A16: Tagesauswertung
A17: Datum | B17: Tag | C17: Schichten | D17: Planstunden | E17: Plankosten | F17: Warnungen
A18: =$B$3+0 | B18: =CHOOSE(WEEKDAY(A18,2),"Mo","Di","Mi","Do","Fr","Sa","So") | C18: =COUNTIFS(Dienstplan!$B$5:$B$104,A18,Dienstplan!$N$5:$N$104,"Geplant")+COUNTIFS(Dienstplan!$B$5:$B$104,A18,Dienstplan!$N$5:$N$104,"Bestätigt") | D18: =SUMIFS(Dienstplan!$K$5:$K$104,Dienstplan!$B$5:$B$104,A18,Dienstplan!$N$5:$N$104,"Geplant")+SUMIFS(Dienstplan!$K$5:$K$104,Dienstplan!$B$5:$B$104,A18,Dienstplan!$N$5:$N$104,"Bestätigt") | E18: =SUMIFS(Dienstplan!$M$5:$M$104,Dienstplan!$B$5:$B$104,A18,Dienstplan!$N$5:$N$104,"Geplant")+SUMIFS(Dienstplan!$M$5:$M$104,Dienstplan!$B$5:$B$104,A18,Dienstplan!$N$5:$N$104,"Bestätigt") | F18: =COUNTIFS(Dienstplan!$B$5:$B$104,A18,Dienstplan!$O$5:$O$104,"<>OK",Dienstplan!$O$5:$O$104,"<>")
A19: =$B$3+1 | B19: =CHOOSE(WEEKDAY(A19,2),"Mo","Di","Mi","Do","Fr","Sa","So") | C19: =COUNTIFS(Dienstplan!$B$5:$B$104,A19,Dienstplan!$N$5:$N$104,"Geplant")+COUNTIFS(Dienstplan!$B$5:$B$104,A19,Dienstplan!$N$5:$N$104,"Bestätigt") | D19: =SUMIFS(Dienstplan!$K$5:$K$104,Dienstplan!$B$5:$B$104,A19,Dienstplan!$N$5:$N$104,"Geplant")+SUMIFS(Dienstplan!$K$5:$K$104,Dienstplan!$B$5:$B$104,A19,Dienstplan!$N$5:$N$104,"Bestätigt") | E19: =SUMIFS(Dienstplan!$M$5:$M$104,Dienstplan!$B$5:$B$104,A19,Dienstplan!$N$5:$N$104,"Geplant")+SUMIFS(Dienstplan!$M$5:$M$104,Dienstplan!$B$5:$B$104,A19,Dienstplan!$N$5:$N$104,"Bestätigt") | F19: =COUNTIFS(Dienstplan!$B$5:$B$104,A19,Dienstplan!$O$5:$O$104,"<>OK",Dienstplan!$O$5:$O$104,"<>")
A20: =$B$3+2 | B20: =CHOOSE(WEEKDAY(A20,2),"Mo","Di","Mi","Do","Fr","Sa","So") | C20: =COUNTIFS(Dienstplan!$B$5:$B$104,A20,Dienstplan!$N$5:$N$104,"Geplant")+COUNTIFS(Dienstplan!$B$5:$B$104,A20,Dienstplan!$N$5:$N$104,"Bestätigt") | D20: =SUMIFS(Dienstplan!$K$5:$K$104,Dienstplan!$B$5:$B$104,A20,Dienstplan!$N$5:$N$104,"Geplant")+SUMIFS(Dienstplan!$K$5:$K$104,Dienstplan!$B$5:$B$104,A20,Dienstplan!$N$5:$N$104,"Bestätigt") | E20: =SUMIFS(Dienstplan!$M$5:$M$104,Dienstplan!$B$5:$B$104,A20,Dienstplan!$N$5:$N$104,"Geplant")+SUMIFS(Dienstplan!$M$5:$M$104,Dienstplan!$B$5:$B$104,A20,Dienstplan!$N$5:$N$104,"Bestätigt") | F20: =COUNTIFS(Dienstplan!$B$5:$B$104,A20,Dienstplan!$O$5:$O$104,"<>OK",Dienstplan!$O$5:$O$104,"<>")
A21: =$B$3+3 | B21: =CHOOSE(WEEKDAY(A21,2),"Mo","Di","Mi","Do","Fr","Sa","So") | C21: =COUNTIFS(Dienstplan!$B$5:$B$104,A21,Dienstplan!$N$5:$N$104,"Geplant")+COUNTIFS(Dienstplan!$B$5:$B$104,A21,Dienstplan!$N$5:$N$104,"Bestätigt") | D21: =SUMIFS(Dienstplan!$K$5:$K$104,Dienstplan!$B$5:$B$104,A21,Dienstplan!$N$5:$N$104,"Geplant")+SUMIFS(Dienstplan!$K$5:$K$104,Dienstplan!$B$5:$B$104,A21,Dienstplan!$N$5:$N$104,"Bestätigt") | E21: =SUMIFS(Dienstplan!$M$5:$M$104,Dienstplan!$B$5:$B$104,A21,Dienstplan!$N$5:$N$104,"Geplant")+SUMIFS(Dienstplan!$M$5:$M$104,Dienstplan!$B$5:$B$104,A21,Dienstplan!$N$5:$N$104,"Bestätigt") | F21: =COUNTIFS(Dienstplan!$B$5:$B$104,A21,Dienstplan!$O$5:$O$104,"<>OK",Dienstplan!$O$5:$O$104,"<>")
A22: =$B$3+4 | B22: =CHOOSE(WEEKDAY(A22,2),"Mo","Di","Mi","Do","Fr","Sa","So") | C22: =COUNTIFS(Dienstplan!$B$5:$B$104,A22,Dienstplan!$N$5:$N$104,"Geplant")+COUNTIFS(Dienstplan!$B$5:$B$104,A22,Dienstplan!$N$5:$N$104,"Bestätigt") | D22: =SUMIFS(Dienstplan!$K$5:$K$104,Dienstplan!$B$5:$B$104,A22,Dienstplan!$N$5:$N$104,"Geplant")+SUMIFS(Dienstplan!$K$5:$K$104,Dienstplan!$B$5:$B$104,A22,Dienstplan!$N$5:$N$104,"Bestätigt") | E22: =SUMIFS(Dienstplan!$M$5:$M$104,Dienstplan!$B$5:$B$104,A22,Dienstplan!$N$5:$N$104,"Geplant")+SUMIFS(Dienstplan!$M$5:$M$104,Dienstplan!$B$5:$B$104,A22,Dienstplan!$N$5:$N$104,"Bestätigt") | F22: =COUNTIFS(Dienstplan!$B$5:$B$104,A22,Dienstplan!$O$5:$O$104,"<>OK",Dienstplan!$O$5:$O$104,"<>")
A23: =$B$3+5 | B23: =CHOOSE(WEEKDAY(A23,2),"Mo","Di","Mi","Do","Fr","Sa","So") | C23: =COUNTIFS(Dienstplan!$B$5:$B$104,A23,Dienstplan!$N$5:$N$104,"Geplant")+COUNTIFS(Dienstplan!$B$5:$B$104,A23,Dienstplan!$N$5:$N$104,"Bestätigt") | D23: =SUMIFS(Dienstplan!$K$5:$K$104,Dienstplan!$B$5:$B$104,A23,Dienstplan!$N$5:$N$104,"Geplant")+SUMIFS(Dienstplan!$K$5:$K$104,Dienstplan!$B$5:$B$104,A23,Dienstplan!$N$5:$N$104,"Bestätigt") | E23: =SUMIFS(Dienstplan!$M$5:$M$104,Dienstplan!$B$5:$B$104,A23,Dienstplan!$N$5:$N$104,"Geplant")+SUMIFS(Dienstplan!$M$5:$M$104,Dienstplan!$B$5:$B$104,A23,Dienstplan!$N$5:$N$104,"Bestätigt") | F23: =COUNTIFS(Dienstplan!$B$5:$B$104,A23,Dienstplan!$O$5:$O$104,"<>OK",Dienstplan!$O$5:$O$104,"<>")
A24: =$B$3+6 | B24: =CHOOSE(WEEKDAY(A24,2),"Mo","Di","Mi","Do","Fr","Sa","So") | C24: =COUNTIFS(Dienstplan!$B$5:$B$104,A24,Dienstplan!$N$5:$N$104,"Geplant")+COUNTIFS(Dienstplan!$B$5:$B$104,A24,Dienstplan!$N$5:$N$104,"Bestätigt") | D24: =SUMIFS(Dienstplan!$K$5:$K$104,Dienstplan!$B$5:$B$104,A24,Dienstplan!$N$5:$N$104,"Geplant")+SUMIFS(Dienstplan!$K$5:$K$104,Dienstplan!$B$5:$B$104,A24,Dienstplan!$N$5:$N$104,"Bestätigt") | E24: =SUMIFS(Dienstplan!$M$5:$M$104,Dienstplan!$B$5:$B$104,A24,Dienstplan!$N$5:$N$104,"Geplant")+SUMIFS(Dienstplan!$M$5:$M$104,Dienstplan!$B$5:$B$104,A24,Dienstplan!$N$5:$N$104,"Bestätigt") | F24: =COUNTIFS(Dienstplan!$B$5:$B$104,A24,Dienstplan!$O$5:$O$104,"<>OK",Dienstplan!$O$5:$O$104,"<>")
A27: Wochenauswertung je fiktivem Teammitglied
A28: Fiktive Mitarbeitende | B28: Rolle | C28: Wochenziel | D28: Planstunden | E28: Abweichung | F28: Auslastung | G28: Hinweis
A29: =IF(Parameter!$A$11="","",Parameter!$A$11) | B29: =IF($A29="","",Parameter!$B$11) | C29: =IF(OR($A29="",Parameter!$C$11=""),"",Parameter!$C$11) | D29: =IF($A29="","",SUMIFS(Dienstplan!$K$5:$K$104,Dienstplan!$D$5:$D$104,$A29,Dienstplan!$B$5:$B$104,">="&$B$3,Dienstplan!$B$5:$B$104,"<="&$B$4,Dienstplan!$N$5:$N$104,"Geplant")+SUMIFS(Dienstplan!$K$5:$K$104,Dienstplan!$D$5:$D$104,$A29,Dienstplan!$B$5:$B$104,">="&$B$3,Dienstplan!$B$5:$B$104,"<="&$B$4,Dienstplan!$N$5:$N$104,"Bestätigt")) | E29: =IF(OR($A29="",$C29=""),"",$D29-$C29) | F29: =IF(OR($A29="",$C29=""),"",IFERROR($D29/$C29,"")) | G29: =IF($A29="","",IF($C29="","Ziel fehlt",IF($F29>1+Parameter!$B$5,"Über Ziel",IF($F29<1-Parameter!$B$6,"Unter Ziel","Im Rahmen"))))
A30: =IF(Parameter!$A$12="","",Parameter!$A$12) | B30: =IF($A30="","",Parameter!$B$12) | C30: =IF(OR($A30="",Parameter!$C$12=""),"",Parameter!$C$12) | D30: =IF($A30="","",SUMIFS(Dienstplan!$K$5:$K$104,Dienstplan!$D$5:$D$104,$A30,Dienstplan!$B$5:$B$104,">="&$B$3,Dienstplan!$B$5:$B$104,"<="&$B$4,Dienstplan!$N$5:$N$104,"Geplant")+SUMIFS(Dienstplan!$K$5:$K$104,Dienstplan!$D$5:$D$104,$A30,Dienstplan!$B$5:$B$104,">="&$B$3,Dienstplan!$B$5:$B$104,"<="&$B$4,Dienstplan!$N$5:$N$104,"Bestätigt")) | E30: =IF(OR($A30="",$C30=""),"",$D30-$C30) | F30: =IF(OR($A30="",$C30=""),"",IFERROR($D30/$C30,"")) | G30: =IF($A30="","",IF($C30="","Ziel fehlt",IF($F30>1+Parameter!$B$5,"Über Ziel",IF($F30<1-Parameter!$B$6,"Unter Ziel","Im Rahmen"))))
A31: =IF(Parameter!$A$13="","",Parameter!$A$13) | B31: =IF($A31="","",Parameter!$B$13) | C31: =IF(OR($A31="",Parameter!$C$13=""),"",Parameter!$C$13) | D31: =IF($A31="","",SUMIFS(Dienstplan!$K$5:$K$104,Dienstplan!$D$5:$D$104,$A31,Dienstplan!$B$5:$B$104,">="&$B$3,Dienstplan!$B$5:$B$104,"<="&$B$4,Dienstplan!$N$5:$N$104,"Geplant")+SUMIFS(Dienstplan!$K$5:$K$104,Dienstplan!$D$5:$D$104,$A31,Dienstplan!$B$5:$B$104,">="&$B$3,Dienstplan!$B$5:$B$104,"<="&$B$4,Dienstplan!$N$5:$N$104,"Bestätigt")) | E31: =IF(OR($A31="",$C31=""),"",$D31-$C31) | F31: =IF(OR($A31="",$C31=""),"",IFERROR($D31/$C31,"")) | G31: =IF($A31="","",IF($C31="","Ziel fehlt",IF($F31>1+Parameter!$B$5,"Über Ziel",IF($F31<1-Parameter!$B$6,"Unter Ziel","Im Rahmen"))))
A32: =IF(Parameter!$A$14="","",Parameter!$A$14) | B32: =IF($A32="","",Parameter!$B$14) | C32: =IF(OR($A32="",Parameter!$C$14=""),"",Parameter!$C$14) | D32: =IF($A32="","",SUMIFS(Dienstplan!$K$5:$K$104,Dienstplan!$D$5:$D$104,$A32,Dienstplan!$B$5:$B$104,">="&$B$3,Dienstplan!$B$5:$B$104,"<="&$B$4,Dienstplan!$N$5:$N$104,"Geplant")+SUMIFS(Dienstplan!$K$5:$K$104,Dienstplan!$D$5:$D$104,$A32,Dienstplan!$B$5:$B$104,">="&$B$3,Dienstplan!$B$5:$B$104,"<="&$B$4,Dienstplan!$N$5:$N$104,"Bestätigt")) | E32: =IF(OR($A32="",$C32=""),"",$D32-$C32) | F32: =IF(OR($A32="",$C32=""),"",IFERROR($D32/$C32,"")) | G32: =IF($A32="","",IF($C32="","Ziel fehlt",IF($F32>1+Parameter!$B$5,"Über Ziel",IF($F32<1-Parameter!$B$6,"Unter Ziel","Im Rahmen"))))
A33: =IF(Parameter!$A$15="","",Parameter!$A$15) | B33: =IF($A33="","",Parameter!$B$15) | C33: =IF(OR($A33="",Parameter!$C$15=""),"",Parameter!$C$15) | D33: =IF($A33="","",SUMIFS(Dienstplan!$K$5:$K$104,Dienstplan!$D$5:$D$104,$A33,Dienstplan!$B$5:$B$104,">="&$B$3,Dienstplan!$B$5:$B$104,"<="&$B$4,Dienstplan!$N$5:$N$104,"Geplant")+SUMIFS(Dienstplan!$K$5:$K$104,Dienstplan!$D$5:$D$104,$A33,Dienstplan!$B$5:$B$104,">="&$B$3,Dienstplan!$B$5:$B$104,"<="&$B$4,Dienstplan!$N$5:$N$104,"Bestätigt")) | E33: =IF(OR($A33="",$C33=""),"",$D33-$C33) | F33: =IF(OR($A33="",$C33=""),"",IFERROR($D33/$C33,"")) | G33: =IF($A33="","",IF($C33="","Ziel fehlt",IF($F33>1+Parameter!$B$5,"Über Ziel",IF($F33<1-Parameter!$B$6,"Unter Ziel","Im Rahmen"))))
A34: =IF(Parameter!$A$16="","",Parameter!$A$16) | B34: =IF($A34="","",Parameter!$B$16) | C34: =IF(OR($A34="",Parameter!$C$16=""),"",Parameter!$C$16) | D34: =IF($A34="","",SUMIFS(Dienstplan!$K$5:$K$104,Dienstplan!$D$5:$D$104,$A34,Dienstplan!$B$5:$B$104,">="&$B$3,Dienstplan!$B$5:$B$104,"<="&$B$4,Dienstplan!$N$5:$N$104,"Geplant")+SUMIFS(Dienstplan!$K$5:$K$104,Dienstplan!$D$5:$D$104,$A34,Dienstplan!$B$5:$B$104,">="&$B$3,Dienstplan!$B$5:$B$104,"<="&$B$4,Dienstplan!$N$5:$N$104,"Bestätigt")) | E34: =IF(OR($A34="",$C34=""),"",$D34-$C34) | F34: =IF(OR($A34="",$C34=""),"",IFERROR($D34/$C34,"")) | G34: =IF($A34="","",IF($C34="","Ziel fehlt",IF($F34>1+Parameter!$B$5,"Über Ziel",IF($F34<1-Parameter!$B$6,"Unter Ziel","Im Rahmen"))))
A35: =IF(Parameter!$A$17="","",Parameter!$A$17) | B35: =IF($A35="","",Parameter!$B$17) | C35: =IF(OR($A35="",Parameter!$C$17=""),"",Parameter!$C$17) | D35: =IF($A35="","",SUMIFS(Dienstplan!$K$5:$K$104,Dienstplan!$D$5:$D$104,$A35,Dienstplan!$B$5:$B$104,">="&$B$3,Dienstplan!$B$5:$B$104,"<="&$B$4,Dienstplan!$N$5:$N$104,"Geplant")+SUMIFS(Dienstplan!$K$5:$K$104,Dienstplan!$D$5:$D$104,$A35,Dienstplan!$B$5:$B$104,">="&$B$3,Dienstplan!$B$5:$B$104,"<="&$B$4,Dienstplan!$N$5:$N$104,"Bestätigt")) | E35: =IF(OR($A35="",$C35=""),"",$D35-$C35) | F35: =IF(OR($A35="",$C35=""),"",IFERROR($D35/$C35,"")) | G35: =IF($A35="","",IF($C35="","Ziel fehlt",IF($F35>1+Parameter!$B$5,"Über Ziel",IF($F35<1-Parameter!$B$6,"Unter Ziel","Im Rahmen"))))
A36: =IF(Parameter!$A$18="","",Parameter!$A$18) | B36: =IF($A36="","",Parameter!$B$18) | C36: =IF(OR($A36="",Parameter!$C$18=""),"",Parameter!$C$18) | D36: =IF($A36="","",SUMIFS(Dienstplan!$K$5:$K$104,Dienstplan!$D$5:$D$104,$A36,Dienstplan!$B$5:$B$104,">="&$B$3,Dienstplan!$B$5:$B$104,"<="&$B$4,Dienstplan!$N$5:$N$104,"Geplant")+SUMIFS(Dienstplan!$K$5:$K$104,Dienstplan!$D$5:$D$104,$A36,Dienstplan!$B$5:$B$104,">="&$B$3,Dienstplan!$B$5:$B$104,"<="&$B$4,Dienstplan!$N$5:$N$104,"Bestätigt")) | E36: =IF(OR($A36="",$C36=""),"",$D36-$C36) | F36: =IF(OR($A36="",$C36=""),"",IFERROR($D36/$C36,"")) | G36: =IF($A36="","",IF($C36="","Ziel fehlt",IF($F36>1+Parameter!$B$5,"Über Ziel",IF($F36<1-Parameter!$B$6,"Unter Ziel","Im Rahmen"))))
A37: =IF(Parameter!$A$19="","",Parameter!$A$19) | B37: =IF($A37="","",Parameter!$B$19) | C37: =IF(OR($A37="",Parameter!$C$19=""),"",Parameter!$C$19) | D37: =IF($A37="","",SUMIFS(Dienstplan!$K$5:$K$104,Dienstplan!$D$5:$D$104,$A37,Dienstplan!$B$5:$B$104,">="&$B$3,Dienstplan!$B$5:$B$104,"<="&$B$4,Dienstplan!$N$5:$N$104,"Geplant")+SUMIFS(Dienstplan!$K$5:$K$104,Dienstplan!$D$5:$D$104,$A37,Dienstplan!$B$5:$B$104,">="&$B$3,Dienstplan!$B$5:$B$104,"<="&$B$4,Dienstplan!$N$5:$N$104,"Bestätigt")) | E37: =IF(OR($A37="",$C37=""),"",$D37-$C37) | F37: =IF(OR($A37="",$C37=""),"",IFERROR($D37/$C37,"")) | G37: =IF($A37="","",IF($C37="","Ziel fehlt",IF($F37>1+Parameter!$B$5,"Über Ziel",IF($F37<1-Parameter!$B$6,"Unter Ziel","Im Rahmen"))))
A38: =IF(Parameter!$A$20="","",Parameter!$A$20) | B38: =IF($A38="","",Parameter!$B$20) | C38: =IF(OR($A38="",Parameter!$C$20=""),"",Parameter!$C$20) | D38: =IF($A38="","",SUMIFS(Dienstplan!$K$5:$K$104,Dienstplan!$D$5:$D$104,$A38,Dienstplan!$B$5:$B$104,">="&$B$3,Dienstplan!$B$5:$B$104,"<="&$B$4,Dienstplan!$N$5:$N$104,"Geplant")+SUMIFS(Dienstplan!$K$5:$K$104,Dienstplan!$D$5:$D$104,$A38,Dienstplan!$B$5:$B$104,">="&$B$3,Dienstplan!$B$5:$B$104,"<="&$B$4,Dienstplan!$N$5:$N$104,"Bestätigt")) | E38: =IF(OR($A38="",$C38=""),"",$D38-$C38) | F38: =IF(OR($A38="",$C38=""),"",IFERROR($D38/$C38,"")) | G38: =IF($A38="","",IF($C38="","Ziel fehlt",IF($F38>1+Parameter!$B$5,"Über Ziel",IF($F38<1-Parameter!$B$6,"Unter Ziel","Im Rahmen"))))
A39: =IF(Parameter!$A$21="","",Parameter!$A$21) | B39: =IF($A39="","",Parameter!$B$21) | C39: =IF(OR($A39="",Parameter!$C$21=""),"",Parameter!$C$21) | D39: =IF($A39="","",SUMIFS(Dienstplan!$K$5:$K$104,Dienstplan!$D$5:$D$104,$A39,Dienstplan!$B$5:$B$104,">="&$B$3,Dienstplan!$B$5:$B$104,"<="&$B$4,Dienstplan!$N$5:$N$104,"Geplant")+SUMIFS(Dienstplan!$K$5:$K$104,Dienstplan!$D$5:$D$104,$A39,Dienstplan!$B$5:$B$104,">="&$B$3,Dienstplan!$B$5:$B$104,"<="&$B$4,Dienstplan!$N$5:$N$104,"Bestätigt")) | E39: =IF(OR($A39="",$C39=""),"",$D39-$C39) | F39: =IF(OR($A39="",$C39=""),"",IFERROR($D39/$C39,"")) | G39: =IF($A39="","",IF($C39="","Ziel fehlt",IF($F39>1+Parameter!$B$5,"Über Ziel",IF($F39<1-Parameter!$B$6,"Unter Ziel","Im Rahmen"))))
A40: =IF(Parameter!$A$22="","",Parameter!$A$22) | B40: =IF($A40="","",Parameter!$B$22) | C40: =IF(OR($A40="",Parameter!$C$22=""),"",Parameter!$C$22) | D40: =IF($A40="","",SUMIFS(Dienstplan!$K$5:$K$104,Dienstplan!$D$5:$D$104,$A40,Dienstplan!$B$5:$B$104,">="&$B$3,Dienstplan!$B$5:$B$104,"<="&$B$4,Dienstplan!$N$5:$N$104,"Geplant")+SUMIFS(Dienstplan!$K$5:$K$104,Dienstplan!$D$5:$D$104,$A40,Dienstplan!$B$5:$B$104,">="&$B$3,Dienstplan!$B$5:$B$104,"<="&$B$4,Dienstplan!$N$5:$N$104,"Bestätigt")) | E40: =IF(OR($A40="",$C40=""),"",$D40-$C40) | F40: =IF(OR($A40="",$C40=""),"",IFERROR($D40/$C40,"")) | G40: =IF($A40="","",IF($C40="","Ziel fehlt",IF($F40>1+Parameter!$B$5,"Über Ziel",IF($F40<1-Parameter!$B$6,"Unter Ziel","Im Rahmen"))))
A41: =IF(Parameter!$A$23="","",Parameter!$A$23) | B41: =IF($A41="","",Parameter!$B$23) | C41: =IF(OR($A41="",Parameter!$C$23=""),"",Parameter!$C$23) | D41: =IF($A41="","",SUMIFS(Dienstplan!$K$5:$K$104,Dienstplan!$D$5:$D$104,$A41,Dienstplan!$B$5:$B$104,">="&$B$3,Dienstplan!$B$5:$B$104,"<="&$B$4,Dienstplan!$N$5:$N$104,"Geplant")+SUMIFS(Dienstplan!$K$5:$K$104,Dienstplan!$D$5:$D$104,$A41,Dienstplan!$B$5:$B$104,">="&$B$3,Dienstplan!$B$5:$B$104,"<="&$B$4,Dienstplan!$N$5:$N$104,"Bestätigt")) | E41: =IF(OR($A41="",$C41=""),"",$D41-$C41) | F41: =IF(OR($A41="",$C41=""),"",IFERROR($D41/$C41,"")) | G41: =IF($A41="","",IF($C41="","Ziel fehlt",IF($F41>1+Parameter!$B$5,"Über Ziel",IF($F41<1-Parameter!$B$6,"Unter Ziel","Im Rahmen"))))
A42: =IF(Parameter!$A$24="","",Parameter!$A$24) | B42: =IF($A42="","",Parameter!$B$24) | C42: =IF(OR($A42="",Parameter!$C$24=""),"",Parameter!$C$24) | D42: =IF($A42="","",SUMIFS(Dienstplan!$K$5:$K$104,Dienstplan!$D$5:$D$104,$A42,Dienstplan!$B$5:$B$104,">="&$B$3,Dienstplan!$B$5:$B$104,"<="&$B$4,Dienstplan!$N$5:$N$104,"Geplant")+SUMIFS(Dienstplan!$K$5:$K$104,Dienstplan!$D$5:$D$104,$A42,Dienstplan!$B$5:$B$104,">="&$B$3,Dienstplan!$B$5:$B$104,"<="&$B$4,Dienstplan!$N$5:$N$104,"Bestätigt")) | E42: =IF(OR($A42="",$C42=""),"",$D42-$C42) | F42: =IF(OR($A42="",$C42=""),"",IFERROR($D42/$C42,"")) | G42: =IF($A42="","",IF($C42="","Ziel fehlt",IF($F42>1+Parameter!$B$5,"Über Ziel",IF($F42<1-Parameter!$B$6,"Unter Ziel","Im Rahmen"))))
A43: =IF(Parameter!$A$25="","",Parameter!$A$25) | B43: =IF($A43="","",Parameter!$B$25) | C43: =IF(OR($A43="",Parameter!$C$25=""),"",Parameter!$C$25) | D43: =IF($A43="","",SUMIFS(Dienstplan!$K$5:$K$104,Dienstplan!$D$5:$D$104,$A43,Dienstplan!$B$5:$B$104,">="&$B$3,Dienstplan!$B$5:$B$104,"<="&$B$4,Dienstplan!$N$5:$N$104,"Geplant")+SUMIFS(Dienstplan!$K$5:$K$104,Dienstplan!$D$5:$D$104,$A43,Dienstplan!$B$5:$B$104,">="&$B$3,Dienstplan!$B$5:$B$104,"<="&$B$4,Dienstplan!$N$5:$N$104,"Bestätigt")) | E43: =IF(OR($A43="",$C43=""),"",$D43-$C43) | F43: =IF(OR($A43="",$C43=""),"",IFERROR($D43/$C43,"")) | G43: =IF($A43="","",IF($C43="","Ziel fehlt",IF($F43>1+Parameter!$B$5,"Über Ziel",IF($F43<1-Parameter!$B$6,"Unter Ziel","Im Rahmen"))))
A44: =IF(Parameter!$A$26="","",Parameter!$A$26) | B44: =IF($A44="","",Parameter!$B$26) | C44: =IF(OR($A44="",Parameter!$C$26=""),"",Parameter!$C$26) | D44: =IF($A44="","",SUMIFS(Dienstplan!$K$5:$K$104,Dienstplan!$D$5:$D$104,$A44,Dienstplan!$B$5:$B$104,">="&$B$3,Dienstplan!$B$5:$B$104,"<="&$B$4,Dienstplan!$N$5:$N$104,"Geplant")+SUMIFS(Dienstplan!$K$5:$K$104,Dienstplan!$D$5:$D$104,$A44,Dienstplan!$B$5:$B$104,">="&$B$3,Dienstplan!$B$5:$B$104,"<="&$B$4,Dienstplan!$N$5:$N$104,"Bestätigt")) | E44: =IF(OR($A44="",$C44=""),"",$D44-$C44) | F44: =IF(OR($A44="",$C44=""),"",IFERROR($D44/$C44,"")) | G44: =IF($A44="","",IF($C44="","Ziel fehlt",IF($F44>1+Parameter!$B$5,"Über Ziel",IF($F44<1-Parameter!$B$6,"Unter Ziel","Im Rahmen"))))
A45: =IF(Parameter!$A$27="","",Parameter!$A$27) | B45: =IF($A45="","",Parameter!$B$27) | C45: =IF(OR($A45="",Parameter!$C$27=""),"",Parameter!$C$27) | D45: =IF($A45="","",SUMIFS(Dienstplan!$K$5:$K$104,Dienstplan!$D$5:$D$104,$A45,Dienstplan!$B$5:$B$104,">="&$B$3,Dienstplan!$B$5:$B$104,"<="&$B$4,Dienstplan!$N$5:$N$104,"Geplant")+SUMIFS(Dienstplan!$K$5:$K$104,Dienstplan!$D$5:$D$104,$A45,Dienstplan!$B$5:$B$104,">="&$B$3,Dienstplan!$B$5:$B$104,"<="&$B$4,Dienstplan!$N$5:$N$104,"Bestätigt")) | E45: =IF(OR($A45="",$C45=""),"",$D45-$C45) | F45: =IF(OR($A45="",$C45=""),"",IFERROR($D45/$C45,"")) | G45: =IF($A45="","",IF($C45="","Ziel fehlt",IF($F45>1+Parameter!$B$5,"Über Ziel",IF($F45<1-Parameter!$B$6,"Unter Ziel","Im Rahmen"))))
A46: =IF(Parameter!$A$28="","",Parameter!$A$28) | B46: =IF($A46="","",Parameter!$B$28) | C46: =IF(OR($A46="",Parameter!$C$28=""),"",Parameter!$C$28) | D46: =IF($A46="","",SUMIFS(Dienstplan!$K$5:$K$104,Dienstplan!$D$5:$D$104,$A46,Dienstplan!$B$5:$B$104,">="&$B$3,Dienstplan!$B$5:$B$104,"<="&$B$4,Dienstplan!$N$5:$N$104,"Geplant")+SUMIFS(Dienstplan!$K$5:$K$104,Dienstplan!$D$5:$D$104,$A46,Dienstplan!$B$5:$B$104,">="&$B$3,Dienstplan!$B$5:$B$104,"<="&$B$4,Dienstplan!$N$5:$N$104,"Bestätigt")) | E46: =IF(OR($A46="",$C46=""),"",$D46-$C46) | F46: =IF(OR($A46="",$C46=""),"",IFERROR($D46/$C46,"")) | G46: =IF($A46="","",IF($C46="","Ziel fehlt",IF($F46>1+Parameter!$B$5,"Über Ziel",IF($F46<1-Parameter!$B$6,"Unter Ziel","Im Rahmen"))))
A47: =IF(Parameter!$A$29="","",Parameter!$A$29) | B47: =IF($A47="","",Parameter!$B$29) | C47: =IF(OR($A47="",Parameter!$C$29=""),"",Parameter!$C$29) | D47: =IF($A47="","",SUMIFS(Dienstplan!$K$5:$K$104,Dienstplan!$D$5:$D$104,$A47,Dienstplan!$B$5:$B$104,">="&$B$3,Dienstplan!$B$5:$B$104,"<="&$B$4,Dienstplan!$N$5:$N$104,"Geplant")+SUMIFS(Dienstplan!$K$5:$K$104,Dienstplan!$D$5:$D$104,$A47,Dienstplan!$B$5:$B$104,">="&$B$3,Dienstplan!$B$5:$B$104,"<="&$B$4,Dienstplan!$N$5:$N$104,"Bestätigt")) | E47: =IF(OR($A47="",$C47=""),"",$D47-$C47) | F47: =IF(OR($A47="",$C47=""),"",IFERROR($D47/$C47,"")) | G47: =IF($A47="","",IF($C47="","Ziel fehlt",IF($F47>1+Parameter!$B$5,"Über Ziel",IF($F47<1-Parameter!$B$6,"Unter Ziel","Im Rahmen"))))
A48: =IF(Parameter!$A$30="","",Parameter!$A$30) | B48: =IF($A48="","",Parameter!$B$30) | C48: =IF(OR($A48="",Parameter!$C$30=""),"",Parameter!$C$30) | D48: =IF($A48="","",SUMIFS(Dienstplan!$K$5:$K$104,Dienstplan!$D$5:$D$104,$A48,Dienstplan!$B$5:$B$104,">="&$B$3,Dienstplan!$B$5:$B$104,"<="&$B$4,Dienstplan!$N$5:$N$104,"Geplant")+SUMIFS(Dienstplan!$K$5:$K$104,Dienstplan!$D$5:$D$104,$A48,Dienstplan!$B$5:$B$104,">="&$B$3,Dienstplan!$B$5:$B$104,"<="&$B$4,Dienstplan!$N$5:$N$104,"Bestätigt")) | E48: =IF(OR($A48="",$C48=""),"",$D48-$C48) | F48: =IF(OR($A48="",$C48=""),"",IFERROR($D48/$C48,"")) | G48: =IF($A48="","",IF($C48="","Ziel fehlt",IF($F48>1+Parameter!$B$5,"Über Ziel",IF($F48<1-Parameter!$B$6,"Unter Ziel","Im Rahmen"))))
A49: =IF(Parameter!$A$31="","",Parameter!$A$31) | B49: =IF($A49="","",Parameter!$B$31) | C49: =IF(OR($A49="",Parameter!$C$31=""),"",Parameter!$C$31) | D49: =IF($A49="","",SUMIFS(Dienstplan!$K$5:$K$104,Dienstplan!$D$5:$D$104,$A49,Dienstplan!$B$5:$B$104,">="&$B$3,Dienstplan!$B$5:$B$104,"<="&$B$4,Dienstplan!$N$5:$N$104,"Geplant")+SUMIFS(Dienstplan!$K$5:$K$104,Dienstplan!$D$5:$D$104,$A49,Dienstplan!$B$5:$B$104,">="&$B$3,Dienstplan!$B$5:$B$104,"<="&$B$4,Dienstplan!$N$5:$N$104,"Bestätigt")) | E49: =IF(OR($A49="",$C49=""),"",$D49-$C49) | F49: =IF(OR($A49="",$C49=""),"",IFERROR($D49/$C49,"")) | G49: =IF($A49="","",IF($C49="","Ziel fehlt",IF($F49>1+Parameter!$B$5,"Über Ziel",IF($F49<1-Parameter!$B$6,"Unter Ziel","Im Rahmen"))))
A50: =IF(Parameter!$A$32="","",Parameter!$A$32) | B50: =IF($A50="","",Parameter!$B$32) | C50: =IF(OR($A50="",Parameter!$C$32=""),"",Parameter!$C$32) | D50: =IF($A50="","",SUMIFS(Dienstplan!$K$5:$K$104,Dienstplan!$D$5:$D$104,$A50,Dienstplan!$B$5:$B$104,">="&$B$3,Dienstplan!$B$5:$B$104,"<="&$B$4,Dienstplan!$N$5:$N$104,"Geplant")+SUMIFS(Dienstplan!$K$5:$K$104,Dienstplan!$D$5:$D$104,$A50,Dienstplan!$B$5:$B$104,">="&$B$3,Dienstplan!$B$5:$B$104,"<="&$B$4,Dienstplan!$N$5:$N$104,"Bestätigt")) | E50: =IF(OR($A50="",$C50=""),"",$D50-$C50) | F50: =IF(OR($A50="",$C50=""),"",IFERROR($D50/$C50,"")) | G50: =IF($A50="","",IF($C50="","Ziel fehlt",IF($F50>1+Parameter!$B$5,"Über Ziel",IF($F50<1-Parameter!$B$6,"Unter Ziel","Im Rahmen"))))
A51: =IF(Parameter!$A$33="","",Parameter!$A$33) | B51: =IF($A51="","",Parameter!$B$33) | C51: =IF(OR($A51="",Parameter!$C$33=""),"",Parameter!$C$33) | D51: =IF($A51="","",SUMIFS(Dienstplan!$K$5:$K$104,Dienstplan!$D$5:$D$104,$A51,Dienstplan!$B$5:$B$104,">="&$B$3,Dienstplan!$B$5:$B$104,"<="&$B$4,Dienstplan!$N$5:$N$104,"Geplant")+SUMIFS(Dienstplan!$K$5:$K$104,Dienstplan!$D$5:$D$104,$A51,Dienstplan!$B$5:$B$104,">="&$B$3,Dienstplan!$B$5:$B$104,"<="&$B$4,Dienstplan!$N$5:$N$104,"Bestätigt")) | E51: =IF(OR($A51="",$C51=""),"",$D51-$C51) | F51: =IF(OR($A51="",$C51=""),"",IFERROR($D51/$C51,"")) | G51: =IF($A51="","",IF($C51="","Ziel fehlt",IF($F51>1+Parameter!$B$5,"Über Ziel",IF($F51<1-Parameter!$B$6,"Unter Ziel","Im Rahmen"))))
A52: =IF(Parameter!$A$34="","",Parameter!$A$34) | B52: =IF($A52="","",Parameter!$B$34) | C52: =IF(OR($A52="",Parameter!$C$34=""),"",Parameter!$C$34) | D52: =IF($A52="","",SUMIFS(Dienstplan!$K$5:$K$104,Dienstplan!$D$5:$D$104,$A52,Dienstplan!$B$5:$B$104,">="&$B$3,Dienstplan!$B$5:$B$104,"<="&$B$4,Dienstplan!$N$5:$N$104,"Geplant")+SUMIFS(Dienstplan!$K$5:$K$104,Dienstplan!$D$5:$D$104,$A52,Dienstplan!$B$5:$B$104,">="&$B$3,Dienstplan!$B$5:$B$104,"<="&$B$4,Dienstplan!$N$5:$N$104,"Bestätigt")) | E52: =IF(OR($A52="",$C52=""),"",$D52-$C52) | F52: =IF(OR($A52="",$C52=""),"",IFERROR($D52/$C52,"")) | G52: =IF($A52="","",IF($C52="","Ziel fehlt",IF($F52>1+Parameter!$B$5,"Über Ziel",IF($F52<1-Parameter!$B$6,"Unter Ziel","Im Rahmen"))))
A53: =IF(Parameter!$A$35="","",Parameter!$A$35) | B53: =IF($A53="","",Parameter!$B$35) | C53: =IF(OR($A53="",Parameter!$C$35=""),"",Parameter!$C$35) | D53: =IF($A53="","",SUMIFS(Dienstplan!$K$5:$K$104,Dienstplan!$D$5:$D$104,$A53,Dienstplan!$B$5:$B$104,">="&$B$3,Dienstplan!$B$5:$B$104,"<="&$B$4,Dienstplan!$N$5:$N$104,"Geplant")+SUMIFS(Dienstplan!$K$5:$K$104,Dienstplan!$D$5:$D$104,$A53,Dienstplan!$B$5:$B$104,">="&$B$3,Dienstplan!$B$5:$B$104,"<="&$B$4,Dienstplan!$N$5:$N$104,"Bestätigt")) | E53: =IF(OR($A53="",$C53=""),"",$D53-$C53) | F53: =IF(OR($A53="",$C53=""),"",IFERROR($D53/$C53,"")) | G53: =IF($A53="","",IF($C53="","Ziel fehlt",IF($F53>1+Parameter!$B$5,"Über Ziel",IF($F53<1-Parameter!$B$6,"Unter Ziel","Im Rahmen"))))
A54: =IF(Parameter!$A$36="","",Parameter!$A$36) | B54: =IF($A54="","",Parameter!$B$36) | C54: =IF(OR($A54="",Parameter!$C$36=""),"",Parameter!$C$36) | D54: =IF($A54="","",SUMIFS(Dienstplan!$K$5:$K$104,Dienstplan!$D$5:$D$104,$A54,Dienstplan!$B$5:$B$104,">="&$B$3,Dienstplan!$B$5:$B$104,"<="&$B$4,Dienstplan!$N$5:$N$104,"Geplant")+SUMIFS(Dienstplan!$K$5:$K$104,Dienstplan!$D$5:$D$104,$A54,Dienstplan!$B$5:$B$104,">="&$B$3,Dienstplan!$B$5:$B$104,"<="&$B$4,Dienstplan!$N$5:$N$104,"Bestätigt")) | E54: =IF(OR($A54="",$C54=""),"",$D54-$C54) | F54: =IF(OR($A54="",$C54=""),"",IFERROR($D54/$C54,"")) | G54: =IF($A54="","",IF($C54="","Ziel fehlt",IF($F54>1+Parameter!$B$5,"Über Ziel",IF($F54<1-Parameter!$B$6,"Unter Ziel","Im Rahmen"))))
A55: =IF(Parameter!$A$37="","",Parameter!$A$37) | B55: =IF($A55="","",Parameter!$B$37) | C55: =IF(OR($A55="",Parameter!$C$37=""),"",Parameter!$C$37) | D55: =IF($A55="","",SUMIFS(Dienstplan!$K$5:$K$104,Dienstplan!$D$5:$D$104,$A55,Dienstplan!$B$5:$B$104,">="&$B$3,Dienstplan!$B$5:$B$104,"<="&$B$4,Dienstplan!$N$5:$N$104,"Geplant")+SUMIFS(Dienstplan!$K$5:$K$104,Dienstplan!$D$5:$D$104,$A55,Dienstplan!$B$5:$B$104,">="&$B$3,Dienstplan!$B$5:$B$104,"<="&$B$4,Dienstplan!$N$5:$N$104,"Bestätigt")) | E55: =IF(OR($A55="",$C55=""),"",$D55-$C55) | F55: =IF(OR($A55="",$C55=""),"",IFERROR($D55/$C55,"")) | G55: =IF($A55="","",IF($C55="","Ziel fehlt",IF($F55>1+Parameter!$B$5,"Über Ziel",IF($F55<1-Parameter!$B$6,"Unter Ziel","Im Rahmen"))))
A56: =IF(Parameter!$A$38="","",Parameter!$A$38) | B56: =IF($A56="","",Parameter!$B$38) | C56: =IF(OR($A56="",Parameter!$C$38=""),"",Parameter!$C$38) | D56: =IF($A56="","",SUMIFS(Dienstplan!$K$5:$K$104,Dienstplan!$D$5:$D$104,$A56,Dienstplan!$B$5:$B$104,">="&$B$3,Dienstplan!$B$5:$B$104,"<="&$B$4,Dienstplan!$N$5:$N$104,"Geplant")+SUMIFS(Dienstplan!$K$5:$K$104,Dienstplan!$D$5:$D$104,$A56,Dienstplan!$B$5:$B$104,">="&$B$3,Dienstplan!$B$5:$B$104,"<="&$B$4,Dienstplan!$N$5:$N$104,"Bestätigt")) | E56: =IF(OR($A56="",$C56=""),"",$D56-$C56) | F56: =IF(OR($A56="",$C56=""),"",IFERROR($D56/$C56,"")) | G56: =IF($A56="","",IF($C56="","Ziel fehlt",IF($F56>1+Parameter!$B$5,"Über Ziel",IF($F56<1-Parameter!$B$6,"Unter Ziel","Im Rahmen"))))
A57: =IF(Parameter!$A$39="","",Parameter!$A$39) | B57: =IF($A57="","",Parameter!$B$39) | C57: =IF(OR($A57="",Parameter!$C$39=""),"",Parameter!$C$39) | D57: =IF($A57="","",SUMIFS(Dienstplan!$K$5:$K$104,Dienstplan!$D$5:$D$104,$A57,Dienstplan!$B$5:$B$104,">="&$B$3,Dienstplan!$B$5:$B$104,"<="&$B$4,Dienstplan!$N$5:$N$104,"Geplant")+SUMIFS(Dienstplan!$K$5:$K$104,Dienstplan!$D$5:$D$104,$A57,Dienstplan!$B$5:$B$104,">="&$B$3,Dienstplan!$B$5:$B$104,"<="&$B$4,Dienstplan!$N$5:$N$104,"Bestätigt")) | E57: =IF(OR($A57="",$C57=""),"",$D57-$C57) | F57: =IF(OR($A57="",$C57=""),"",IFERROR($D57/$C57,"")) | G57: =IF($A57="","",IF($C57="","Ziel fehlt",IF($F57>1+Parameter!$B$5,"Über Ziel",IF($F57<1-Parameter!$B$6,"Unter Ziel","Im Rahmen"))))
A58: =IF(Parameter!$A$40="","",Parameter!$A$40) | B58: =IF($A58="","",Parameter!$B$40) | C58: =IF(OR($A58="",Parameter!$C$40=""),"",Parameter!$C$40) | D58: =IF($A58="","",SUMIFS(Dienstplan!$K$5:$K$104,Dienstplan!$D$5:$D$104,$A58,Dienstplan!$B$5:$B$104,">="&$B$3,Dienstplan!$B$5:$B$104,"<="&$B$4,Dienstplan!$N$5:$N$104,"Geplant")+SUMIFS(Dienstplan!$K$5:$K$104,Dienstplan!$D$5:$D$104,$A58,Dienstplan!$B$5:$B$104,">="&$B$3,Dienstplan!$B$5:$B$104,"<="&$B$4,Dienstplan!$N$5:$N$104,"Bestätigt")) | E58: =IF(OR($A58="",$C58=""),"",$D58-$C58) | F58: =IF(OR($A58="",$C58=""),"",IFERROR($D58/$C58,"")) | G58: =IF($A58="","",IF($C58="","Ziel fehlt",IF($F58>1+Parameter!$B$5,"Über Ziel",IF($F58<1-Parameter!$B$6,"Unter Ziel","Im Rahmen"))))
A59: =IF(Parameter!$A$41="","",Parameter!$A$41) | B59: =IF($A59="","",Parameter!$B$41) | C59: =IF(OR($A59="",Parameter!$C$41=""),"",Parameter!$C$41) | D59: =IF($A59="","",SUMIFS(Dienstplan!$K$5:$K$104,Dienstplan!$D$5:$D$104,$A59,Dienstplan!$B$5:$B$104,">="&$B$3,Dienstplan!$B$5:$B$104,"<="&$B$4,Dienstplan!$N$5:$N$104,"Geplant")+SUMIFS(Dienstplan!$K$5:$K$104,Dienstplan!$D$5:$D$104,$A59,Dienstplan!$B$5:$B$104,">="&$B$3,Dienstplan!$B$5:$B$104,"<="&$B$4,Dienstplan!$N$5:$N$104,"Bestätigt")) | E59: =IF(OR($A59="",$C59=""),"",$D59-$C59) | F59: =IF(OR($A59="",$C59=""),"",IFERROR($D59/$C59,"")) | G59: =IF($A59="","",IF($C59="","Ziel fehlt",IF($F59>1+Parameter!$B$5,"Über Ziel",IF($F59<1-Parameter!$B$6,"Unter Ziel","Im Rahmen"))))
A60: =IF(Parameter!$A$42="","",Parameter!$A$42) | B60: =IF($A60="","",Parameter!$B$42) | C60: =IF(OR($A60="",Parameter!$C$42=""),"",Parameter!$C$42) | D60: =IF($A60="","",SUMIFS(Dienstplan!$K$5:$K$104,Dienstplan!$D$5:$D$104,$A60,Dienstplan!$B$5:$B$104,">="&$B$3,Dienstplan!$B$5:$B$104,"<="&$B$4,Dienstplan!$N$5:$N$104,"Geplant")+SUMIFS(Dienstplan!$K$5:$K$104,Dienstplan!$D$5:$D$104,$A60,Dienstplan!$B$5:$B$104,">="&$B$3,Dienstplan!$B$5:$B$104,"<="&$B$4,Dienstplan!$N$5:$N$104,"Bestätigt")) | E60: =IF(OR($A60="",$C60=""),"",$D60-$C60) | F60: =IF(OR($A60="",$C60=""),"",IFERROR($D60/$C60,"")) | G60: =IF($A60="","",IF($C60="","Ziel fehlt",IF($F60>1+Parameter!$B$5,"Über Ziel",IF($F60<1-Parameter!$B$6,"Unter Ziel","Im Rahmen"))))
A61: =IF(Parameter!$A$43="","",Parameter!$A$43) | B61: =IF($A61="","",Parameter!$B$43) | C61: =IF(OR($A61="",Parameter!$C$43=""),"",Parameter!$C$43) | D61: =IF($A61="","",SUMIFS(Dienstplan!$K$5:$K$104,Dienstplan!$D$5:$D$104,$A61,Dienstplan!$B$5:$B$104,">="&$B$3,Dienstplan!$B$5:$B$104,"<="&$B$4,Dienstplan!$N$5:$N$104,"Geplant")+SUMIFS(Dienstplan!$K$5:$K$104,Dienstplan!$D$5:$D$104,$A61,Dienstplan!$B$5:$B$104,">="&$B$3,Dienstplan!$B$5:$B$104,"<="&$B$4,Dienstplan!$N$5:$N$104,"Bestätigt")) | E61: =IF(OR($A61="",$C61=""),"",$D61-$C61) | F61: =IF(OR($A61="",$C61=""),"",IFERROR($D61/$C61,"")) | G61: =IF($A61="","",IF($C61="","Ziel fehlt",IF($F61>1+Parameter!$B$5,"Über Ziel",IF($F61<1-Parameter!$B$6,"Unter Ziel","Im Rahmen"))))
A62: =IF(Parameter!$A$44="","",Parameter!$A$44) | B62: =IF($A62="","",Parameter!$B$44) | C62: =IF(OR($A62="",Parameter!$C$44=""),"",Parameter!$C$44) | D62: =IF($A62="","",SUMIFS(Dienstplan!$K$5:$K$104,Dienstplan!$D$5:$D$104,$A62,Dienstplan!$B$5:$B$104,">="&$B$3,Dienstplan!$B$5:$B$104,"<="&$B$4,Dienstplan!$N$5:$N$104,"Geplant")+SUMIFS(Dienstplan!$K$5:$K$104,Dienstplan!$D$5:$D$104,$A62,Dienstplan!$B$5:$B$104,">="&$B$3,Dienstplan!$B$5:$B$104,"<="&$B$4,Dienstplan!$N$5:$N$104,"Bestätigt")) | E62: =IF(OR($A62="",$C62=""),"",$D62-$C62) | F62: =IF(OR($A62="",$C62=""),"",IFERROR($D62/$C62,"")) | G62: =IF($A62="","",IF($C62="","Ziel fehlt",IF($F62>1+Parameter!$B$5,"Über Ziel",IF($F62<1-Parameter!$B$6,"Unter Ziel","Im Rahmen"))))
A63: =IF(Parameter!$A$45="","",Parameter!$A$45) | B63: =IF($A63="","",Parameter!$B$45) | C63: =IF(OR($A63="",Parameter!$C$45=""),"",Parameter!$C$45) | D63: =IF($A63="","",SUMIFS(Dienstplan!$K$5:$K$104,Dienstplan!$D$5:$D$104,$A63,Dienstplan!$B$5:$B$104,">="&$B$3,Dienstplan!$B$5:$B$104,"<="&$B$4,Dienstplan!$N$5:$N$104,"Geplant")+SUMIFS(Dienstplan!$K$5:$K$104,Dienstplan!$D$5:$D$104,$A63,Dienstplan!$B$5:$B$104,">="&$B$3,Dienstplan!$B$5:$B$104,"<="&$B$4,Dienstplan!$N$5:$N$104,"Bestätigt")) | E63: =IF(OR($A63="",$C63=""),"",$D63-$C63) | F63: =IF(OR($A63="",$C63=""),"",IFERROR($D63/$C63,"")) | G63: =IF($A63="","",IF($C63="","Ziel fehlt",IF($F63>1+Parameter!$B$5,"Über Ziel",IF($F63<1-Parameter!$B$6,"Unter Ziel","Im Rahmen"))))
A64: =IF(Parameter!$A$46="","",Parameter!$A$46) | B64: =IF($A64="","",Parameter!$B$46) | C64: =IF(OR($A64="",Parameter!$C$46=""),"",Parameter!$C$46) | D64: =IF($A64="","",SUMIFS(Dienstplan!$K$5:$K$104,Dienstplan!$D$5:$D$104,$A64,Dienstplan!$B$5:$B$104,">="&$B$3,Dienstplan!$B$5:$B$104,"<="&$B$4,Dienstplan!$N$5:$N$104,"Geplant")+SUMIFS(Dienstplan!$K$5:$K$104,Dienstplan!$D$5:$D$104,$A64,Dienstplan!$B$5:$B$104,">="&$B$3,Dienstplan!$B$5:$B$104,"<="&$B$4,Dienstplan!$N$5:$N$104,"Bestätigt")) | E64: =IF(OR($A64="",$C64=""),"",$D64-$C64) | F64: =IF(OR($A64="",$C64=""),"",IFERROR($D64/$C64,"")) | G64: =IF($A64="","",IF($C64="","Ziel fehlt",IF($F64>1+Parameter!$B$5,"Über Ziel",IF($F64<1-Parameter!$B$6,"Unter Ziel","Im Rahmen"))))
A65: =IF(Parameter!$A$47="","",Parameter!$A$47) | B65: =IF($A65="","",Parameter!$B$47) | C65: =IF(OR($A65="",Parameter!$C$47=""),"",Parameter!$C$47) | D65: =IF($A65="","",SUMIFS(Dienstplan!$K$5:$K$104,Dienstplan!$D$5:$D$104,$A65,Dienstplan!$B$5:$B$104,">="&$B$3,Dienstplan!$B$5:$B$104,"<="&$B$4,Dienstplan!$N$5:$N$104,"Geplant")+SUMIFS(Dienstplan!$K$5:$K$104,Dienstplan!$D$5:$D$104,$A65,Dienstplan!$B$5:$B$104,">="&$B$3,Dienstplan!$B$5:$B$104,"<="&$B$4,Dienstplan!$N$5:$N$104,"Bestätigt")) | E65: =IF(OR($A65="",$C65=""),"",$D65-$C65) | F65: =IF(OR($A65="",$C65=""),"",IFERROR($D65/$C65,"")) | G65: =IF($A65="","",IF($C65="","Ziel fehlt",IF($F65>1+Parameter!$B$5,"Über Ziel",IF($F65<1-Parameter!$B$6,"Unter Ziel","Im Rahmen"))))
A66: =IF(Parameter!$A$48="","",Parameter!$A$48) | B66: =IF($A66="","",Parameter!$B$48) | C66: =IF(OR($A66="",Parameter!$C$48=""),"",Parameter!$C$48) | D66: =IF($A66="","",SUMIFS(Dienstplan!$K$5:$K$104,Dienstplan!$D$5:$D$104,$A66,Dienstplan!$B$5:$B$104,">="&$B$3,Dienstplan!$B$5:$B$104,"<="&$B$4,Dienstplan!$N$5:$N$104,"Geplant")+SUMIFS(Dienstplan!$K$5:$K$104,Dienstplan!$D$5:$D$104,$A66,Dienstplan!$B$5:$B$104,">="&$B$3,Dienstplan!$B$5:$B$104,"<="&$B$4,Dienstplan!$N$5:$N$104,"Bestätigt")) | E66: =IF(OR($A66="",$C66=""),"",$D66-$C66) | F66: =IF(OR($A66="",$C66=""),"",IFERROR($D66/$C66,"")) | G66: =IF($A66="","",IF($C66="","Ziel fehlt",IF($F66>1+Parameter!$B$5,"Über Ziel",IF($F66<1-Parameter!$B$6,"Unter Ziel","Im Rahmen"))))
A67: =IF(Parameter!$A$49="","",Parameter!$A$49) | B67: =IF($A67="","",Parameter!$B$49) | C67: =IF(OR($A67="",Parameter!$C$49=""),"",Parameter!$C$49) | D67: =IF($A67="","",SUMIFS(Dienstplan!$K$5:$K$104,Dienstplan!$D$5:$D$104,$A67,Dienstplan!$B$5:$B$104,">="&$B$3,Dienstplan!$B$5:$B$104,"<="&$B$4,Dienstplan!$N$5:$N$104,"Geplant")+SUMIFS(Dienstplan!$K$5:$K$104,Dienstplan!$D$5:$D$104,$A67,Dienstplan!$B$5:$B$104,">="&$B$3,Dienstplan!$B$5:$B$104,"<="&$B$4,Dienstplan!$N$5:$N$104,"Bestätigt")) | E67: =IF(OR($A67="",$C67=""),"",$D67-$C67) | F67: =IF(OR($A67="",$C67=""),"",IFERROR($D67/$C67,"")) | G67: =IF($A67="","",IF($C67="","Ziel fehlt",IF($F67>1+Parameter!$B$5,"Über Ziel",IF($F67<1-Parameter!$B$6,"Unter Ziel","Im Rahmen"))))
A68: =IF(Parameter!$A$50="","",Parameter!$A$50) | B68: =IF($A68="","",Parameter!$B$50) | C68: =IF(OR($A68="",Parameter!$C$50=""),"",Parameter!$C$50) | D68: =IF($A68="","",SUMIFS(Dienstplan!$K$5:$K$104,Dienstplan!$D$5:$D$104,$A68,Dienstplan!$B$5:$B$104,">="&$B$3,Dienstplan!$B$5:$B$104,"<="&$B$4,Dienstplan!$N$5:$N$104,"Geplant")+SUMIFS(Dienstplan!$K$5:$K$104,Dienstplan!$D$5:$D$104,$A68,Dienstplan!$B$5:$B$104,">="&$B$3,Dienstplan!$B$5:$B$104,"<="&$B$4,Dienstplan!$N$5:$N$104,"Bestätigt")) | E68: =IF(OR($A68="",$C68=""),"",$D68-$C68) | F68: =IF(OR($A68="",$C68=""),"",IFERROR($D68/$C68,"")) | G68: =IF($A68="","",IF($C68="","Ziel fehlt",IF($F68>1+Parameter!$B$5,"Über Ziel",IF($F68<1-Parameter!$B$6,"Unter Ziel","Im Rahmen"))))
A69: =IF(Parameter!$A$51="","",Parameter!$A$51) | B69: =IF($A69="","",Parameter!$B$51) | C69: =IF(OR($A69="",Parameter!$C$51=""),"",Parameter!$C$51) | D69: =IF($A69="","",SUMIFS(Dienstplan!$K$5:$K$104,Dienstplan!$D$5:$D$104,$A69,Dienstplan!$B$5:$B$104,">="&$B$3,Dienstplan!$B$5:$B$104,"<="&$B$4,Dienstplan!$N$5:$N$104,"Geplant")+SUMIFS(Dienstplan!$K$5:$K$104,Dienstplan!$D$5:$D$104,$A69,Dienstplan!$B$5:$B$104,">="&$B$3,Dienstplan!$B$5:$B$104,"<="&$B$4,Dienstplan!$N$5:$N$104,"Bestätigt")) | E69: =IF(OR($A69="",$C69=""),"",$D69-$C69) | F69: =IF(OR($A69="",$C69=""),"",IFERROR($D69/$C69,"")) | G69: =IF($A69="","",IF($C69="","Ziel fehlt",IF($F69>1+Parameter!$B$5,"Über Ziel",IF($F69<1-Parameter!$B$6,"Unter Ziel","Im Rahmen"))))
A70: =IF(Parameter!$A$52="","",Parameter!$A$52) | B70: =IF($A70="","",Parameter!$B$52) | C70: =IF(OR($A70="",Parameter!$C$52=""),"",Parameter!$C$52) | D70: =IF($A70="","",SUMIFS(Dienstplan!$K$5:$K$104,Dienstplan!$D$5:$D$104,$A70,Dienstplan!$B$5:$B$104,">="&$B$3,Dienstplan!$B$5:$B$104,"<="&$B$4,Dienstplan!$N$5:$N$104,"Geplant")+SUMIFS(Dienstplan!$K$5:$K$104,Dienstplan!$D$5:$D$104,$A70,Dienstplan!$B$5:$B$104,">="&$B$3,Dienstplan!$B$5:$B$104,"<="&$B$4,Dienstplan!$N$5:$N$104,"Bestätigt")) | E70: =IF(OR($A70="",$C70=""),"",$D70-$C70) | F70: =IF(OR($A70="",$C70=""),"",IFERROR($D70/$C70,"")) | G70: =IF($A70="","",IF($C70="","Ziel fehlt",IF($F70>1+Parameter!$B$5,"Über Ziel",IF($F70<1-Parameter!$B$6,"Unter Ziel","Im Rahmen"))))
A71: =IF(Parameter!$A$53="","",Parameter!$A$53) | B71: =IF($A71="","",Parameter!$B$53) | C71: =IF(OR($A71="",Parameter!$C$53=""),"",Parameter!$C$53) | D71: =IF($A71="","",SUMIFS(Dienstplan!$K$5:$K$104,Dienstplan!$D$5:$D$104,$A71,Dienstplan!$B$5:$B$104,">="&$B$3,Dienstplan!$B$5:$B$104,"<="&$B$4,Dienstplan!$N$5:$N$104,"Geplant")+SUMIFS(Dienstplan!$K$5:$K$104,Dienstplan!$D$5:$D$104,$A71,Dienstplan!$B$5:$B$104,">="&$B$3,Dienstplan!$B$5:$B$104,"<="&$B$4,Dienstplan!$N$5:$N$104,"Bestätigt")) | E71: =IF(OR($A71="",$C71=""),"",$D71-$C71) | F71: =IF(OR($A71="",$C71=""),"",IFERROR($D71/$C71,"")) | G71: =IF($A71="","",IF($C71="","Ziel fehlt",IF($F71>1+Parameter!$B$5,"Über Ziel",IF($F71<1-Parameter!$B$6,"Unter Ziel","Im Rahmen"))))
A72: =IF(Parameter!$A$54="","",Parameter!$A$54) | B72: =IF($A72="","",Parameter!$B$54) | C72: =IF(OR($A72="",Parameter!$C$54=""),"",Parameter!$C$54) | D72: =IF($A72="","",SUMIFS(Dienstplan!$K$5:$K$104,Dienstplan!$D$5:$D$104,$A72,Dienstplan!$B$5:$B$104,">="&$B$3,Dienstplan!$B$5:$B$104,"<="&$B$4,Dienstplan!$N$5:$N$104,"Geplant")+SUMIFS(Dienstplan!$K$5:$K$104,Dienstplan!$D$5:$D$104,$A72,Dienstplan!$B$5:$B$104,">="&$B$3,Dienstplan!$B$5:$B$104,"<="&$B$4,Dienstplan!$N$5:$N$104,"Bestätigt")) | E72: =IF(OR($A72="",$C72=""),"",$D72-$C72) | F72: =IF(OR($A72="",$C72=""),"",IFERROR($D72/$C72,"")) | G72: =IF($A72="","",IF($C72="","Ziel fehlt",IF($F72>1+Parameter!$B$5,"Über Ziel",IF($F72<1-Parameter!$B$6,"Unter Ziel","Im Rahmen"))))
A73: =IF(Parameter!$A$55="","",Parameter!$A$55) | B73: =IF($A73="","",Parameter!$B$55) | C73: =IF(OR($A73="",Parameter!$C$55=""),"",Parameter!$C$55) | D73: =IF($A73="","",SUMIFS(Dienstplan!$K$5:$K$104,Dienstplan!$D$5:$D$104,$A73,Dienstplan!$B$5:$B$104,">="&$B$3,Dienstplan!$B$5:$B$104,"<="&$B$4,Dienstplan!$N$5:$N$104,"Geplant")+SUMIFS(Dienstplan!$K$5:$K$104,Dienstplan!$D$5:$D$104,$A73,Dienstplan!$B$5:$B$104,">="&$B$3,Dienstplan!$B$5:$B$104,"<="&$B$4,Dienstplan!$N$5:$N$104,"Bestätigt")) | E73: =IF(OR($A73="",$C73=""),"",$D73-$C73) | F73: =IF(OR($A73="",$C73=""),"",IFERROR($D73/$C73,"")) | G73: =IF($A73="","",IF($C73="","Ziel fehlt",IF($F73>1+Parameter!$B$5,"Über Ziel",IF($F73<1-Parameter!$B$6,"Unter Ziel","Im Rahmen"))))
A74: =IF(Parameter!$A$56="","",Parameter!$A$56) | B74: =IF($A74="","",Parameter!$B$56) | C74: =IF(OR($A74="",Parameter!$C$56=""),"",Parameter!$C$56) | D74: =IF($A74="","",SUMIFS(Dienstplan!$K$5:$K$104,Dienstplan!$D$5:$D$104,$A74,Dienstplan!$B$5:$B$104,">="&$B$3,Dienstplan!$B$5:$B$104,"<="&$B$4,Dienstplan!$N$5:$N$104,"Geplant")+SUMIFS(Dienstplan!$K$5:$K$104,Dienstplan!$D$5:$D$104,$A74,Dienstplan!$B$5:$B$104,">="&$B$3,Dienstplan!$B$5:$B$104,"<="&$B$4,Dienstplan!$N$5:$N$104,"Bestätigt")) | E74: =IF(OR($A74="",$C74=""),"",$D74-$C74) | F74: =IF(OR($A74="",$C74=""),"",IFERROR($D74/$C74,"")) | G74: =IF($A74="","",IF($C74="","Ziel fehlt",IF($F74>1+Parameter!$B$5,"Über Ziel",IF($F74<1-Parameter!$B$6,"Unter Ziel","Im Rahmen"))))
A75: =IF(Parameter!$A$57="","",Parameter!$A$57) | B75: =IF($A75="","",Parameter!$B$57) | C75: =IF(OR($A75="",Parameter!$C$57=""),"",Parameter!$C$57) | D75: =IF($A75="","",SUMIFS(Dienstplan!$K$5:$K$104,Dienstplan!$D$5:$D$104,$A75,Dienstplan!$B$5:$B$104,">="&$B$3,Dienstplan!$B$5:$B$104,"<="&$B$4,Dienstplan!$N$5:$N$104,"Geplant")+SUMIFS(Dienstplan!$K$5:$K$104,Dienstplan!$D$5:$D$104,$A75,Dienstplan!$B$5:$B$104,">="&$B$3,Dienstplan!$B$5:$B$104,"<="&$B$4,Dienstplan!$N$5:$N$104,"Bestätigt")) | E75: =IF(OR($A75="",$C75=""),"",$D75-$C75) | F75: =IF(OR($A75="",$C75=""),"",IFERROR($D75/$C75,"")) | G75: =IF($A75="","",IF($C75="","Ziel fehlt",IF($F75>1+Parameter!$B$5,"Über Ziel",IF($F75<1-Parameter!$B$6,"Unter Ziel","Im Rahmen"))))
A76: =IF(Parameter!$A$58="","",Parameter!$A$58) | B76: =IF($A76="","",Parameter!$B$58) | C76: =IF(OR($A76="",Parameter!$C$58=""),"",Parameter!$C$58) | D76: =IF($A76="","",SUMIFS(Dienstplan!$K$5:$K$104,Dienstplan!$D$5:$D$104,$A76,Dienstplan!$B$5:$B$104,">="&$B$3,Dienstplan!$B$5:$B$104,"<="&$B$4,Dienstplan!$N$5:$N$104,"Geplant")+SUMIFS(Dienstplan!$K$5:$K$104,Dienstplan!$D$5:$D$104,$A76,Dienstplan!$B$5:$B$104,">="&$B$3,Dienstplan!$B$5:$B$104,"<="&$B$4,Dienstplan!$N$5:$N$104,"Bestätigt")) | E76: =IF(OR($A76="",$C76=""),"",$D76-$C76) | F76: =IF(OR($A76="",$C76=""),"",IFERROR($D76/$C76,"")) | G76: =IF($A76="","",IF($C76="","Ziel fehlt",IF($F76>1+Parameter!$B$5,"Über Ziel",IF($F76<1-Parameter!$B$6,"Unter Ziel","Im Rahmen"))))
A77: =IF(Parameter!$A$59="","",Parameter!$A$59) | B77: =IF($A77="","",Parameter!$B$59) | C77: =IF(OR($A77="",Parameter!$C$59=""),"",Parameter!$C$59) | D77: =IF($A77="","",SUMIFS(Dienstplan!$K$5:$K$104,Dienstplan!$D$5:$D$104,$A77,Dienstplan!$B$5:$B$104,">="&$B$3,Dienstplan!$B$5:$B$104,"<="&$B$4,Dienstplan!$N$5:$N$104,"Geplant")+SUMIFS(Dienstplan!$K$5:$K$104,Dienstplan!$D$5:$D$104,$A77,Dienstplan!$B$5:$B$104,">="&$B$3,Dienstplan!$B$5:$B$104,"<="&$B$4,Dienstplan!$N$5:$N$104,"Bestätigt")) | E77: =IF(OR($A77="",$C77=""),"",$D77-$C77) | F77: =IF(OR($A77="",$C77=""),"",IFERROR($D77/$C77,"")) | G77: =IF($A77="","",IF($C77="","Ziel fehlt",IF($F77>1+Parameter!$B$5,"Über Ziel",IF($F77<1-Parameter!$B$6,"Unter Ziel","Im Rahmen"))))
A78: =IF(Parameter!$A$60="","",Parameter!$A$60) | B78: =IF($A78="","",Parameter!$B$60) | C78: =IF(OR($A78="",Parameter!$C$60=""),"",Parameter!$C$60) | D78: =IF($A78="","",SUMIFS(Dienstplan!$K$5:$K$104,Dienstplan!$D$5:$D$104,$A78,Dienstplan!$B$5:$B$104,">="&$B$3,Dienstplan!$B$5:$B$104,"<="&$B$4,Dienstplan!$N$5:$N$104,"Geplant")+SUMIFS(Dienstplan!$K$5:$K$104,Dienstplan!$D$5:$D$104,$A78,Dienstplan!$B$5:$B$104,">="&$B$3,Dienstplan!$B$5:$B$104,"<="&$B$4,Dienstplan!$N$5:$N$104,"Bestätigt")) | E78: =IF(OR($A78="",$C78=""),"",$D78-$C78) | F78: =IF(OR($A78="",$C78=""),"",IFERROR($D78/$C78,"")) | G78: =IF($A78="","",IF($C78="","Ziel fehlt",IF($F78>1+Parameter!$B$5,"Über Ziel",IF($F78<1-Parameter!$B$6,"Unter Ziel","Im Rahmen"))))
A79: =IF(Parameter!$A$61="","",Parameter!$A$61) | B79: =IF($A79="","",Parameter!$B$61) | C79: =IF(OR($A79="",Parameter!$C$61=""),"",Parameter!$C$61) | D79: =IF($A79="","",SUMIFS(Dienstplan!$K$5:$K$104,Dienstplan!$D$5:$D$104,$A79,Dienstplan!$B$5:$B$104,">="&$B$3,Dienstplan!$B$5:$B$104,"<="&$B$4,Dienstplan!$N$5:$N$104,"Geplant")+SUMIFS(Dienstplan!$K$5:$K$104,Dienstplan!$D$5:$D$104,$A79,Dienstplan!$B$5:$B$104,">="&$B$3,Dienstplan!$B$5:$B$104,"<="&$B$4,Dienstplan!$N$5:$N$104,"Bestätigt")) | E79: =IF(OR($A79="",$C79=""),"",$D79-$C79) | F79: =IF(OR($A79="",$C79=""),"",IFERROR($D79/$C79,"")) | G79: =IF($A79="","",IF($C79="","Ziel fehlt",IF($F79>1+Parameter!$B$5,"Über Ziel",IF($F79<1-Parameter!$B$6,"Unter Ziel","Im Rahmen"))))
A80: =IF(Parameter!$A$62="","",Parameter!$A$62) | B80: =IF($A80="","",Parameter!$B$62) | C80: =IF(OR($A80="",Parameter!$C$62=""),"",Parameter!$C$62) | D80: =IF($A80="","",SUMIFS(Dienstplan!$K$5:$K$104,Dienstplan!$D$5:$D$104,$A80,Dienstplan!$B$5:$B$104,">="&$B$3,Dienstplan!$B$5:$B$104,"<="&$B$4,Dienstplan!$N$5:$N$104,"Geplant")+SUMIFS(Dienstplan!$K$5:$K$104,Dienstplan!$D$5:$D$104,$A80,Dienstplan!$B$5:$B$104,">="&$B$3,Dienstplan!$B$5:$B$104,"<="&$B$4,Dienstplan!$N$5:$N$104,"Bestätigt")) | E80: =IF(OR($A80="",$C80=""),"",$D80-$C80) | F80: =IF(OR($A80="",$C80=""),"",IFERROR($D80/$C80,"")) | G80: =IF($A80="","",IF($C80="","Ziel fehlt",IF($F80>1+Parameter!$B$5,"Über Ziel",IF($F80<1-Parameter!$B$6,"Unter Ziel","Im Rahmen"))))
A81: =IF(Parameter!$A$63="","",Parameter!$A$63) | B81: =IF($A81="","",Parameter!$B$63) | C81: =IF(OR($A81="",Parameter!$C$63=""),"",Parameter!$C$63) | D81: =IF($A81="","",SUMIFS(Dienstplan!$K$5:$K$104,Dienstplan!$D$5:$D$104,$A81,Dienstplan!$B$5:$B$104,">="&$B$3,Dienstplan!$B$5:$B$104,"<="&$B$4,Dienstplan!$N$5:$N$104,"Geplant")+SUMIFS(Dienstplan!$K$5:$K$104,Dienstplan!$D$5:$D$104,$A81,Dienstplan!$B$5:$B$104,">="&$B$3,Dienstplan!$B$5:$B$104,"<="&$B$4,Dienstplan!$N$5:$N$104,"Bestätigt")) | E81: =IF(OR($A81="",$C81=""),"",$D81-$C81) | F81: =IF(OR($A81="",$C81=""),"",IFERROR($D81/$C81,"")) | G81: =IF($A81="","",IF($C81="","Ziel fehlt",IF($F81>1+Parameter!$B$5,"Über Ziel",IF($F81<1-Parameter!$B$6,"Unter Ziel","Im Rahmen"))))
A82: =IF(Parameter!$A$64="","",Parameter!$A$64) | B82: =IF($A82="","",Parameter!$B$64) | C82: =IF(OR($A82="",Parameter!$C$64=""),"",Parameter!$C$64) | D82: =IF($A82="","",SUMIFS(Dienstplan!$K$5:$K$104,Dienstplan!$D$5:$D$104,$A82,Dienstplan!$B$5:$B$104,">="&$B$3,Dienstplan!$B$5:$B$104,"<="&$B$4,Dienstplan!$N$5:$N$104,"Geplant")+SUMIFS(Dienstplan!$K$5:$K$104,Dienstplan!$D$5:$D$104,$A82,Dienstplan!$B$5:$B$104,">="&$B$3,Dienstplan!$B$5:$B$104,"<="&$B$4,Dienstplan!$N$5:$N$104,"Bestätigt")) | E82: =IF(OR($A82="",$C82=""),"",$D82-$C82) | F82: =IF(OR($A82="",$C82=""),"",IFERROR($D82/$C82,"")) | G82: =IF($A82="","",IF($C82="","Ziel fehlt",IF($F82>1+Parameter!$B$5,"Über Ziel",IF($F82<1-Parameter!$B$6,"Unter Ziel","Im Rahmen"))))
A83: =IF(Parameter!$A$65="","",Parameter!$A$65) | B83: =IF($A83="","",Parameter!$B$65) | C83: =IF(OR($A83="",Parameter!$C$65=""),"",Parameter!$C$65) | D83: =IF($A83="","",SUMIFS(Dienstplan!$K$5:$K$104,Dienstplan!$D$5:$D$104,$A83,Dienstplan!$B$5:$B$104,">="&$B$3,Dienstplan!$B$5:$B$104,"<="&$B$4,Dienstplan!$N$5:$N$104,"Geplant")+SUMIFS(Dienstplan!$K$5:$K$104,Dienstplan!$D$5:$D$104,$A83,Dienstplan!$B$5:$B$104,">="&$B$3,Dienstplan!$B$5:$B$104,"<="&$B$4,Dienstplan!$N$5:$N$104,"Bestätigt")) | E83: =IF(OR($A83="",$C83=""),"",$D83-$C83) | F83: =IF(OR($A83="",$C83=""),"",IFERROR($D83/$C83,"")) | G83: =IF($A83="","",IF($C83="","Ziel fehlt",IF($F83>1+Parameter!$B$5,"Über Ziel",IF($F83<1-Parameter!$B$6,"Unter Ziel","Im Rahmen"))))
A84: =IF(Parameter!$A$66="","",Parameter!$A$66) | B84: =IF($A84="","",Parameter!$B$66) | C84: =IF(OR($A84="",Parameter!$C$66=""),"",Parameter!$C$66) | D84: =IF($A84="","",SUMIFS(Dienstplan!$K$5:$K$104,Dienstplan!$D$5:$D$104,$A84,Dienstplan!$B$5:$B$104,">="&$B$3,Dienstplan!$B$5:$B$104,"<="&$B$4,Dienstplan!$N$5:$N$104,"Geplant")+SUMIFS(Dienstplan!$K$5:$K$104,Dienstplan!$D$5:$D$104,$A84,Dienstplan!$B$5:$B$104,">="&$B$3,Dienstplan!$B$5:$B$104,"<="&$B$4,Dienstplan!$N$5:$N$104,"Bestätigt")) | E84: =IF(OR($A84="",$C84=""),"",$D84-$C84) | F84: =IF(OR($A84="",$C84=""),"",IFERROR($D84/$C84,"")) | G84: =IF($A84="","",IF($C84="","Ziel fehlt",IF($F84>1+Parameter!$B$5,"Über Ziel",IF($F84<1-Parameter!$B$6,"Unter Ziel","Im Rahmen"))))
A85: =IF(Parameter!$A$67="","",Parameter!$A$67) | B85: =IF($A85="","",Parameter!$B$67) | C85: =IF(OR($A85="",Parameter!$C$67=""),"",Parameter!$C$67) | D85: =IF($A85="","",SUMIFS(Dienstplan!$K$5:$K$104,Dienstplan!$D$5:$D$104,$A85,Dienstplan!$B$5:$B$104,">="&$B$3,Dienstplan!$B$5:$B$104,"<="&$B$4,Dienstplan!$N$5:$N$104,"Geplant")+SUMIFS(Dienstplan!$K$5:$K$104,Dienstplan!$D$5:$D$104,$A85,Dienstplan!$B$5:$B$104,">="&$B$3,Dienstplan!$B$5:$B$104,"<="&$B$4,Dienstplan!$N$5:$N$104,"Bestätigt")) | E85: =IF(OR($A85="",$C85=""),"",$D85-$C85) | F85: =IF(OR($A85="",$C85=""),"",IFERROR($D85/$C85,"")) | G85: =IF($A85="","",IF($C85="","Ziel fehlt",IF($F85>1+Parameter!$B$5,"Über Ziel",IF($F85<1-Parameter!$B$6,"Unter Ziel","Im Rahmen"))))
A86: =IF(Parameter!$A$68="","",Parameter!$A$68) | B86: =IF($A86="","",Parameter!$B$68) | C86: =IF(OR($A86="",Parameter!$C$68=""),"",Parameter!$C$68) | D86: =IF($A86="","",SUMIFS(Dienstplan!$K$5:$K$104,Dienstplan!$D$5:$D$104,$A86,Dienstplan!$B$5:$B$104,">="&$B$3,Dienstplan!$B$5:$B$104,"<="&$B$4,Dienstplan!$N$5:$N$104,"Geplant")+SUMIFS(Dienstplan!$K$5:$K$104,Dienstplan!$D$5:$D$104,$A86,Dienstplan!$B$5:$B$104,">="&$B$3,Dienstplan!$B$5:$B$104,"<="&$B$4,Dienstplan!$N$5:$N$104,"Bestätigt")) | E86: =IF(OR($A86="",$C86=""),"",$D86-$C86) | F86: =IF(OR($A86="",$C86=""),"",IFERROR($D86/$C86,"")) | G86: =IF($A86="","",IF($C86="","Ziel fehlt",IF($F86>1+Parameter!$B$5,"Über Ziel",IF($F86<1-Parameter!$B$6,"Unter Ziel","Im Rahmen"))))
A87: =IF(Parameter!$A$69="","",Parameter!$A$69) | B87: =IF($A87="","",Parameter!$B$69) | C87: =IF(OR($A87="",Parameter!$C$69=""),"",Parameter!$C$69) | D87: =IF($A87="","",SUMIFS(Dienstplan!$K$5:$K$104,Dienstplan!$D$5:$D$104,$A87,Dienstplan!$B$5:$B$104,">="&$B$3,Dienstplan!$B$5:$B$104,"<="&$B$4,Dienstplan!$N$5:$N$104,"Geplant")+SUMIFS(Dienstplan!$K$5:$K$104,Dienstplan!$D$5:$D$104,$A87,Dienstplan!$B$5:$B$104,">="&$B$3,Dienstplan!$B$5:$B$104,"<="&$B$4,Dienstplan!$N$5:$N$104,"Bestätigt")) | E87: =IF(OR($A87="",$C87=""),"",$D87-$C87) | F87: =IF(OR($A87="",$C87=""),"",IFERROR($D87/$C87,"")) | G87: =IF($A87="","",IF($C87="","Ziel fehlt",IF($F87>1+Parameter!$B$5,"Über Ziel",IF($F87<1-Parameter!$B$6,"Unter Ziel","Im Rahmen"))))
A88: =IF(Parameter!$A$70="","",Parameter!$A$70) | B88: =IF($A88="","",Parameter!$B$70) | C88: =IF(OR($A88="",Parameter!$C$70=""),"",Parameter!$C$70) | D88: =IF($A88="","",SUMIFS(Dienstplan!$K$5:$K$104,Dienstplan!$D$5:$D$104,$A88,Dienstplan!$B$5:$B$104,">="&$B$3,Dienstplan!$B$5:$B$104,"<="&$B$4,Dienstplan!$N$5:$N$104,"Geplant")+SUMIFS(Dienstplan!$K$5:$K$104,Dienstplan!$D$5:$D$104,$A88,Dienstplan!$B$5:$B$104,">="&$B$3,Dienstplan!$B$5:$B$104,"<="&$B$4,Dienstplan!$N$5:$N$104,"Bestätigt")) | E88: =IF(OR($A88="",$C88=""),"",$D88-$C88) | F88: =IF(OR($A88="",$C88=""),"",IFERROR($D88/$C88,"")) | G88: =IF($A88="","",IF($C88="","Ziel fehlt",IF($F88>1+Parameter!$B$5,"Über Ziel",IF($F88<1-Parameter!$B$6,"Unter Ziel","Im Rahmen"))))
A89: =IF(Parameter!$A$71="","",Parameter!$A$71) | B89: =IF($A89="","",Parameter!$B$71) | C89: =IF(OR($A89="",Parameter!$C$71=""),"",Parameter!$C$71) | D89: =IF($A89="","",SUMIFS(Dienstplan!$K$5:$K$104,Dienstplan!$D$5:$D$104,$A89,Dienstplan!$B$5:$B$104,">="&$B$3,Dienstplan!$B$5:$B$104,"<="&$B$4,Dienstplan!$N$5:$N$104,"Geplant")+SUMIFS(Dienstplan!$K$5:$K$104,Dienstplan!$D$5:$D$104,$A89,Dienstplan!$B$5:$B$104,">="&$B$3,Dienstplan!$B$5:$B$104,"<="&$B$4,Dienstplan!$N$5:$N$104,"Bestätigt")) | E89: =IF(OR($A89="",$C89=""),"",$D89-$C89) | F89: =IF(OR($A89="",$C89=""),"",IFERROR($D89/$C89,"")) | G89: =IF($A89="","",IF($C89="","Ziel fehlt",IF($F89>1+Parameter!$B$5,"Über Ziel",IF($F89<1-Parameter!$B$6,"Unter Ziel","Im Rahmen"))))
A90: =IF(Parameter!$A$72="","",Parameter!$A$72) | B90: =IF($A90="","",Parameter!$B$72) | C90: =IF(OR($A90="",Parameter!$C$72=""),"",Parameter!$C$72) | D90: =IF($A90="","",SUMIFS(Dienstplan!$K$5:$K$104,Dienstplan!$D$5:$D$104,$A90,Dienstplan!$B$5:$B$104,">="&$B$3,Dienstplan!$B$5:$B$104,"<="&$B$4,Dienstplan!$N$5:$N$104,"Geplant")+SUMIFS(Dienstplan!$K$5:$K$104,Dienstplan!$D$5:$D$104,$A90,Dienstplan!$B$5:$B$104,">="&$B$3,Dienstplan!$B$5:$B$104,"<="&$B$4,Dienstplan!$N$5:$N$104,"Bestätigt")) | E90: =IF(OR($A90="",$C90=""),"",$D90-$C90) | F90: =IF(OR($A90="",$C90=""),"",IFERROR($D90/$C90,"")) | G90: =IF($A90="","",IF($C90="","Ziel fehlt",IF($F90>1+Parameter!$B$5,"Über Ziel",IF($F90<1-Parameter!$B$6,"Unter Ziel","Im Rahmen"))))
A91: =IF(Parameter!$A$73="","",Parameter!$A$73) | B91: =IF($A91="","",Parameter!$B$73) | C91: =IF(OR($A91="",Parameter!$C$73=""),"",Parameter!$C$73) | D91: =IF($A91="","",SUMIFS(Dienstplan!$K$5:$K$104,Dienstplan!$D$5:$D$104,$A91,Dienstplan!$B$5:$B$104,">="&$B$3,Dienstplan!$B$5:$B$104,"<="&$B$4,Dienstplan!$N$5:$N$104,"Geplant")+SUMIFS(Dienstplan!$K$5:$K$104,Dienstplan!$D$5:$D$104,$A91,Dienstplan!$B$5:$B$104,">="&$B$3,Dienstplan!$B$5:$B$104,"<="&$B$4,Dienstplan!$N$5:$N$104,"Bestätigt")) | E91: =IF(OR($A91="",$C91=""),"",$D91-$C91) | F91: =IF(OR($A91="",$C91=""),"",IFERROR($D91/$C91,"")) | G91: =IF($A91="","",IF($C91="","Ziel fehlt",IF($F91>1+Parameter!$B$5,"Über Ziel",IF($F91<1-Parameter!$B$6,"Unter Ziel","Im Rahmen"))))
A92: =IF(Parameter!$A$74="","",Parameter!$A$74) | B92: =IF($A92="","",Parameter!$B$74) | C92: =IF(OR($A92="",Parameter!$C$74=""),"",Parameter!$C$74) | D92: =IF($A92="","",SUMIFS(Dienstplan!$K$5:$K$104,Dienstplan!$D$5:$D$104,$A92,Dienstplan!$B$5:$B$104,">="&$B$3,Dienstplan!$B$5:$B$104,"<="&$B$4,Dienstplan!$N$5:$N$104,"Geplant")+SUMIFS(Dienstplan!$K$5:$K$104,Dienstplan!$D$5:$D$104,$A92,Dienstplan!$B$5:$B$104,">="&$B$3,Dienstplan!$B$5:$B$104,"<="&$B$4,Dienstplan!$N$5:$N$104,"Bestätigt")) | E92: =IF(OR($A92="",$C92=""),"",$D92-$C92) | F92: =IF(OR($A92="",$C92=""),"",IFERROR($D92/$C92,"")) | G92: =IF($A92="","",IF($C92="","Ziel fehlt",IF($F92>1+Parameter!$B$5,"Über Ziel",IF($F92<1-Parameter!$B$6,"Unter Ziel","Im Rahmen"))))
A93: =IF(Parameter!$A$75="","",Parameter!$A$75) | B93: =IF($A93="","",Parameter!$B$75) | C93: =IF(OR($A93="",Parameter!$C$75=""),"",Parameter!$C$75) | D93: =IF($A93="","",SUMIFS(Dienstplan!$K$5:$K$104,Dienstplan!$D$5:$D$104,$A93,Dienstplan!$B$5:$B$104,">="&$B$3,Dienstplan!$B$5:$B$104,"<="&$B$4,Dienstplan!$N$5:$N$104,"Geplant")+SUMIFS(Dienstplan!$K$5:$K$104,Dienstplan!$D$5:$D$104,$A93,Dienstplan!$B$5:$B$104,">="&$B$3,Dienstplan!$B$5:$B$104,"<="&$B$4,Dienstplan!$N$5:$N$104,"Bestätigt")) | E93: =IF(OR($A93="",$C93=""),"",$D93-$C93) | F93: =IF(OR($A93="",$C93=""),"",IFERROR($D93/$C93,"")) | G93: =IF($A93="","",IF($C93="","Ziel fehlt",IF($F93>1+Parameter!$B$5,"Über Ziel",IF($F93<1-Parameter!$B$6,"Unter Ziel","Im Rahmen"))))
A94: =IF(Parameter!$A$76="","",Parameter!$A$76) | B94: =IF($A94="","",Parameter!$B$76) | C94: =IF(OR($A94="",Parameter!$C$76=""),"",Parameter!$C$76) | D94: =IF($A94="","",SUMIFS(Dienstplan!$K$5:$K$104,Dienstplan!$D$5:$D$104,$A94,Dienstplan!$B$5:$B$104,">="&$B$3,Dienstplan!$B$5:$B$104,"<="&$B$4,Dienstplan!$N$5:$N$104,"Geplant")+SUMIFS(Dienstplan!$K$5:$K$104,Dienstplan!$D$5:$D$104,$A94,Dienstplan!$B$5:$B$104,">="&$B$3,Dienstplan!$B$5:$B$104,"<="&$B$4,Dienstplan!$N$5:$N$104,"Bestätigt")) | E94: =IF(OR($A94="",$C94=""),"",$D94-$C94) | F94: =IF(OR($A94="",$C94=""),"",IFERROR($D94/$C94,"")) | G94: =IF($A94="","",IF($C94="","Ziel fehlt",IF($F94>1+Parameter!$B$5,"Über Ziel",IF($F94<1-Parameter!$B$6,"Unter Ziel","Im Rahmen"))))
A95: =IF(Parameter!$A$77="","",Parameter!$A$77) | B95: =IF($A95="","",Parameter!$B$77) | C95: =IF(OR($A95="",Parameter!$C$77=""),"",Parameter!$C$77) | D95: =IF($A95="","",SUMIFS(Dienstplan!$K$5:$K$104,Dienstplan!$D$5:$D$104,$A95,Dienstplan!$B$5:$B$104,">="&$B$3,Dienstplan!$B$5:$B$104,"<="&$B$4,Dienstplan!$N$5:$N$104,"Geplant")+SUMIFS(Dienstplan!$K$5:$K$104,Dienstplan!$D$5:$D$104,$A95,Dienstplan!$B$5:$B$104,">="&$B$3,Dienstplan!$B$5:$B$104,"<="&$B$4,Dienstplan!$N$5:$N$104,"Bestätigt")) | E95: =IF(OR($A95="",$C95=""),"",$D95-$C95) | F95: =IF(OR($A95="",$C95=""),"",IFERROR($D95/$C95,"")) | G95: =IF($A95="","",IF($C95="","Ziel fehlt",IF($F95>1+Parameter!$B$5,"Über Ziel",IF($F95<1-Parameter!$B$6,"Unter Ziel","Im Rahmen"))))
A96: =IF(Parameter!$A$78="","",Parameter!$A$78) | B96: =IF($A96="","",Parameter!$B$78) | C96: =IF(OR($A96="",Parameter!$C$78=""),"",Parameter!$C$78) | D96: =IF($A96="","",SUMIFS(Dienstplan!$K$5:$K$104,Dienstplan!$D$5:$D$104,$A96,Dienstplan!$B$5:$B$104,">="&$B$3,Dienstplan!$B$5:$B$104,"<="&$B$4,Dienstplan!$N$5:$N$104,"Geplant")+SUMIFS(Dienstplan!$K$5:$K$104,Dienstplan!$D$5:$D$104,$A96,Dienstplan!$B$5:$B$104,">="&$B$3,Dienstplan!$B$5:$B$104,"<="&$B$4,Dienstplan!$N$5:$N$104,"Bestätigt")) | E96: =IF(OR($A96="",$C96=""),"",$D96-$C96) | F96: =IF(OR($A96="",$C96=""),"",IFERROR($D96/$C96,"")) | G96: =IF($A96="","",IF($C96="","Ziel fehlt",IF($F96>1+Parameter!$B$5,"Über Ziel",IF($F96<1-Parameter!$B$6,"Unter Ziel","Im Rahmen"))))
A97: =IF(Parameter!$A$79="","",Parameter!$A$79) | B97: =IF($A97="","",Parameter!$B$79) | C97: =IF(OR($A97="",Parameter!$C$79=""),"",Parameter!$C$79) | D97: =IF($A97="","",SUMIFS(Dienstplan!$K$5:$K$104,Dienstplan!$D$5:$D$104,$A97,Dienstplan!$B$5:$B$104,">="&$B$3,Dienstplan!$B$5:$B$104,"<="&$B$4,Dienstplan!$N$5:$N$104,"Geplant")+SUMIFS(Dienstplan!$K$5:$K$104,Dienstplan!$D$5:$D$104,$A97,Dienstplan!$B$5:$B$104,">="&$B$3,Dienstplan!$B$5:$B$104,"<="&$B$4,Dienstplan!$N$5:$N$104,"Bestätigt")) | E97: =IF(OR($A97="",$C97=""),"",$D97-$C97) | F97: =IF(OR($A97="",$C97=""),"",IFERROR($D97/$C97,"")) | G97: =IF($A97="","",IF($C97="","Ziel fehlt",IF($F97>1+Parameter!$B$5,"Über Ziel",IF($F97<1-Parameter!$B$6,"Unter Ziel","Im Rahmen"))))
A98: =IF(Parameter!$A$80="","",Parameter!$A$80) | B98: =IF($A98="","",Parameter!$B$80) | C98: =IF(OR($A98="",Parameter!$C$80=""),"",Parameter!$C$80) | D98: =IF($A98="","",SUMIFS(Dienstplan!$K$5:$K$104,Dienstplan!$D$5:$D$104,$A98,Dienstplan!$B$5:$B$104,">="&$B$3,Dienstplan!$B$5:$B$104,"<="&$B$4,Dienstplan!$N$5:$N$104,"Geplant")+SUMIFS(Dienstplan!$K$5:$K$104,Dienstplan!$D$5:$D$104,$A98,Dienstplan!$B$5:$B$104,">="&$B$3,Dienstplan!$B$5:$B$104,"<="&$B$4,Dienstplan!$N$5:$N$104,"Bestätigt")) | E98: =IF(OR($A98="",$C98=""),"",$D98-$C98) | F98: =IF(OR($A98="",$C98=""),"",IFERROR($D98/$C98,"")) | G98: =IF($A98="","",IF($C98="","Ziel fehlt",IF($F98>1+Parameter!$B$5,"Über Ziel",IF($F98<1-Parameter!$B$6,"Unter Ziel","Im Rahmen"))))
A99: =IF(Parameter!$A$81="","",Parameter!$A$81) | B99: =IF($A99="","",Parameter!$B$81) | C99: =IF(OR($A99="",Parameter!$C$81=""),"",Parameter!$C$81) | D99: =IF($A99="","",SUMIFS(Dienstplan!$K$5:$K$104,Dienstplan!$D$5:$D$104,$A99,Dienstplan!$B$5:$B$104,">="&$B$3,Dienstplan!$B$5:$B$104,"<="&$B$4,Dienstplan!$N$5:$N$104,"Geplant")+SUMIFS(Dienstplan!$K$5:$K$104,Dienstplan!$D$5:$D$104,$A99,Dienstplan!$B$5:$B$104,">="&$B$3,Dienstplan!$B$5:$B$104,"<="&$B$4,Dienstplan!$N$5:$N$104,"Bestätigt")) | E99: =IF(OR($A99="",$C99=""),"",$D99-$C99) | F99: =IF(OR($A99="",$C99=""),"",IFERROR($D99/$C99,"")) | G99: =IF($A99="","",IF($C99="","Ziel fehlt",IF($F99>1+Parameter!$B$5,"Über Ziel",IF($F99<1-Parameter!$B$6,"Unter Ziel","Im Rahmen"))))
A100: =IF(Parameter!$A$82="","",Parameter!$A$82) | B100: =IF($A100="","",Parameter!$B$82) | C100: =IF(OR($A100="",Parameter!$C$82=""),"",Parameter!$C$82) | D100: =IF($A100="","",SUMIFS(Dienstplan!$K$5:$K$104,Dienstplan!$D$5:$D$104,$A100,Dienstplan!$B$5:$B$104,">="&$B$3,Dienstplan!$B$5:$B$104,"<="&$B$4,Dienstplan!$N$5:$N$104,"Geplant")+SUMIFS(Dienstplan!$K$5:$K$104,Dienstplan!$D$5:$D$104,$A100,Dienstplan!$B$5:$B$104,">="&$B$3,Dienstplan!$B$5:$B$104,"<="&$B$4,Dienstplan!$N$5:$N$104,"Bestätigt")) | E100: =IF(OR($A100="",$C100=""),"",$D100-$C100) | F100: =IF(OR($A100="",$C100=""),"",IFERROR($D100/$C100,"")) | G100: =IF($A100="","",IF($C100="","Ziel fehlt",IF($F100>1+Parameter!$B$5,"Über Ziel",IF($F100<1-Parameter!$B$6,"Unter Ziel","Im Rahmen"))))
A101: =IF(Parameter!$A$83="","",Parameter!$A$83) | B101: =IF($A101="","",Parameter!$B$83) | C101: =IF(OR($A101="",Parameter!$C$83=""),"",Parameter!$C$83) | D101: =IF($A101="","",SUMIFS(Dienstplan!$K$5:$K$104,Dienstplan!$D$5:$D$104,$A101,Dienstplan!$B$5:$B$104,">="&$B$3,Dienstplan!$B$5:$B$104,"<="&$B$4,Dienstplan!$N$5:$N$104,"Geplant")+SUMIFS(Dienstplan!$K$5:$K$104,Dienstplan!$D$5:$D$104,$A101,Dienstplan!$B$5:$B$104,">="&$B$3,Dienstplan!$B$5:$B$104,"<="&$B$4,Dienstplan!$N$5:$N$104,"Bestätigt")) | E101: =IF(OR($A101="",$C101=""),"",$D101-$C101) | F101: =IF(OR($A101="",$C101=""),"",IFERROR($D101/$C101,"")) | G101: =IF($A101="","",IF($C101="","Ziel fehlt",IF($F101>1+Parameter!$B$5,"Über Ziel",IF($F101<1-Parameter!$B$6,"Unter Ziel","Im Rahmen"))))
A102: =IF(Parameter!$A$84="","",Parameter!$A$84) | B102: =IF($A102="","",Parameter!$B$84) | C102: =IF(OR($A102="",Parameter!$C$84=""),"",Parameter!$C$84) | D102: =IF($A102="","",SUMIFS(Dienstplan!$K$5:$K$104,Dienstplan!$D$5:$D$104,$A102,Dienstplan!$B$5:$B$104,">="&$B$3,Dienstplan!$B$5:$B$104,"<="&$B$4,Dienstplan!$N$5:$N$104,"Geplant")+SUMIFS(Dienstplan!$K$5:$K$104,Dienstplan!$D$5:$D$104,$A102,Dienstplan!$B$5:$B$104,">="&$B$3,Dienstplan!$B$5:$B$104,"<="&$B$4,Dienstplan!$N$5:$N$104,"Bestätigt")) | E102: =IF(OR($A102="",$C102=""),"",$D102-$C102) | F102: =IF(OR($A102="",$C102=""),"",IFERROR($D102/$C102,"")) | G102: =IF($A102="","",IF($C102="","Ziel fehlt",IF($F102>1+Parameter!$B$5,"Über Ziel",IF($F102<1-Parameter!$B$6,"Unter Ziel","Im Rahmen"))))
A103: =IF(Parameter!$A$85="","",Parameter!$A$85) | B103: =IF($A103="","",Parameter!$B$85) | C103: =IF(OR($A103="",Parameter!$C$85=""),"",Parameter!$C$85) | D103: =IF($A103="","",SUMIFS(Dienstplan!$K$5:$K$104,Dienstplan!$D$5:$D$104,$A103,Dienstplan!$B$5:$B$104,">="&$B$3,Dienstplan!$B$5:$B$104,"<="&$B$4,Dienstplan!$N$5:$N$104,"Geplant")+SUMIFS(Dienstplan!$K$5:$K$104,Dienstplan!$D$5:$D$104,$A103,Dienstplan!$B$5:$B$104,">="&$B$3,Dienstplan!$B$5:$B$104,"<="&$B$4,Dienstplan!$N$5:$N$104,"Bestätigt")) | E103: =IF(OR($A103="",$C103=""),"",$D103-$C103) | F103: =IF(OR($A103="",$C103=""),"",IFERROR($D103/$C103,"")) | G103: =IF($A103="","",IF($C103="","Ziel fehlt",IF($F103>1+Parameter!$B$5,"Über Ziel",IF($F103<1-Parameter!$B$6,"Unter Ziel","Im Rahmen"))))
A104: =IF(Parameter!$A$86="","",Parameter!$A$86) | B104: =IF($A104="","",Parameter!$B$86) | C104: =IF(OR($A104="",Parameter!$C$86=""),"",Parameter!$C$86) | D104: =IF($A104="","",SUMIFS(Dienstplan!$K$5:$K$104,Dienstplan!$D$5:$D$104,$A104,Dienstplan!$B$5:$B$104,">="&$B$3,Dienstplan!$B$5:$B$104,"<="&$B$4,Dienstplan!$N$5:$N$104,"Geplant")+SUMIFS(Dienstplan!$K$5:$K$104,Dienstplan!$D$5:$D$104,$A104,Dienstplan!$B$5:$B$104,">="&$B$3,Dienstplan!$B$5:$B$104,"<="&$B$4,Dienstplan!$N$5:$N$104,"Bestätigt")) | E104: =IF(OR($A104="",$C104=""),"",$D104-$C104) | F104: =IF(OR($A104="",$C104=""),"",IFERROR($D104/$C104,"")) | G104: =IF($A104="","",IF($C104="","Ziel fehlt",IF($F104>1+Parameter!$B$5,"Über Ziel",IF($F104<1-Parameter!$B$6,"Unter Ziel","Im Rahmen"))))
A105: =IF(Parameter!$A$87="","",Parameter!$A$87) | B105: =IF($A105="","",Parameter!$B$87) | C105: =IF(OR($A105="",Parameter!$C$87=""),"",Parameter!$C$87) | D105: =IF($A105="","",SUMIFS(Dienstplan!$K$5:$K$104,Dienstplan!$D$5:$D$104,$A105,Dienstplan!$B$5:$B$104,">="&$B$3,Dienstplan!$B$5:$B$104,"<="&$B$4,Dienstplan!$N$5:$N$104,"Geplant")+SUMIFS(Dienstplan!$K$5:$K$104,Dienstplan!$D$5:$D$104,$A105,Dienstplan!$B$5:$B$104,">="&$B$3,Dienstplan!$B$5:$B$104,"<="&$B$4,Dienstplan!$N$5:$N$104,"Bestätigt")) | E105: =IF(OR($A105="",$C105=""),"",$D105-$C105) | F105: =IF(OR($A105="",$C105=""),"",IFERROR($D105/$C105,"")) | G105: =IF($A105="","",IF($C105="","Ziel fehlt",IF($F105>1+Parameter!$B$5,"Über Ziel",IF($F105<1-Parameter!$B$6,"Unter Ziel","Im Rahmen"))))
...

Sheet Dienstplan
A1: Dienstplan Gastronomie – Schichtplanung
A2: Gelbe Zellen sind Eingaben; berechnete Felder bleiben bei unvollständigen Zeilen leer.
A3: Planungswoche | B3: =Parameter!$B$3
A4: Plan-ID | B4: Datum | C4: Wochentag | D4: Mitarbeitende | E4: Rolle | F4: Bereich | G4: Schicht | H4: Beginn | I4: Ende | J4: Pause (Min.) | K4: Planstunden | L4: Stundenlohn | M4: Plankosten | N4: Status | O4: Prüfhinweis
A5: PLAN-001 | B5: 46272 | C5: =IF(B5="","",CHOOSE(WEEKDAY(B5,2),"Mo","Di","Mi","Do","Fr","Sa","So")) | D5: Kunstfigur Alva Nord | E5: =IF(D5="","",IFERROR(VLOOKUP(D5,Parameter!$A$11:$D$110,2,FALSE),"Nicht gefunden")) | F5: Gastraum | G5: Früh | H5: 0.33333333 | I5: 0.58333333 | J5: 30 | K5: =IF(OR(H5="",I5=""),"",MAX(0,MOD(I5-H5,1)*24-IF(J5="",0,J5)/60)) | L5: =IF(D5="","",IFERROR(VLOOKUP(D5,Parameter!$A$11:$D$110,4,FALSE),"")) | M5: =IF(OR(K5="",L5=""),"",K5*L5) | N5: Bestätigt | O5: =IF(COUNTA(A5,B5,D5,F5,G5,H5,I5,J5,N5)=0,"",IF(OR(A5="",B5="",D5="",F5="",G5="",H5="",I5="",J5="",N5=""),"Angaben fehlen",IF(E5="Nicht gefunden","Mitarbeitende prüfen",IF(OR(B5<Parameter!$B$3,B5>Parameter!$B$3+6),"Außerhalb Planwoche",IF(K5>Parameter!$B$4,"Dauer prüfen",IF(AND(OR(N5="Geplant",N5="Bestätigt"),COUNTIFS($B$5:$B$104,B5,$D$5:$D$104,D5,$N$5:$N$104,"Geplant")+COUNTIFS($B$5:$B$104,B5,$D$5:$D$104,D5,$N$5:$N$104,"Bestätigt")>1),"Mehrfachplanung prüfen","OK"))))))
A6: PLAN-002 | B6: 46272 | C6: =IF(B6="","",CHOOSE(WEEKDAY(B6,2),"Mo","Di","Mi","Do","Fr","Sa","So")) | D6: Testperson Bero Süd | E6: =IF(D6="","",IFERROR(VLOOKUP(D6,Parameter!$A$11:$D$110,2,FALSE),"Nicht gefunden")) | F6: Küche warm | G6: Früh | H6: 0.29166667 | I6: 0.64583333 | J6: 30 | K6: =IF(OR(H6="",I6=""),"",MAX(0,MOD(I6-H6,1)*24-IF(J6="",0,J6)/60)) | L6: =IF(D6="","",IFERROR(VLOOKUP(D6,Parameter!$A$11:$D$110,4,FALSE),"")) | M6: =IF(OR(K6="",L6=""),"",K6*L6) | N6: Bestätigt | O6: =IF(COUNTA(A6,B6,D6,F6,G6,H6,I6,J6,N6)=0,"",IF(OR(A6="",B6="",D6="",F6="",G6="",H6="",I6="",J6="",N6=""),"Angaben fehlen",IF(E6="Nicht gefunden","Mitarbeitende prüfen",IF(OR(B6<Parameter!$B$3,B6>Parameter!$B$3+6),"Außerhalb Planwoche",IF(K6>Parameter!$B$4,"Dauer prüfen",IF(AND(OR(N6="Geplant",N6="Bestätigt"),COUNTIFS($B$5:$B$104,B6,$D$5:$D$104,D6,$N$5:$N$104,"Geplant")+COUNTIFS($B$5:$B$104,B6,$D$5:$D$104,D6,$N$5:$N$104,"Bestätigt")>1),"Mehrfachplanung prüfen","OK"))))))
A7: PLAN-003 | B7: 46273 | C7: =IF(B7="","",CHOOSE(WEEKDAY(B7,2),"Mo","Di","Mi","Do","Fr","Sa","So")) | D7: Fantasiename Cora West | E7: =IF(D7="","",IFERROR(VLOOKUP(D7,Parameter!$A$11:$D$110,2,FALSE),"Nicht gefunden")) | F7: Bar | G7: Spät | H7: 0.70833333 | I7: 0.95833333 | J7: 20 | K7: =IF(OR(H7="",I7=""),"",MAX(0,MOD(I7-H7,1)*24-IF(J7="",0,J7)/60)) | L7: =IF(D7="","",IFERROR(VLOOKUP(D7,Parameter!$A$11:$D$110,4,FALSE),"")) | M7: =IF(OR(K7="",L7=""),"",K7*L7) | N7: Abgesagt | O7: =IF(COUNTA(A7,B7,D7,F7,G7,H7,I7,J7,N7)=0,"",IF(OR(A7="",B7="",D7="",F7="",G7="",H7="",I7="",J7="",N7=""),"Angaben fehlen",IF(E7="Nicht gefunden","Mitarbeitende prüfen",IF(OR(B7<Parameter!$B$3,B7>Parameter!$B$3+6),"Außerhalb Planwoche",IF(K7>Parameter!$B$4,"Dauer prüfen",IF(AND(OR(N7="Geplant",N7="Bestätigt"),COUNTIFS($B$5:$B$104,B7,$D$5:$D$104,D7,$N$5:$N$104,"Geplant")+COUNTIFS($B$5:$B$104,B7,$D$5:$D$104,D7,$N$5:$N$104,"Bestätigt")>1),"Mehrfachplanung prüfen","OK"))))))
A8: PLAN-004 | B8: 46274 | C8: =IF(B8="","",CHOOSE(WEEKDAY(B8,2),"Mo","Di","Mi","Do","Fr","Sa","So")) | D8: Demofigur Dario Ost | E8: =IF(D8="","",IFERROR(VLOOKUP(D8,Parameter!$A$11:$D$110,2,FALSE),"Nicht gefunden")) | F8: Gastraum | G8: Mittel | H8: 0.45833333 | I8: 0.79166667 | J8: 30 | K8: =IF(OR(H8="",I8=""),"",MAX(0,MOD(I8-H8,1)*24-IF(J8="",0,J8)/60)) | L8: =IF(D8="","",IFERROR(VLOOKUP(D8,Parameter!$A$11:$D$110,4,FALSE),"")) | M8: =IF(OR(K8="",L8=""),"",K8*L8) | N8: Bestätigt | O8: =IF(COUNTA(A8,B8,D8,F8,G8,H8,I8,J8,N8)=0,"",IF(OR(A8="",B8="",D8="",F8="",G8="",H8="",I8="",J8="",N8=""),"Angaben fehlen",IF(E8="Nicht gefunden","Mitarbeitende prüfen",IF(OR(B8<Parameter!$B$3,B8>Parameter!$B$3+6),"Außerhalb Planwoche",IF(K8>Parameter!$B$4,"Dauer prüfen",IF(AND(OR(N8="Geplant",N8="Bestätigt"),COUNTIFS($B$5:$B$104,B8,$D$5:$D$104,D8,$N$5:$N$104,"Geplant")+COUNTIFS($B$5:$B$104,B8,$D$5:$D$104,D8,$N$5:$N$104,"Bestätigt")>1),"Mehrfachplanung prüfen","OK"))))))
A9: PLAN-005 | B9: 46275 | C9: =IF(B9="","",CHOOSE(WEEKDAY(B9,2),"Mo","Di","Mi","Do","Fr","Sa","So")) | D9: Beispielwesen Elin Blau | E9: =IF(D9="","",IFERROR(VLOOKUP(D9,Parameter!$A$11:$D$110,2,FALSE),"Nicht gefunden")) | F9: Küche kalt | G9: Mittel | H9: 0.41666667 | I9: 0.66666667 | J9: 20 | K9: =IF(OR(H9="",I9=""),"",MAX(0,MOD(I9-H9,1)*24-IF(J9="",0,J9)/60)) | L9: =IF(D9="","",IFERROR(VLOOKUP(D9,Parameter!$A$11:$D$110,4,FALSE),"")) | M9: =IF(OR(K9="",L9=""),"",K9*L9) | N9: Geplant | O9: =IF(COUNTA(A9,B9,D9,F9,G9,H9,I9,J9,N9)=0,"",IF(OR(A9="",B9="",D9="",F9="",G9="",H9="",I9="",J9="",N9=""),"Angaben fehlen",IF(E9="Nicht gefunden","Mitarbeitende prüfen",IF(OR(B9<Parameter!$B$3,B9>Parameter!$B$3+6),"Außerhalb Planwoche",IF(K9>Parameter!$B$4,"Dauer prüfen",IF(AND(OR(N9="Geplant",N9="Bestätigt"),COUNTIFS($B$5:$B$104,B9,$D$5:$D$104,D9,$N$5:$N$104,"Geplant")+COUNTIFS($B$5:$B$104,B9,$D$5:$D$104,D9,$N$5:$N$104,"Bestätigt")>1),"Mehrfachplanung prüfen","OK"))))))
A10: PLAN-006 | B10: 46276 | C10: =IF(B10="","",CHOOSE(WEEKDAY(B10,2),"Mo","Di","Mi","Do","Fr","Sa","So")) | D10: Fiktivkraft Fero Grün | E10: =IF(D10="","",IFERROR(VLOOKUP(D10,Parameter!$A$11:$D$110,2,FALSE),"Nicht gefunden")) | F10: Spüle | G10: Spät | H10: 0.66666667 | I10: 0.041666667 | J10: 30 | K10: =IF(OR(H10="",I10=""),"",MAX(0,MOD(I10-H10,1)*24-IF(J10="",0,J10)/60)) | L10: =IF(D10="","",IFERROR(VLOOKUP(D10,Parameter!$A$11:$D$110,4,FALSE),"")) | M10: =IF(OR(K10="",L10=""),"",K10*L10) | N10: Bestätigt | O10: =IF(COUNTA(A10,B10,D10,F10,G10,H10,I10,J10,N10)=0,"",IF(OR(A10="",B10="",D10="",F10="",G10="",H10="",I10="",J10="",N10=""),"Angaben fehlen",IF(E10="Nicht gefunden","Mitarbeitende prüfen",IF(OR(B10<Parameter!$B$3,B10>Parameter!$B$3+6),"Außerhalb Planwoche",IF(K10>Parameter!$B$4,"Dauer prüfen",IF(AND(OR(N10="Geplant",N10="Bestätigt"),COUNTIFS($B$5:$B$104,B10,$D$5:$D$104,D10,$N$5:$N$104,"Geplant")+COUNTIFS($B$5:$B$104,B10,$D$5:$D$104,D10,$N$5:$N$104,"Bestätigt")>1),"Mehrfachplanung prüfen","OK"))))))
A11: PLAN-007 | B11: 46277 | C11: =IF(B11="","",CHOOSE(WEEKDAY(B11,2),"Mo","Di","Mi","Do","Fr","Sa","So")) | D11: Mustergestalt Gesa Rot | E11: =IF(D11="","",IFERROR(VLOOKUP(D11,Parameter!$A$11:$D$110,2,FALSE),"Nicht gefunden")) | F11: Veranstaltung | G11: Event | H11: 0.5 | I11: 0.97916667 | J11: 30 | K11: =IF(OR(H11="",I11=""),"",MAX(0,MOD(I11-H11,1)*24-IF(J11="",0,J11)/60)) | L11: =IF(D11="","",IFERROR(VLOOKUP(D11,Parameter!$A$11:$D$110,4,FALSE),"")) | M11: =IF(OR(K11="",L11=""),"",K11*L11) | N11: Bestätigt | O11: =IF(COUNTA(A11,B11,D11,F11,G11,H11,I11,J11,N11)=0,"",IF(OR(A11="",B11="",D11="",F11="",G11="",H11="",I11="",J11="",N11=""),"Angaben fehlen",IF(E11="Nicht gefunden","Mitarbeitende prüfen",IF(OR(B11<Parameter!$B$3,B11>Parameter!$B$3+6),"Außerhalb Planwoche",IF(K11>Parameter!$B$4,"Dauer prüfen",IF(AND(OR(N11="Geplant",N11="Bestätigt"),COUNTIFS($B$5:$B$104,B11,$D$5:$D$104,D11,$N$5:$N$104,"Geplant")+COUNTIFS($B$5:$B$104,B11,$D$5:$D$104,D11,$N$5:$N$104,"Bestätigt")>1),"Mehrfachplanung prüfen","OK"))))))
A12: PLAN-008 | B12: 46277 | C12: =IF(B12="","",CHOOSE(WEEKDAY(B12,2),"Mo","Di","Mi","Do","Fr","Sa","So")) | D12: Kunstfigur Alva Nord | E12: =IF(D12="","",IFERROR(VLOOKUP(D12,Parameter!$A$11:$D$110,2,FALSE),"Nicht gefunden")) | F12: Terrasse | G12: Spät | H12: 0.70833333 | I12: 0.95833333 | J12: 20 | K12: =IF(OR(H12="",I12=""),"",MAX(0,MOD(I12-H12,1)*24-IF(J12="",0,J12)/60)) | L12: =IF(D12="","",IFERROR(VLOOKUP(D12,Parameter!$A$11:$D$110,4,FALSE),"")) | M12: =IF(OR(K12="",L12=""),"",K12*L12) | N12: Bestätigt | O12: =IF(COUNTA(A12,B12,D12,F12,G12,H12,I12,J12,N12)=0,"",IF(OR(A12="",B12="",D12="",F12="",G12="",H12="",I12="",J12="",N12=""),"Angaben fehlen",IF(E12="Nicht gefunden","Mitarbeitende prüfen",IF(OR(B12<Parameter!$B$3,B12>Parameter!$B$3+6),"Außerhalb Planwoche",IF(K12>Parameter!$B$4,"Dauer prüfen",IF(AND(OR(N12="Geplant",N12="Bestätigt"),COUNTIFS($B$5:$B$104,B12,$D$5:$D$104,D12,$N$5:$N$104,"Geplant")+COUNTIFS($B$5:$B$104,B12,$D$5:$D$104,D12,$N$5:$N$104,"Bestätigt")>1),"Mehrfachplanung prüfen","OK"))))))
A13: PLAN-009 | B13: 46278 | C13: =IF(B13="","",CHOOSE(WEEKDAY(B13,2),"Mo","Di","Mi","Do","Fr","Sa","So")) | D13: Probekraft Hanno Gold | E13: =IF(D13="","",IFERROR(VLOOKUP(D13,Parameter!$A$11:$D$110,2,FALSE),"Nicht gefunden")) | F13: Veranstaltung | G13: Event | H13: 0.41666667 | I13: 0.75 | J13: 30 | K13: =IF(OR(H13="",I13=""),"",MAX(0,MOD(I13-H13,1)*24-IF(J13="",0,J13)/60)) | L13: =IF(D13="","",IFERROR(VLOOKUP(D13,Parameter!$A$11:$D$110,4,FALSE),"")) | M13: =IF(OR(K13="",L13=""),"",K13*L13) | N13: Geplant | O13: =IF(COUNTA(A13,B13,D13,F13,G13,H13,I13,J13,N13)=0,"",IF(OR(A13="",B13="",D13="",F13="",G13="",H13="",I13="",J13="",N13=""),"Angaben fehlen",IF(E13="Nicht gefunden","Mitarbeitende prüfen",IF(OR(B13<Parameter!$B$3,B13>Parameter!$B$3+6),"Außerhalb Planwoche",IF(K13>Parameter!$B$4,"Dauer prüfen",IF(AND(OR(N13="Geplant",N13="Bestätigt"),COUNTIFS($B$5:$B$104,B13,$D$5:$D$104,D13,$N$5:$N$104,"Geplant")+COUNTIFS($B$5:$B$104,B13,$D$5:$D$104,D13,$N$5:$N$104,"Bestätigt")>1),"Mehrfachplanung prüfen","OK"))))))
A14: PLAN-010 | B14: 46277 | C14: =IF(B14="","",CHOOSE(WEEKDAY(B14,2),"Mo","Di","Mi","Do","Fr","Sa","So")) | D14: Kunstfigur Alva Nord | E14: =IF(D14="","",IFERROR(VLOOKUP(D14,Parameter!$A$11:$D$110,2,FALSE),"Nicht gefunden")) | G14: Spät | H14: 0.875 | I14: 0.97916667 | J14: 0 | K14: =IF(OR(H14="",I14=""),"",MAX(0,MOD(I14-H14,1)*24-IF(J14="",0,J14)/60)) | L14: =IF(D14="","",IFERROR(VLOOKUP(D14,Parameter!$A$11:$D$110,4,FALSE),"")) | M14: =IF(OR(K14="",L14=""),"",K14*L14) | N14: Geplant | O14: =IF(COUNTA(A14,B14,D14,F14,G14,H14,I14,J14,N14)=0,"",IF(OR(A14="",B14="",D14="",F14="",G14="",H14="",I14="",J14="",N14=""),"Angaben fehlen",IF(E14="Nicht gefunden","Mitarbeitende prüfen",IF(OR(B14<Parameter!$B$3,B14>Parameter!$B$3+6),"Außerhalb Planwoche",IF(K14>Parameter!$B$4,"Dauer prüfen",IF(AND(OR(N14="Geplant",N14="Bestätigt"),COUNTIFS($B$5:$B$104,B14,$D$5:$D$104,D14,$N$5:$N$104,"Geplant")+COUNTIFS($B$5:$B$104,B14,$D$5:$D$104,D14,$N$5:$N$104,"Bestätigt")>1),"Mehrfachplanung prüfen","OK"))))))
C15: =IF(B15="","",CHOOSE(WEEKDAY(B15,2),"Mo","Di","Mi","Do","Fr","Sa","So")) | E15: =IF(D15="","",IFERROR(VLOOKUP(D15,Parameter!$A$11:$D$110,2,FALSE),"Nicht gefunden")) | K15: =IF(OR(H15="",I15=""),"",MAX(0,MOD(I15-H15,1)*24-IF(J15="",0,J15)/60)) | L15: =IF(D15="","",IFERROR(VLOOKUP(D15,Parameter!$A$11:$D$110,4,FALSE),"")) | M15: =IF(OR(K15="",L15=""),"",K15*L15) | O15: =IF(COUNTA(A15,B15,D15,F15,G15,H15,I15,J15,N15)=0,"",IF(OR(A15="",B15="",D15="",F15="",G15="",H15="",I15="",J15="",N15=""),"Angaben fehlen",IF(E15="Nicht gefunden","Mitarbeitende prüfen",IF(OR(B15<Parameter!$B$3,B15>Parameter!$B$3+6),"Außerhalb Planwoche",IF(K15>Parameter!$B$4,"Dauer prüfen",IF(AND(OR(N15="Geplant",N15="Bestätigt"),COUNTIFS($B$5:$B$104,B15,$D$5:$D$104,D15,$N$5:$N$104,"Geplant")+COUNTIFS($B$5:$B$104,B15,$D$5:$D$104,D15,$N$5:$N$104,"Bestätigt")>1),"Mehrfachplanung prüfen","OK"))))))
C16: =IF(B16="","",CHOOSE(WEEKDAY(B16,2),"Mo","Di","Mi","Do","Fr","Sa","So")) | E16: =IF(D16="","",IFERROR(VLOOKUP(D16,Parameter!$A$11:$D$110,2,FALSE),"Nicht gefunden")) | K16: =IF(OR(H16="",I16=""),"",MAX(0,MOD(I16-H16,1)*24-IF(J16="",0,J16)/60)) | L16: =IF(D16="","",IFERROR(VLOOKUP(D16,Parameter!$A$11:$D$110,4,FALSE),"")) | M16: =IF(OR(K16="",L16=""),"",K16*L16) | O16: =IF(COUNTA(A16,B16,D16,F16,G16,H16,I16,J16,N16)=0,"",IF(OR(A16="",B16="",D16="",F16="",G16="",H16="",I16="",J16="",N16=""),"Angaben fehlen",IF(E16="Nicht gefunden","Mitarbeitende prüfen",IF(OR(B16<Parameter!$B$3,B16>Parameter!$B$3+6),"Außerhalb Planwoche",IF(K16>Parameter!$B$4,"Dauer prüfen",IF(AND(OR(N16="Geplant",N16="Bestätigt"),COUNTIFS($B$5:$B$104,B16,$D$5:$D$104,D16,$N$5:$N$104,"Geplant")+COUNTIFS($B$5:$B$104,B16,$D$5:$D$104,D16,$N$5:$N$104,"Bestätigt")>1),"Mehrfachplanung prüfen","OK"))))))
C17: =IF(B17="","",CHOOSE(WEEKDAY(B17,2),"Mo","Di","Mi","Do","Fr","Sa","So")) | E17: =IF(D17="","",IFERROR(VLOOKUP(D17,Parameter!$A$11:$D$110,2,FALSE),"Nicht gefunden")) | K17: =IF(OR(H17="",I17=""),"",MAX(0,MOD(I17-H17,1)*24-IF(J17="",0,J17)/60)) | L17: =IF(D17="","",IFERROR(VLOOKUP(D17,Parameter!$A$11:$D$110,4,FALSE),"")) | M17: =IF(OR(K17="",L17=""),"",K17*L17) | O17: =IF(COUNTA(A17,B17,D17,F17,G17,H17,I17,J17,N17)=0,"",IF(OR(A17="",B17="",D17="",F17="",G17="",H17="",I17="",J17="",N17=""),"Angaben fehlen",IF(E17="Nicht gefunden","Mitarbeitende prüfen",IF(OR(B17<Parameter!$B$3,B17>Parameter!$B$3+6),"Außerhalb Planwoche",IF(K17>Parameter!$B$4,"Dauer prüfen",IF(AND(OR(N17="Geplant",N17="Bestätigt"),COUNTIFS($B$5:$B$104,B17,$D$5:$D$104,D17,$N$5:$N$104,"Geplant")+COUNTIFS($B$5:$B$104,B17,$D$5:$D$104,D17,$N$5:$N$104,"Bestätigt")>1),"Mehrfachplanung prüfen","OK"))))))
C18: =IF(B18="","",CHOOSE(WEEKDAY(B18,2),"Mo","Di","Mi","Do","Fr","Sa","So")) | E18: =IF(D18="","",IFERROR(VLOOKUP(D18,Parameter!$A$11:$D$110,2,FALSE),"Nicht gefunden")) | K18: =IF(OR(H18="",I18=""),"",MAX(0,MOD(I18-H18,1)*24-IF(J18="",0,J18)/60)) | L18: =IF(D18="","",IFERROR(VLOOKUP(D18,Parameter!$A$11:$D$110,4,FALSE),"")) | M18: =IF(OR(K18="",L18=""),"",K18*L18) | O18: =IF(COUNTA(A18,B18,D18,F18,G18,H18,I18,J18,N18)=0,"",IF(OR(A18="",B18="",D18="",F18="",G18="",H18="",I18="",J18="",N18=""),"Angaben fehlen",IF(E18="Nicht gefunden","Mitarbeitende prüfen",IF(OR(B18<Parameter!$B$3,B18>Parameter!$B$3+6),"Außerhalb Planwoche",IF(K18>Parameter!$B$4,"Dauer prüfen",IF(AND(OR(N18="Geplant",N18="Bestätigt"),COUNTIFS($B$5:$B$104,B18,$D$5:$D$104,D18,$N$5:$N$104,"Geplant")+COUNTIFS($B$5:$B$104,B18,$D$5:$D$104,D18,$N$5:$N$104,"Bestätigt")>1),"Mehrfachplanung prüfen","OK"))))))
C19: =IF(B19="","",CHOOSE(WEEKDAY(B19,2),"Mo","Di","Mi","Do","Fr","Sa","So")) | E19: =IF(D19="","",IFERROR(VLOOKUP(D19,Parameter!$A$11:$D$110,2,FALSE),"Nicht gefunden")) | K19: =IF(OR(H19="",I19=""),"",MAX(0,MOD(I19-H19,1)*24-IF(J19="",0,J19)/60)) | L19: =IF(D19="","",IFERROR(VLOOKUP(D19,Parameter!$A$11:$D$110,4,FALSE),"")) | M19: =IF(OR(K19="",L19=""),"",K19*L19) | O19: =IF(COUNTA(A19,B19,D19,F19,G19,H19,I19,J19,N19)=0,"",IF(OR(A19="",B19="",D19="",F19="",G19="",H19="",I19="",J19="",N19=""),"Angaben fehlen",IF(E19="Nicht gefunden","Mitarbeitende prüfen",IF(OR(B19<Parameter!$B$3,B19>Parameter!$B$3+6),"Außerhalb Planwoche",IF(K19>Parameter!$B$4,"Dauer prüfen",IF(AND(OR(N19="Geplant",N19="Bestätigt"),COUNTIFS($B$5:$B$104,B19,$D$5:$D$104,D19,$N$5:$N$104,"Geplant")+COUNTIFS($B$5:$B$104,B19,$D$5:$D$104,D19,$N$5:$N$104,"Bestätigt")>1),"Mehrfachplanung prüfen","OK"))))))
C20: =IF(B20="","",CHOOSE(WEEKDAY(B20,2),"Mo","Di","Mi","Do","Fr","Sa","So")) | E20: =IF(D20="","",IFERROR(VLOOKUP(D20,Parameter!$A$11:$D$110,2,FALSE),"Nicht gefunden")) | K20: =IF(OR(H20="",I20=""),"",MAX(0,MOD(I20-H20,1)*24-IF(J20="",0,J20)/60)) | L20: =IF(D20="","",IFERROR(VLOOKUP(D20,Parameter!$A$11:$D$110,4,FALSE),"")) | M20: =IF(OR(K20="",L20=""),"",K20*L20) | O20: =IF(COUNTA(A20,B20,D20,F20,G20,H20,I20,J20,N20)=0,"",IF(OR(A20="",B20="",D20="",F20="",G20="",H20="",I20="",J20="",N20=""),"Angaben fehlen",IF(E20="Nicht gefunden","Mitarbeitende prüfen",IF(OR(B20<Parameter!$B$3,B20>Parameter!$B$3+6),"Außerhalb Planwoche",IF(K20>Parameter!$B$4,"Dauer prüfen",IF(AND(OR(N20="Geplant",N20="Bestätigt"),COUNTIFS($B$5:$B$104,B20,$D$5:$D$104,D20,$N$5:$N$104,"Geplant")+COUNTIFS($B$5:$B$104,B20,$D$5:$D$104,D20,$N$5:$N$104,"Bestätigt")>1),"Mehrfachplanung prüfen","OK"))))))
C21: =IF(B21="","",CHOOSE(WEEKDAY(B21,2),"Mo","Di","Mi","Do","Fr","Sa","So")) | E21: =IF(D21="","",IFERROR(VLOOKUP(D21,Parameter!$A$11:$D$110,2,FALSE),"Nicht gefunden")) | K21: =IF(OR(H21="",I21=""),"",MAX(0,MOD(I21-H21,1)*24-IF(J21="",0,J21)/60)) | L21: =IF(D21="","",IFERROR(VLOOKUP(D21,Parameter!$A$11:$D$110,4,FALSE),"")) | M21: =IF(OR(K21="",L21=""),"",K21*L21) | O21: =IF(COUNTA(A21,B21,D21,F21,G21,H21,I21,J21,N21)=0,"",IF(OR(A21="",B21="",D21="",F21="",G21="",H21="",I21="",J21="",N21=""),"Angaben fehlen",IF(E21="Nicht gefunden","Mitarbeitende prüfen",IF(OR(B21<Parameter!$B$3,B21>Parameter!$B$3+6),"Außerhalb Planwoche",IF(K21>Parameter!$B$4,"Dauer prüfen",IF(AND(OR(N21="Geplant",N21="Bestätigt"),COUNTIFS($B$5:$B$104,B21,$D$5:$D$104,D21,$N$5:$N$104,"Geplant")+COUNTIFS($B$5:$B$104,B21,$D$5:$D$104,D21,$N$5:$N$104,"Bestätigt")>1),"Mehrfachplanung prüfen","OK"))))))
C22: =IF(B22="","",CHOOSE(WEEKDAY(B22,2),"Mo","Di","Mi","Do","Fr","Sa","So")) | E22: =IF(D22="","",IFERROR(VLOOKUP(D22,Parameter!$A$11:$D$110,2,FALSE),"Nicht gefunden")) | K22: =IF(OR(H22="",I22=""),"",MAX(0,MOD(I22-H22,1)*24-IF(J22="",0,J22)/60)) | L22: =IF(D22="","",IFERROR(VLOOKUP(D22,Parameter!$A$11:$D$110,4,FALSE),"")) | M22: =IF(OR(K22="",L22=""),"",K22*L22) | O22: =IF(COUNTA(A22,B22,D22,F22,G22,H22,I22,J22,N22)=0,"",IF(OR(A22="",B22="",D22="",F22="",G22="",H22="",I22="",J22="",N22=""),"Angaben fehlen",IF(E22="Nicht gefunden","Mitarbeitende prüfen",IF(OR(B22<Parameter!$B$3,B22>Parameter!$B$3+6),"Außerhalb Planwoche",IF(K22>Parameter!$B$4,"Dauer prüfen",IF(AND(OR(N22="Geplant",N22="Bestätigt"),COUNTIFS($B$5:$B$104,B22,$D$5:$D$104,D22,$N$5:$N$104,"Geplant")+COUNTIFS($B$5:$B$104,B22,$D$5:$D$104,D22,$N$5:$N$104,"Bestätigt")>1),"Mehrfachplanung prüfen","OK"))))))
C23: =IF(B23="","",CHOOSE(WEEKDAY(B23,2),"Mo","Di","Mi","Do","Fr","Sa","So")) | E23: =IF(D23="","",IFERROR(VLOOKUP(D23,Parameter!$A$11:$D$110,2,FALSE),"Nicht gefunden")) | K23: =IF(OR(H23="",I23=""),"",MAX(0,MOD(I23-H23,1)*24-IF(J23="",0,J23)/60)) | L23: =IF(D23="","",IFERROR(VLOOKUP(D23,Parameter!$A$11:$D$110,4,FALSE),"")) | M23: =IF(OR(K23="",L23=""),"",K23*L23) | O23: =IF(COUNTA(A23,B23,D23,F23,G23,H23,I23,J23,N23)=0,"",IF(OR(A23="",B23="",D23="",F23="",G23="",H23="",I23="",J23="",N23=""),"Angaben fehlen",IF(E23="Nicht gefunden","Mitarbeitende prüfen",IF(OR(B23<Parameter!$B$3,B23>Parameter!$B$3+6),"Außerhalb Planwoche",IF(K23>Parameter!$B$4,"Dauer prüfen",IF(AND(OR(N23="Geplant",N23="Bestätigt"),COUNTIFS($B$5:$B$104,B23,$D$5:$D$104,D23,$N$5:$N$104,"Geplant")+COUNTIFS($B$5:$B$104,B23,$D$5:$D$104,D23,$N$5:$N$104,"Bestätigt")>1),"Mehrfachplanung prüfen","OK"))))))
C24: =IF(B24="","",CHOOSE(WEEKDAY(B24,2),"Mo","Di","Mi","Do","Fr","Sa","So")) | E24: =IF(D24="","",IFERROR(VLOOKUP(D24,Parameter!$A$11:$D$110,2,FALSE),"Nicht gefunden")) | K24: =IF(OR(H24="",I24=""),"",MAX(0,MOD(I24-H24,1)*24-IF(J24="",0,J24)/60)) | L24: =IF(D24="","",IFERROR(VLOOKUP(D24,Parameter!$A$11:$D$110,4,FALSE),"")) | M24: =IF(OR(K24="",L24=""),"",K24*L24) | O24: =IF(COUNTA(A24,B24,D24,F24,G24,H24,I24,J24,N24)=0,"",IF(OR(A24="",B24="",D24="",F24="",G24="",H24="",I24="",J24="",N24=""),"Angaben fehlen",IF(E24="Nicht gefunden","Mitarbeitende prüfen",IF(OR(B24<Parameter!$B$3,B24>Parameter!$B$3+6),"Außerhalb Planwoche",IF(K24>Parameter!$B$4,"Dauer prüfen",IF(AND(OR(N24="Geplant",N24="Bestätigt"),COUNTIFS($B$5:$B$104,B24,$D$5:$D$104,D24,$N$5:$N$104,"Geplant")+COUNTIFS($B$5:$B$104,B24,$D$5:$D$104,D24,$N$5:$N$104,"Bestätigt")>1),"Mehrfachplanung prüfen","OK"))))))
C25: =IF(B25="","",CHOOSE(WEEKDAY(B25,2),"Mo","Di","Mi","Do","Fr","Sa","So")) | E25: =IF(D25="","",IFERROR(VLOOKUP(D25,Parameter!$A$11:$D$110,2,FALSE),"Nicht gefunden")) | K25: =IF(OR(H25="",I25=""),"",MAX(0,MOD(I25-H25,1)*24-IF(J25="",0,J25)/60)) | L25: =IF(D25="","",IFERROR(VLOOKUP(D25,Parameter!$A$11:$D$110,4,FALSE),"")) | M25: =IF(OR(K25="",L25=""),"",K25*L25) | O25: =IF(COUNTA(A25,B25,D25,F25,G25,H25,I25,J25,N25)=0,"",IF(OR(A25="",B25="",D25="",F25="",G25="",H25="",I25="",J25="",N25=""),"Angaben fehlen",IF(E25="Nicht gefunden","Mitarbeitende prüfen",IF(OR(B25<Parameter!$B$3,B25>Parameter!$B$3+6),"Außerhalb Planwoche",IF(K25>Parameter!$B$4,"Dauer prüfen",IF(AND(OR(N25="Geplant",N25="Bestätigt"),COUNTIFS($B$5:$B$104,B25,$D$5:$D$104,D25,$N$5:$N$104,"Geplant")+COUNTIFS($B$5:$B$104,B25,$D$5:$D$104,D25,$N$5:$N$104,"Bestätigt")>1),"Mehrfachplanung prüfen","OK"))))))
C26: =IF(B26="","",CHOOSE(WEEKDAY(B26,2),"Mo","Di","Mi","Do","Fr","Sa","So")) | E26: =IF(D26="","",IFERROR(VLOOKUP(D26,Parameter!$A$11:$D$110,2,FALSE),"Nicht gefunden")) | K26: =IF(OR(H26="",I26=""),"",MAX(0,MOD(I26-H26,1)*24-IF(J26="",0,J26)/60)) | L26: =IF(D26="","",IFERROR(VLOOKUP(D26,Parameter!$A$11:$D$110,4,FALSE),"")) | M26: =IF(OR(K26="",L26=""),"",K26*L26) | O26: =IF(COUNTA(A26,B26,D26,F26,G26,H26,I26,J26,N26)=0,"",IF(OR(A26="",B26="",D26="",F26="",G26="",H26="",I26="",J26="",N26=""),"Angaben fehlen",IF(E26="Nicht gefunden","Mitarbeitende prüfen",IF(OR(B26<Parameter!$B$3,B26>Parameter!$B$3+6),"Außerhalb Planwoche",IF(K26>Parameter!$B$4,"Dauer prüfen",IF(AND(OR(N26="Geplant",N26="Bestätigt"),COUNTIFS($B$5:$B$104,B26,$D$5:$D$104,D26,$N$5:$N$104,"Geplant")+COUNTIFS($B$5:$B$104,B26,$D$5:$D$104,D26,$N$5:$N$104,"Bestätigt")>1),"Mehrfachplanung prüfen","OK"))))))
... C104: =IF(B104="","",CHOOSE(WEEKDAY(B104,2),"Mo","Di","Mi","Do","Fr","Sa","So")) | E104: =IF(D104="","",IFERROR(VLOOKUP(D104,Parameter!$A$11:$D$110,2,FALSE),"Nicht gefunden")) | K104: =IF(OR(H104="",I104=""),"",MAX(0,MOD(I104-H104,1)*24-IF(J104="",0,J104)/60)) | L104: =IF(D104="","",IFERROR(VLOOKUP(D104,Parameter!$A$11:$D$110,4,FALSE),"")) | M104: =IF(OR(K104="",L104=""),"",K104*L104) | O104: =IF(COUNTA(A104,B104,D104,F104,G104,H104,I104,J104,N104)=0,"",IF(OR(A104="",B104="",D104="",F104="",G104="",H104="",I104="",J104="",N104=""),"Angaben fehlen",IF(E104="Nicht gefunden","Mitarbeitende prüfen",IF(OR(B104<Parameter!$B$3,B104>Parameter!$B$3+6),"Außerhalb Planwoche",IF(K104>Parameter!$B$4,"Dauer prüfen",IF(AND(OR(N104="Geplant",N104="Bestätigt"),COUNTIFS($B$5:$B$104,B104,$D$5:$D$104,D104,$N$5:$N$104,"Geplant")+COUNTIFS($B$5:$B$104,B104,$D$5:$D$104,D104,$N$5:$N$104,"Bestätigt")>1),"Mehrfachplanung prüfen","OK"))))))

Sheet Parameter
A1: Dienstplan Gastronomie – Parameter
A3: Planungswoche (Montag) | B3: 46272
A4: Maximale Planstunden je Schicht | B4: 10
A5: Warnung Überplanung ab | B5: 0.1
A6: Warnung Unterplanung ab | B6: 0.2
A10: Fiktive Mitarbeitende | B10: Rolle | C10: Wochenziel (h) | D10: Stundenlohn (€) | F10: Bereiche | G10: Rollen | H10: Schichten | I10: Statuswerte
A11: Kunstfigur Alva Nord | B11: Service | C11: 12 | D11: 15.2 | F11: Gastraum | G11: Service | H11: Früh | I11: Geplant
A12: Testperson Bero Süd | B12: Küche | C12: 8 | D12: 17.5 | F12: Terrasse | G12: Küche | H12: Mittel | I12: Bestätigt
A13: Fantasiename Cora West | B13: Bar | C13: 6 | D13: 15.8 | F13: Küche warm | G13: Bar | H13: Spät | I13: Abwesend
A14: Demofigur Dario Ost | B14: Service | C14: 8 | D14: 16 | F14: Küche kalt | G14: Spüle | H14: Event | I14: Abgesagt
A15: Beispielwesen Elin Blau | B15: Küche | C15: 6 | D15: 17 | F15: Bar | G15: Leitung
A16: Fiktivkraft Fero Grün | B16: Spüle | C16: 8.5 | D16: 14 | F16: Spüle | G16: Logistik
A17: Mustergestalt Gesa Rot | B17: Leitung | C17: 10 | D17: 22 | F17: Lager | G17: Aushilfe
A18: Probekraft Hanno Gold | B18: Logistik | C18: 8 | D18: 16.5 | F18: Veranstaltung
A19: Plansymbol Ira Silber | B19: Bar | C19: 8 | D19: 16
A20: Testfigur Joris Violett | B20: Service | C20: 6 | D20: 15
