Workbook

Sheet Übersicht
A1: Bewerberübersicht Gastronomie
A2: Stichtag | B2: ='Listen und Parameter'!$B$3 | D2: Arbeitsfokus | E2: Überfällige Aktionen zuerst, danach bald fällige Vorgänge.
A4: Offene Bewerbungen | B4: =COUNTIFS('Bewerbungen'!$A$4:$A$103,"<>",'Bewerbungen'!$H$4:$H$103,"<>Absage",'Bewerbungen'!$H$4:$H$103,"<>Zurückgezogen",'Bewerbungen'!$H$4:$H$103,"<>Eingestellt")
A5: Überfällige Aktionen | B5: =COUNTIF('Bewerbungen'!$S$4:$S$103,"Überfällig")
A6: Gespräche nächste sieben Tage | B6: =COUNTIFS('Bewerbungen'!$I$4:$I$103,">="&'Listen und Parameter'!$B$3,'Bewerbungen'!$I$4:$I$103,"<"&'Listen und Parameter'!$B$3+8)
A7: Durchschnitt offene Tage | B7: =IFERROR(AVERAGEIFS('Bewerbungen'!$Q$4:$Q$103,'Bewerbungen'!$H$4:$H$103,"<>Absage",'Bewerbungen'!$H$4:$H$103,"<>Zurückgezogen",'Bewerbungen'!$H$4:$H$103,"<>Eingestellt"),"")
A10: Rolle | B10: Offen | C10: Überfällig | D10: Gespräche in 7 Tagen | E10: Ø offene Tage
A11: ='Listen und Parameter'!D3 | B11: =COUNTIFS('Bewerbungen'!$A$4:$A$103,"<>",'Bewerbungen'!$C$4:$C$103,A11,'Bewerbungen'!$H$4:$H$103,"<>Absage",'Bewerbungen'!$H$4:$H$103,"<>Zurückgezogen",'Bewerbungen'!$H$4:$H$103,"<>Eingestellt") | C11: =COUNTIFS('Bewerbungen'!$C$4:$C$103,A11,'Bewerbungen'!$S$4:$S$103,"Überfällig") | D11: =COUNTIFS('Bewerbungen'!$C$4:$C$103,A11,'Bewerbungen'!$I$4:$I$103,">="&'Listen und Parameter'!$B$3,'Bewerbungen'!$I$4:$I$103,"<"&'Listen und Parameter'!$B$3+8) | E11: =IFERROR(AVERAGEIFS('Bewerbungen'!$Q$4:$Q$103,'Bewerbungen'!$C$4:$C$103,A11,'Bewerbungen'!$H$4:$H$103,"<>Absage",'Bewerbungen'!$H$4:$H$103,"<>Zurückgezogen",'Bewerbungen'!$H$4:$H$103,"<>Eingestellt"),"")
A12: ='Listen und Parameter'!D4 | B12: =COUNTIFS('Bewerbungen'!$A$4:$A$103,"<>",'Bewerbungen'!$C$4:$C$103,A12,'Bewerbungen'!$H$4:$H$103,"<>Absage",'Bewerbungen'!$H$4:$H$103,"<>Zurückgezogen",'Bewerbungen'!$H$4:$H$103,"<>Eingestellt") | C12: =COUNTIFS('Bewerbungen'!$C$4:$C$103,A12,'Bewerbungen'!$S$4:$S$103,"Überfällig") | D12: =COUNTIFS('Bewerbungen'!$C$4:$C$103,A12,'Bewerbungen'!$I$4:$I$103,">="&'Listen und Parameter'!$B$3,'Bewerbungen'!$I$4:$I$103,"<"&'Listen und Parameter'!$B$3+8) | E12: =IFERROR(AVERAGEIFS('Bewerbungen'!$Q$4:$Q$103,'Bewerbungen'!$C$4:$C$103,A12,'Bewerbungen'!$H$4:$H$103,"<>Absage",'Bewerbungen'!$H$4:$H$103,"<>Zurückgezogen",'Bewerbungen'!$H$4:$H$103,"<>Eingestellt"),"")
A13: ='Listen und Parameter'!D5 | B13: =COUNTIFS('Bewerbungen'!$A$4:$A$103,"<>",'Bewerbungen'!$C$4:$C$103,A13,'Bewerbungen'!$H$4:$H$103,"<>Absage",'Bewerbungen'!$H$4:$H$103,"<>Zurückgezogen",'Bewerbungen'!$H$4:$H$103,"<>Eingestellt") | C13: =COUNTIFS('Bewerbungen'!$C$4:$C$103,A13,'Bewerbungen'!$S$4:$S$103,"Überfällig") | D13: =COUNTIFS('Bewerbungen'!$C$4:$C$103,A13,'Bewerbungen'!$I$4:$I$103,">="&'Listen und Parameter'!$B$3,'Bewerbungen'!$I$4:$I$103,"<"&'Listen und Parameter'!$B$3+8) | E13: =IFERROR(AVERAGEIFS('Bewerbungen'!$Q$4:$Q$103,'Bewerbungen'!$C$4:$C$103,A13,'Bewerbungen'!$H$4:$H$103,"<>Absage",'Bewerbungen'!$H$4:$H$103,"<>Zurückgezogen",'Bewerbungen'!$H$4:$H$103,"<>Eingestellt"),"")
A14: ='Listen und Parameter'!D6 | B14: =COUNTIFS('Bewerbungen'!$A$4:$A$103,"<>",'Bewerbungen'!$C$4:$C$103,A14,'Bewerbungen'!$H$4:$H$103,"<>Absage",'Bewerbungen'!$H$4:$H$103,"<>Zurückgezogen",'Bewerbungen'!$H$4:$H$103,"<>Eingestellt") | C14: =COUNTIFS('Bewerbungen'!$C$4:$C$103,A14,'Bewerbungen'!$S$4:$S$103,"Überfällig") | D14: =COUNTIFS('Bewerbungen'!$C$4:$C$103,A14,'Bewerbungen'!$I$4:$I$103,">="&'Listen und Parameter'!$B$3,'Bewerbungen'!$I$4:$I$103,"<"&'Listen und Parameter'!$B$3+8) | E14: =IFERROR(AVERAGEIFS('Bewerbungen'!$Q$4:$Q$103,'Bewerbungen'!$C$4:$C$103,A14,'Bewerbungen'!$H$4:$H$103,"<>Absage",'Bewerbungen'!$H$4:$H$103,"<>Zurückgezogen",'Bewerbungen'!$H$4:$H$103,"<>Eingestellt"),"")
A15: ='Listen und Parameter'!D7 | B15: =COUNTIFS('Bewerbungen'!$A$4:$A$103,"<>",'Bewerbungen'!$C$4:$C$103,A15,'Bewerbungen'!$H$4:$H$103,"<>Absage",'Bewerbungen'!$H$4:$H$103,"<>Zurückgezogen",'Bewerbungen'!$H$4:$H$103,"<>Eingestellt") | C15: =COUNTIFS('Bewerbungen'!$C$4:$C$103,A15,'Bewerbungen'!$S$4:$S$103,"Überfällig") | D15: =COUNTIFS('Bewerbungen'!$C$4:$C$103,A15,'Bewerbungen'!$I$4:$I$103,">="&'Listen und Parameter'!$B$3,'Bewerbungen'!$I$4:$I$103,"<"&'Listen und Parameter'!$B$3+8) | E15: =IFERROR(AVERAGEIFS('Bewerbungen'!$Q$4:$Q$103,'Bewerbungen'!$C$4:$C$103,A15,'Bewerbungen'!$H$4:$H$103,"<>Absage",'Bewerbungen'!$H$4:$H$103,"<>Zurückgezogen",'Bewerbungen'!$H$4:$H$103,"<>Eingestellt"),"")
A16: ='Listen und Parameter'!D8 | B16: =COUNTIFS('Bewerbungen'!$A$4:$A$103,"<>",'Bewerbungen'!$C$4:$C$103,A16,'Bewerbungen'!$H$4:$H$103,"<>Absage",'Bewerbungen'!$H$4:$H$103,"<>Zurückgezogen",'Bewerbungen'!$H$4:$H$103,"<>Eingestellt") | C16: =COUNTIFS('Bewerbungen'!$C$4:$C$103,A16,'Bewerbungen'!$S$4:$S$103,"Überfällig") | D16: =COUNTIFS('Bewerbungen'!$C$4:$C$103,A16,'Bewerbungen'!$I$4:$I$103,">="&'Listen und Parameter'!$B$3,'Bewerbungen'!$I$4:$I$103,"<"&'Listen und Parameter'!$B$3+8) | E16: =IFERROR(AVERAGEIFS('Bewerbungen'!$Q$4:$Q$103,'Bewerbungen'!$C$4:$C$103,A16,'Bewerbungen'!$H$4:$H$103,"<>Absage",'Bewerbungen'!$H$4:$H$103,"<>Zurückgezogen",'Bewerbungen'!$H$4:$H$103,"<>Eingestellt"),"")
A17: ='Listen und Parameter'!D9 | B17: =COUNTIFS('Bewerbungen'!$A$4:$A$103,"<>",'Bewerbungen'!$C$4:$C$103,A17,'Bewerbungen'!$H$4:$H$103,"<>Absage",'Bewerbungen'!$H$4:$H$103,"<>Zurückgezogen",'Bewerbungen'!$H$4:$H$103,"<>Eingestellt") | C17: =COUNTIFS('Bewerbungen'!$C$4:$C$103,A17,'Bewerbungen'!$S$4:$S$103,"Überfällig") | D17: =COUNTIFS('Bewerbungen'!$C$4:$C$103,A17,'Bewerbungen'!$I$4:$I$103,">="&'Listen und Parameter'!$B$3,'Bewerbungen'!$I$4:$I$103,"<"&'Listen und Parameter'!$B$3+8) | E17: =IFERROR(AVERAGEIFS('Bewerbungen'!$Q$4:$Q$103,'Bewerbungen'!$C$4:$C$103,A17,'Bewerbungen'!$H$4:$H$103,"<>Absage",'Bewerbungen'!$H$4:$H$103,"<>Zurückgezogen",'Bewerbungen'!$H$4:$H$103,"<>Eingestellt"),"")
A20: Farblogik
A21: Rot | B21: Überfällige Aktion, doppelte ID oder Datenwarnung
A22: Gelb | B22: Bald fällige Aktion oder bearbeitbare Eingabezelle
A23: Grün | B23: Abgeschlossener Vorgang
A24: Orange | B24: Offene Bewerbung über der Warnschwelle
A26: Nutzungshinweis | B26: Nur zur internen Vorgangssteuerung. Keine Bewertung, Personalakte, Vertragsverwaltung oder Speicherung sensibler Angaben.

Sheet Bewerbungen
A1: Bewerbungen – operative Bearbeitung
A2: Fiktive Beispiele. Gelbe Zellen sind Eingaben; graue Spalten enthalten Formeln. Keine privaten, sensiblen oder vollständigen Kontaktdaten erfassen.
A3: Bewerbung-ID | B3: Bewerbercode | C3: Rolle | D3: Standort | E3: Bewerbungskanal | F3: Bewerbungsdatum | G3: Gesprächsschritt | H3: Status | I3: Gesprächstermin | J3: Verfügbar ab | K3: Wochenstunden | L3: Schichtverfügbarkeit | M3: Zuständig | N3: Nächste Aktion | O3: Aktionsdatum | P3: Abschlussdatum | Q3: Tage offen | R3: Tage bis Aktion | S3: Handlungsbedarf | T3: Datenwarnung | U3: Sachliche Notiz
A4: BG-26001 | B4: Gastro-Fiktiv-01 | C4: Servicekraft | D4: Berlin-Mitte | E4: Karriere-Seite | F4: 46259 | G4: Erstgespräch | H4: Gespräch geplant | I4: 46275.583 | J4: 46296 | K4: 30 | L4: Flexibel | M4: Leitung Service | N4: Gespräch vorbereiten | O4: 46274 | Q4: =IF(F4="","",MAX(0,IF(P4<>"",P4,'Listen und Parameter'!$B$3)-F4)) | R4: =IF(O4="","",O4-'Listen und Parameter'!$B$3) | S4: =IF(A4="","",IF(OR(H4="Absage",H4="Zurückgezogen",H4="Eingestellt"),"Abgeschlossen",IF(O4="","Aktionsdatum fehlt",IF(O4<'Listen und Parameter'!$B$3,"Überfällig",IF(O4<='Listen und Parameter'!$B$3+'Listen und Parameter'!$B$4,"Bald fällig","Geplant"))))) | T4: =IF(A4="","",IF(COUNTIF($A$4:$A$103,A4)>1,"ID doppelt",IF(OR(B4="",C4="",D4="",F4="",G4="",H4=""),"Pflichtfeld fehlt",IF(AND(P4<>"",P4<F4),"Abschluss vor Bewerbung",IF(AND(OR(H4="Absage",H4="Zurückgezogen",H4="Eingestellt"),P4=""),"Abschlussdatum fehlt",IF(AND(NOT(OR(H4="Absage",H4="Zurückgezogen",H4="Eingestellt")),P4<>""),"Status und Abschluss widersprechen","")))))) | U4: Unterlagen vollständig; fiktiver Testfall.
A5: BG-26002 | B5: Gastro-Fiktiv-02 | C5: Koch/Köchin | D5: Hamburg-Altona | E5: Mitarbeitenden-Empfehlung | F5: 46263 | G5: Telefonische Rückfrage | H5: Rückfrage offen | J5: 46280 | K5: 40 | L5: Früh- und Spätdienst | M5: Küchenleitung | N5: Rückfrage beantworten | O5: 46272 | Q5: =IF(F5="","",MAX(0,IF(P5<>"",P5,'Listen und Parameter'!$B$3)-F5)) | R5: =IF(O5="","",O5-'Listen und Parameter'!$B$3) | S5: =IF(A5="","",IF(OR(H5="Absage",H5="Zurückgezogen",H5="Eingestellt"),"Abgeschlossen",IF(O5="","Aktionsdatum fehlt",IF(O5<'Listen und Parameter'!$B$3,"Überfällig",IF(O5<='Listen und Parameter'!$B$3+'Listen und Parameter'!$B$4,"Bald fällig","Geplant"))))) | T5: =IF(A5="","",IF(COUNTIF($A$4:$A$103,A5)>1,"ID doppelt",IF(OR(B5="",C5="",D5="",F5="",G5="",H5=""),"Pflichtfeld fehlt",IF(AND(P5<>"",P5<F5),"Abschluss vor Bewerbung",IF(AND(OR(H5="Absage",H5="Zurückgezogen",H5="Eingestellt"),P5=""),"Abschlussdatum fehlt",IF(AND(NOT(OR(H5="Absage",H5="Zurückgezogen",H5="Eingestellt")),P5<>""),"Status und Abschluss widersprechen","")))))) | U5: Rückfrage zum möglichen Eintrittstermin.
A6: BG-26003 | B6: Gastro-Fiktiv-03 | C6: Küchenhilfe | D6: Köln-Innenstadt | E6: Online-Stellenbörse | F6: 46267 | G6: Unterlagenprüfung | H6: Neu | J6: 46296 | K6: 25 | L6: Spätdienst | M6: Küchenleitung | N6: Unterlagen sichten | O6: 46276 | Q6: =IF(F6="","",MAX(0,IF(P6<>"",P6,'Listen und Parameter'!$B$3)-F6)) | R6: =IF(O6="","",O6-'Listen und Parameter'!$B$3) | S6: =IF(A6="","",IF(OR(H6="Absage",H6="Zurückgezogen",H6="Eingestellt"),"Abgeschlossen",IF(O6="","Aktionsdatum fehlt",IF(O6<'Listen und Parameter'!$B$3,"Überfällig",IF(O6<='Listen und Parameter'!$B$3+'Listen und Parameter'!$B$4,"Bald fällig","Geplant"))))) | T6: =IF(A6="","",IF(COUNTIF($A$4:$A$103,A6)>1,"ID doppelt",IF(OR(B6="",C6="",D6="",F6="",G6="",H6=""),"Pflichtfeld fehlt",IF(AND(P6<>"",P6<F6),"Abschluss vor Bewerbung",IF(AND(OR(H6="Absage",H6="Zurückgezogen",H6="Eingestellt"),P6=""),"Abschlussdatum fehlt",IF(AND(NOT(OR(H6="Absage",H6="Zurückgezogen",H6="Eingestellt")),P6<>""),"Status und Abschluss widersprechen","")))))) | U6: Eingang für die interne Sichtung vorgemerkt.
A7: BG-26004 | B7: Gastro-Fiktiv-04 | C7: Barkraft | D7: Berlin-Mitte | E7: Social Media | F7: 46254 | G7: Angebot versendet | H7: Angebot | I7: 46266.646 | J7: 46280 | K7: 35 | L7: Flexibel | M7: Leitung Service | N7: Angebotsrückmeldung prüfen | O7: 46277 | Q7: =IF(F7="","",MAX(0,IF(P7<>"",P7,'Listen und Parameter'!$B$3)-F7)) | R7: =IF(O7="","",O7-'Listen und Parameter'!$B$3) | S7: =IF(A7="","",IF(OR(H7="Absage",H7="Zurückgezogen",H7="Eingestellt"),"Abgeschlossen",IF(O7="","Aktionsdatum fehlt",IF(O7<'Listen und Parameter'!$B$3,"Überfällig",IF(O7<='Listen und Parameter'!$B$3+'Listen und Parameter'!$B$4,"Bald fällig","Geplant"))))) | T7: =IF(A7="","",IF(COUNTIF($A$4:$A$103,A7)>1,"ID doppelt",IF(OR(B7="",C7="",D7="",F7="",G7="",H7=""),"Pflichtfeld fehlt",IF(AND(P7<>"",P7<F7),"Abschluss vor Bewerbung",IF(AND(OR(H7="Absage",H7="Zurückgezogen",H7="Eingestellt"),P7=""),"Abschlussdatum fehlt",IF(AND(NOT(OR(H7="Absage",H7="Zurückgezogen",H7="Eingestellt")),P7<>""),"Status und Abschluss widersprechen","")))))) | U7: Rückmeldung zum fiktiven Angebot ausstehend.
A8: BG-26005 | B8: Gastro-Fiktiv-05 | C8: Spülkraft | D8: Hamburg-Altona | E8: Karriere-Seite | F8: 46258 | G8: Unterlagenprüfung | H8: Absage | J8: 46285 | K8: 20 | L8: Wochenende | M8: Küchenleitung | N8: Vorgang abgeschlossen | P8: 46268 | Q8: =IF(F8="","",MAX(0,IF(P8<>"",P8,'Listen und Parameter'!$B$3)-F8)) | R8: =IF(O8="","",O8-'Listen und Parameter'!$B$3) | S8: =IF(A8="","",IF(OR(H8="Absage",H8="Zurückgezogen",H8="Eingestellt"),"Abgeschlossen",IF(O8="","Aktionsdatum fehlt",IF(O8<'Listen und Parameter'!$B$3,"Überfällig",IF(O8<='Listen und Parameter'!$B$3+'Listen und Parameter'!$B$4,"Bald fällig","Geplant"))))) | T8: =IF(A8="","",IF(COUNTIF($A$4:$A$103,A8)>1,"ID doppelt",IF(OR(B8="",C8="",D8="",F8="",G8="",H8=""),"Pflichtfeld fehlt",IF(AND(P8<>"",P8<F8),"Abschluss vor Bewerbung",IF(AND(OR(H8="Absage",H8="Zurückgezogen",H8="Eingestellt"),P8=""),"Abschlussdatum fehlt",IF(AND(NOT(OR(H8="Absage",H8="Zurückgezogen",H8="Eingestellt")),P8<>""),"Status und Abschluss widersprechen","")))))) | U8: Absage intern dokumentiert; keine Nachricht gespeichert.
A9: BG-26006 | B9: Gastro-Fiktiv-06 | C9: Schichtleitung | D9: Köln-Innenstadt | E9: Direktbewerbung | F9: 46262 | G9: Erstgespräch | H9: Zurückgezogen | I9: 46268.417 | J9: 46296 | K9: 40 | L9: Früh- und Spätdienst | M9: Personalkoordination | N9: Vorgang abgeschlossen | P9: 46270 | Q9: =IF(F9="","",MAX(0,IF(P9<>"",P9,'Listen und Parameter'!$B$3)-F9)) | R9: =IF(O9="","",O9-'Listen und Parameter'!$B$3) | S9: =IF(A9="","",IF(OR(H9="Absage",H9="Zurückgezogen",H9="Eingestellt"),"Abgeschlossen",IF(O9="","Aktionsdatum fehlt",IF(O9<'Listen und Parameter'!$B$3,"Überfällig",IF(O9<='Listen und Parameter'!$B$3+'Listen und Parameter'!$B$4,"Bald fällig","Geplant"))))) | T9: =IF(A9="","",IF(COUNTIF($A$4:$A$103,A9)>1,"ID doppelt",IF(OR(B9="",C9="",D9="",F9="",G9="",H9=""),"Pflichtfeld fehlt",IF(AND(P9<>"",P9<F9),"Abschluss vor Bewerbung",IF(AND(OR(H9="Absage",H9="Zurückgezogen",H9="Eingestellt"),P9=""),"Abschlussdatum fehlt",IF(AND(NOT(OR(H9="Absage",H9="Zurückgezogen",H9="Eingestellt")),P9<>""),"Status und Abschluss widersprechen","")))))) | U9: Bewerbung im fiktiven Beispiel zurückgezogen.
A10: BG-26007 | B10: Gastro-Fiktiv-07 | C10: Frühstücksservice | D10: Berlin-Mitte | E10: Online-Stellenbörse | F10: 46266 | G10: Erstgespräch | H10: Gespräch geplant | I10: 46273.458 | J10: 46286 | K10: 24 | L10: Frühdienst | M10: Leitung Service | N10: Gespräch durchführen | O10: 46273 | Q10: =IF(F10="","",MAX(0,IF(P10<>"",P10,'Listen und Parameter'!$B$3)-F10)) | R10: =IF(O10="","",O10-'Listen und Parameter'!$B$3) | S10: =IF(A10="","",IF(OR(H10="Absage",H10="Zurückgezogen",H10="Eingestellt"),"Abgeschlossen",IF(O10="","Aktionsdatum fehlt",IF(O10<'Listen und Parameter'!$B$3,"Überfällig",IF(O10<='Listen und Parameter'!$B$3+'Listen und Parameter'!$B$4,"Bald fällig","Geplant"))))) | T10: =IF(A10="","",IF(COUNTIF($A$4:$A$103,A10)>1,"ID doppelt",IF(OR(B10="",C10="",D10="",F10="",G10="",H10=""),"Pflichtfeld fehlt",IF(AND(P10<>"",P10<F10),"Abschluss vor Bewerbung",IF(AND(OR(H10="Absage",H10="Zurückgezogen",H10="Eingestellt"),P10=""),"Abschlussdatum fehlt",IF(AND(NOT(OR(H10="Absage",H10="Zurückgezogen",H10="Eingestellt")),P10<>""),"Status und Abschluss widersprechen","")))))) | U10: Termin für den fiktiven Prozess eingetragen.
A11: BG-26008 | B11: Gastro-Fiktiv-08 | C11: Servicekraft | D11: Hamburg-Altona | E11: Karriere-Seite | F11: 46264 | G11: Unterlagenprüfung | H11: In Prüfung | J11: 46300 | K11: 32 | L11: Flexibel | M11: Leitung Service | N11: Prüfung abschließen | O11: 46280 | Q11: =IF(F11="","",MAX(0,IF(P11<>"",P11,'Listen und Parameter'!$B$3)-F11)) | R11: =IF(O11="","",O11-'Listen und Parameter'!$B$3) | S11: =IF(A11="","",IF(OR(H11="Absage",H11="Zurückgezogen",H11="Eingestellt"),"Abgeschlossen",IF(O11="","Aktionsdatum fehlt",IF(O11<'Listen und Parameter'!$B$3,"Überfällig",IF(O11<='Listen und Parameter'!$B$3+'Listen und Parameter'!$B$4,"Bald fällig","Geplant"))))) | T11: =IF(A11="","",IF(COUNTIF($A$4:$A$103,A11)>1,"ID doppelt",IF(OR(B11="",C11="",D11="",F11="",G11="",H11=""),"Pflichtfeld fehlt",IF(AND(P11<>"",P11<F11),"Abschluss vor Bewerbung",IF(AND(OR(H11="Absage",H11="Zurückgezogen",H11="Eingestellt"),P11=""),"Abschlussdatum fehlt",IF(AND(NOT(OR(H11="Absage",H11="Zurückgezogen",H11="Eingestellt")),P11<>""),"Status und Abschluss widersprechen","")))))) | U11: Interne Sichtung noch nicht abgeschlossen.
A12: BG-26009 | B12: Gastro-Fiktiv-09 | C12: Koch/Köchin | D12: Köln-Innenstadt | E12: Mitarbeitenden-Empfehlung | F12: 46252 | G12: Zweitgespräch | H12: Zusage | I12: 46269.542 | J12: 46279 | K12: 40 | L12: Früh- und Spätdienst | M12: Küchenleitung | N12: Nächsten Schritt abstimmen | O12: 46275 | Q12: =IF(F12="","",MAX(0,IF(P12<>"",P12,'Listen und Parameter'!$B$3)-F12)) | R12: =IF(O12="","",O12-'Listen und Parameter'!$B$3) | S12: =IF(A12="","",IF(OR(H12="Absage",H12="Zurückgezogen",H12="Eingestellt"),"Abgeschlossen",IF(O12="","Aktionsdatum fehlt",IF(O12<'Listen und Parameter'!$B$3,"Überfällig",IF(O12<='Listen und Parameter'!$B$3+'Listen und Parameter'!$B$4,"Bald fällig","Geplant"))))) | T12: =IF(A12="","",IF(COUNTIF($A$4:$A$103,A12)>1,"ID doppelt",IF(OR(B12="",C12="",D12="",F12="",G12="",H12=""),"Pflichtfeld fehlt",IF(AND(P12<>"",P12<F12),"Abschluss vor Bewerbung",IF(AND(OR(H12="Absage",H12="Zurückgezogen",H12="Eingestellt"),P12=""),"Abschlussdatum fehlt",IF(AND(NOT(OR(H12="Absage",H12="Zurückgezogen",H12="Eingestellt")),P12<>""),"Status und Abschluss widersprechen","")))))) | U12: Zusage im fiktiven Ablauf; noch nicht eingestellt.
A13: BG-26010 | B13: Gastro-Fiktiv-10 | C13: Küchenhilfe | D13: Berlin-Mitte | E13: Direktbewerbung | F13: 46249 | G13: Onboarding | H13: Eingestellt | I13: 46255.396 | J13: 46266 | K13: 30 | L13: Spätdienst | M13: Personalkoordination | N13: Vorgang abgeschlossen | P13: 46266 | Q13: =IF(F13="","",MAX(0,IF(P13<>"",P13,'Listen und Parameter'!$B$3)-F13)) | R13: =IF(O13="","",O13-'Listen und Parameter'!$B$3) | S13: =IF(A13="","",IF(OR(H13="Absage",H13="Zurückgezogen",H13="Eingestellt"),"Abgeschlossen",IF(O13="","Aktionsdatum fehlt",IF(O13<'Listen und Parameter'!$B$3,"Überfällig",IF(O13<='Listen und Parameter'!$B$3+'Listen und Parameter'!$B$4,"Bald fällig","Geplant"))))) | T13: =IF(A13="","",IF(COUNTIF($A$4:$A$103,A13)>1,"ID doppelt",IF(OR(B13="",C13="",D13="",F13="",G13="",H13=""),"Pflichtfeld fehlt",IF(AND(P13<>"",P13<F13),"Abschluss vor Bewerbung",IF(AND(OR(H13="Absage",H13="Zurückgezogen",H13="Eingestellt"),P13=""),"Abschlussdatum fehlt",IF(AND(NOT(OR(H13="Absage",H13="Zurückgezogen",H13="Eingestellt")),P13<>""),"Status und Abschluss widersprechen","")))))) | U13: Fiktiver Vorgang vollständig abgeschlossen.
Q14: =IF(F14="","",MAX(0,IF(P14<>"",P14,'Listen und Parameter'!$B$3)-F14)) | R14: =IF(O14="","",O14-'Listen und Parameter'!$B$3) | S14: =IF(A14="","",IF(OR(H14="Absage",H14="Zurückgezogen",H14="Eingestellt"),"Abgeschlossen",IF(O14="","Aktionsdatum fehlt",IF(O14<'Listen und Parameter'!$B$3,"Überfällig",IF(O14<='Listen und Parameter'!$B$3+'Listen und Parameter'!$B$4,"Bald fällig","Geplant"))))) | T14: =IF(A14="","",IF(COUNTIF($A$4:$A$103,A14)>1,"ID doppelt",IF(OR(B14="",C14="",D14="",F14="",G14="",H14=""),"Pflichtfeld fehlt",IF(AND(P14<>"",P14<F14),"Abschluss vor Bewerbung",IF(AND(OR(H14="Absage",H14="Zurückgezogen",H14="Eingestellt"),P14=""),"Abschlussdatum fehlt",IF(AND(NOT(OR(H14="Absage",H14="Zurückgezogen",H14="Eingestellt")),P14<>""),"Status und Abschluss widersprechen",""))))))
Q15: =IF(F15="","",MAX(0,IF(P15<>"",P15,'Listen und Parameter'!$B$3)-F15)) | R15: =IF(O15="","",O15-'Listen und Parameter'!$B$3) | S15: =IF(A15="","",IF(OR(H15="Absage",H15="Zurückgezogen",H15="Eingestellt"),"Abgeschlossen",IF(O15="","Aktionsdatum fehlt",IF(O15<'Listen und Parameter'!$B$3,"Überfällig",IF(O15<='Listen und Parameter'!$B$3+'Listen und Parameter'!$B$4,"Bald fällig","Geplant"))))) | T15: =IF(A15="","",IF(COUNTIF($A$4:$A$103,A15)>1,"ID doppelt",IF(OR(B15="",C15="",D15="",F15="",G15="",H15=""),"Pflichtfeld fehlt",IF(AND(P15<>"",P15<F15),"Abschluss vor Bewerbung",IF(AND(OR(H15="Absage",H15="Zurückgezogen",H15="Eingestellt"),P15=""),"Abschlussdatum fehlt",IF(AND(NOT(OR(H15="Absage",H15="Zurückgezogen",H15="Eingestellt")),P15<>""),"Status und Abschluss widersprechen",""))))))
Q16: =IF(F16="","",MAX(0,IF(P16<>"",P16,'Listen und Parameter'!$B$3)-F16)) | R16: =IF(O16="","",O16-'Listen und Parameter'!$B$3) | S16: =IF(A16="","",IF(OR(H16="Absage",H16="Zurückgezogen",H16="Eingestellt"),"Abgeschlossen",IF(O16="","Aktionsdatum fehlt",IF(O16<'Listen und Parameter'!$B$3,"Überfällig",IF(O16<='Listen und Parameter'!$B$3+'Listen und Parameter'!$B$4,"Bald fällig","Geplant"))))) | T16: =IF(A16="","",IF(COUNTIF($A$4:$A$103,A16)>1,"ID doppelt",IF(OR(B16="",C16="",D16="",F16="",G16="",H16=""),"Pflichtfeld fehlt",IF(AND(P16<>"",P16<F16),"Abschluss vor Bewerbung",IF(AND(OR(H16="Absage",H16="Zurückgezogen",H16="Eingestellt"),P16=""),"Abschlussdatum fehlt",IF(AND(NOT(OR(H16="Absage",H16="Zurückgezogen",H16="Eingestellt")),P16<>""),"Status und Abschluss widersprechen",""))))))
Q17: =IF(F17="","",MAX(0,IF(P17<>"",P17,'Listen und Parameter'!$B$3)-F17)) | R17: =IF(O17="","",O17-'Listen und Parameter'!$B$3) | S17: =IF(A17="","",IF(OR(H17="Absage",H17="Zurückgezogen",H17="Eingestellt"),"Abgeschlossen",IF(O17="","Aktionsdatum fehlt",IF(O17<'Listen und Parameter'!$B$3,"Überfällig",IF(O17<='Listen und Parameter'!$B$3+'Listen und Parameter'!$B$4,"Bald fällig","Geplant"))))) | T17: =IF(A17="","",IF(COUNTIF($A$4:$A$103,A17)>1,"ID doppelt",IF(OR(B17="",C17="",D17="",F17="",G17="",H17=""),"Pflichtfeld fehlt",IF(AND(P17<>"",P17<F17),"Abschluss vor Bewerbung",IF(AND(OR(H17="Absage",H17="Zurückgezogen",H17="Eingestellt"),P17=""),"Abschlussdatum fehlt",IF(AND(NOT(OR(H17="Absage",H17="Zurückgezogen",H17="Eingestellt")),P17<>""),"Status und Abschluss widersprechen",""))))))
Q18: =IF(F18="","",MAX(0,IF(P18<>"",P18,'Listen und Parameter'!$B$3)-F18)) | R18: =IF(O18="","",O18-'Listen und Parameter'!$B$3) | S18: =IF(A18="","",IF(OR(H18="Absage",H18="Zurückgezogen",H18="Eingestellt"),"Abgeschlossen",IF(O18="","Aktionsdatum fehlt",IF(O18<'Listen und Parameter'!$B$3,"Überfällig",IF(O18<='Listen und Parameter'!$B$3+'Listen und Parameter'!$B$4,"Bald fällig","Geplant"))))) | T18: =IF(A18="","",IF(COUNTIF($A$4:$A$103,A18)>1,"ID doppelt",IF(OR(B18="",C18="",D18="",F18="",G18="",H18=""),"Pflichtfeld fehlt",IF(AND(P18<>"",P18<F18),"Abschluss vor Bewerbung",IF(AND(OR(H18="Absage",H18="Zurückgezogen",H18="Eingestellt"),P18=""),"Abschlussdatum fehlt",IF(AND(NOT(OR(H18="Absage",H18="Zurückgezogen",H18="Eingestellt")),P18<>""),"Status und Abschluss widersprechen",""))))))
Q19: =IF(F19="","",MAX(0,IF(P19<>"",P19,'Listen und Parameter'!$B$3)-F19)) | R19: =IF(O19="","",O19-'Listen und Parameter'!$B$3) | S19: =IF(A19="","",IF(OR(H19="Absage",H19="Zurückgezogen",H19="Eingestellt"),"Abgeschlossen",IF(O19="","Aktionsdatum fehlt",IF(O19<'Listen und Parameter'!$B$3,"Überfällig",IF(O19<='Listen und Parameter'!$B$3+'Listen und Parameter'!$B$4,"Bald fällig","Geplant"))))) | T19: =IF(A19="","",IF(COUNTIF($A$4:$A$103,A19)>1,"ID doppelt",IF(OR(B19="",C19="",D19="",F19="",G19="",H19=""),"Pflichtfeld fehlt",IF(AND(P19<>"",P19<F19),"Abschluss vor Bewerbung",IF(AND(OR(H19="Absage",H19="Zurückgezogen",H19="Eingestellt"),P19=""),"Abschlussdatum fehlt",IF(AND(NOT(OR(H19="Absage",H19="Zurückgezogen",H19="Eingestellt")),P19<>""),"Status und Abschluss widersprechen",""))))))
Q20: =IF(F20="","",MAX(0,IF(P20<>"",P20,'Listen und Parameter'!$B$3)-F20)) | R20: =IF(O20="","",O20-'Listen und Parameter'!$B$3) | S20: =IF(A20="","",IF(OR(H20="Absage",H20="Zurückgezogen",H20="Eingestellt"),"Abgeschlossen",IF(O20="","Aktionsdatum fehlt",IF(O20<'Listen und Parameter'!$B$3,"Überfällig",IF(O20<='Listen und Parameter'!$B$3+'Listen und Parameter'!$B$4,"Bald fällig","Geplant"))))) | T20: =IF(A20="","",IF(COUNTIF($A$4:$A$103,A20)>1,"ID doppelt",IF(OR(B20="",C20="",D20="",F20="",G20="",H20=""),"Pflichtfeld fehlt",IF(AND(P20<>"",P20<F20),"Abschluss vor Bewerbung",IF(AND(OR(H20="Absage",H20="Zurückgezogen",H20="Eingestellt"),P20=""),"Abschlussdatum fehlt",IF(AND(NOT(OR(H20="Absage",H20="Zurückgezogen",H20="Eingestellt")),P20<>""),"Status und Abschluss widersprechen",""))))))
Q21: =IF(F21="","",MAX(0,IF(P21<>"",P21,'Listen und Parameter'!$B$3)-F21)) | R21: =IF(O21="","",O21-'Listen und Parameter'!$B$3) | S21: =IF(A21="","",IF(OR(H21="Absage",H21="Zurückgezogen",H21="Eingestellt"),"Abgeschlossen",IF(O21="","Aktionsdatum fehlt",IF(O21<'Listen und Parameter'!$B$3,"Überfällig",IF(O21<='Listen und Parameter'!$B$3+'Listen und Parameter'!$B$4,"Bald fällig","Geplant"))))) | T21: =IF(A21="","",IF(COUNTIF($A$4:$A$103,A21)>1,"ID doppelt",IF(OR(B21="",C21="",D21="",F21="",G21="",H21=""),"Pflichtfeld fehlt",IF(AND(P21<>"",P21<F21),"Abschluss vor Bewerbung",IF(AND(OR(H21="Absage",H21="Zurückgezogen",H21="Eingestellt"),P21=""),"Abschlussdatum fehlt",IF(AND(NOT(OR(H21="Absage",H21="Zurückgezogen",H21="Eingestellt")),P21<>""),"Status und Abschluss widersprechen",""))))))
Q22: =IF(F22="","",MAX(0,IF(P22<>"",P22,'Listen und Parameter'!$B$3)-F22)) | R22: =IF(O22="","",O22-'Listen und Parameter'!$B$3) | S22: =IF(A22="","",IF(OR(H22="Absage",H22="Zurückgezogen",H22="Eingestellt"),"Abgeschlossen",IF(O22="","Aktionsdatum fehlt",IF(O22<'Listen und Parameter'!$B$3,"Überfällig",IF(O22<='Listen und Parameter'!$B$3+'Listen und Parameter'!$B$4,"Bald fällig","Geplant"))))) | T22: =IF(A22="","",IF(COUNTIF($A$4:$A$103,A22)>1,"ID doppelt",IF(OR(B22="",C22="",D22="",F22="",G22="",H22=""),"Pflichtfeld fehlt",IF(AND(P22<>"",P22<F22),"Abschluss vor Bewerbung",IF(AND(OR(H22="Absage",H22="Zurückgezogen",H22="Eingestellt"),P22=""),"Abschlussdatum fehlt",IF(AND(NOT(OR(H22="Absage",H22="Zurückgezogen",H22="Eingestellt")),P22<>""),"Status und Abschluss widersprechen",""))))))
Q23: =IF(F23="","",MAX(0,IF(P23<>"",P23,'Listen und Parameter'!$B$3)-F23)) | R23: =IF(O23="","",O23-'Listen und Parameter'!$B$3) | S23: =IF(A23="","",IF(OR(H23="Absage",H23="Zurückgezogen",H23="Eingestellt"),"Abgeschlossen",IF(O23="","Aktionsdatum fehlt",IF(O23<'Listen und Parameter'!$B$3,"Überfällig",IF(O23<='Listen und Parameter'!$B$3+'Listen und Parameter'!$B$4,"Bald fällig","Geplant"))))) | T23: =IF(A23="","",IF(COUNTIF($A$4:$A$103,A23)>1,"ID doppelt",IF(OR(B23="",C23="",D23="",F23="",G23="",H23=""),"Pflichtfeld fehlt",IF(AND(P23<>"",P23<F23),"Abschluss vor Bewerbung",IF(AND(OR(H23="Absage",H23="Zurückgezogen",H23="Eingestellt"),P23=""),"Abschlussdatum fehlt",IF(AND(NOT(OR(H23="Absage",H23="Zurückgezogen",H23="Eingestellt")),P23<>""),"Status und Abschluss widersprechen",""))))))
Q24: =IF(F24="","",MAX(0,IF(P24<>"",P24,'Listen und Parameter'!$B$3)-F24)) | R24: =IF(O24="","",O24-'Listen und Parameter'!$B$3) | S24: =IF(A24="","",IF(OR(H24="Absage",H24="Zurückgezogen",H24="Eingestellt"),"Abgeschlossen",IF(O24="","Aktionsdatum fehlt",IF(O24<'Listen und Parameter'!$B$3,"Überfällig",IF(O24<='Listen und Parameter'!$B$3+'Listen und Parameter'!$B$4,"Bald fällig","Geplant"))))) | T24: =IF(A24="","",IF(COUNTIF($A$4:$A$103,A24)>1,"ID doppelt",IF(OR(B24="",C24="",D24="",F24="",G24="",H24=""),"Pflichtfeld fehlt",IF(AND(P24<>"",P24<F24),"Abschluss vor Bewerbung",IF(AND(OR(H24="Absage",H24="Zurückgezogen",H24="Eingestellt"),P24=""),"Abschlussdatum fehlt",IF(AND(NOT(OR(H24="Absage",H24="Zurückgezogen",H24="Eingestellt")),P24<>""),"Status und Abschluss widersprechen",""))))))
Q25: =IF(F25="","",MAX(0,IF(P25<>"",P25,'Listen und Parameter'!$B$3)-F25)) | R25: =IF(O25="","",O25-'Listen und Parameter'!$B$3) | S25: =IF(A25="","",IF(OR(H25="Absage",H25="Zurückgezogen",H25="Eingestellt"),"Abgeschlossen",IF(O25="","Aktionsdatum fehlt",IF(O25<'Listen und Parameter'!$B$3,"Überfällig",IF(O25<='Listen und Parameter'!$B$3+'Listen und Parameter'!$B$4,"Bald fällig","Geplant"))))) | T25: =IF(A25="","",IF(COUNTIF($A$4:$A$103,A25)>1,"ID doppelt",IF(OR(B25="",C25="",D25="",F25="",G25="",H25=""),"Pflichtfeld fehlt",IF(AND(P25<>"",P25<F25),"Abschluss vor Bewerbung",IF(AND(OR(H25="Absage",H25="Zurückgezogen",H25="Eingestellt"),P25=""),"Abschlussdatum fehlt",IF(AND(NOT(OR(H25="Absage",H25="Zurückgezogen",H25="Eingestellt")),P25<>""),"Status und Abschluss widersprechen",""))))))
... Q103: =IF(F103="","",MAX(0,IF(P103<>"",P103,'Listen und Parameter'!$B$3)-F103)) | R103: =IF(O103="","",O103-'Listen und Parameter'!$B$3) | S103: =IF(A103="","",IF(OR(H103="Absage",H103="Zurückgezogen",H103="Eingestellt"),"Abgeschlossen",IF(O103="","Aktionsdatum fehlt",IF(O103<'Listen und Parameter'!$B$3,"Überfällig",IF(O103<='Listen und Parameter'!$B$3+'Listen und Parameter'!$B$4,"Bald fällig","Geplant"))))) | T103: =IF(A103="","",IF(COUNTIF($A$4:$A$103,A103)>1,"ID doppelt",IF(OR(B103="",C103="",D103="",F103="",G103="",H103=""),"Pflichtfeld fehlt",IF(AND(P103<>"",P103<F103),"Abschluss vor Bewerbung",IF(AND(OR(H103="Absage",H103="Zurückgezogen",H103="Eingestellt"),P103=""),"Abschlussdatum fehlt",IF(AND(NOT(OR(H103="Absage",H103="Zurückgezogen",H103="Eingestellt")),P103<>""),"Status und Abschluss widersprechen",""))))))

Sheet Listen und Parameter
A1: Listen und Parameter
A2: Parameter | B2: Wert | C2: Hinweis | D2: Rollen | E2: Standorte | F2: Bewerbungskanäle | G2: Gesprächsschritte | H2: Statuswerte | I2: Schichtverfügbarkeiten | J2: Zuständigkeiten
A3: Stichtag | B3: 46273 | C3: Bezugsdatum für offene Tage und Aktionsfristen. | D3: Servicekraft | E3: Berlin-Mitte | F3: Karriere-Seite | G3: Eingang | H3: Neu | I3: Flexibel | J3: Leitung Service
A4: Erinnerungstage | B4: 3 | C4: Zeitraum für die Kennzeichnung „Bald fällig“. | D4: Koch/Köchin | E4: Hamburg-Altona | F4: Online-Stellenbörse | G4: Unterlagenprüfung | H4: In Prüfung | I4: Frühdienst | J4: Küchenleitung
A5: Warnschwelle offene Tage | B5: 14 | C5: Änderbare interne Schwelle für länger offene Bewerbungen. | D5: Küchenhilfe | E5: Köln-Innenstadt | F5: Direktbewerbung | G5: Telefonische Rückfrage | H5: Gespräch geplant | I5: Spätdienst | J5: Personalkoordination
D6: Barkraft | F6: Social Media | G6: Erstgespräch | H6: Rückfrage offen | I6: Wochenende
A7: Pflegehinweis | B7: Parameter und Listen sind interne, änderbare Arbeitshilfen. Änderungen wirken auf Auswertung und Dropdowns. | D7: Spülkraft | F7: Mitarbeitenden-Empfehlung | G7: Zweitgespräch | H7: Angebot | I7: Früh- und Spätdienst
D8: Schichtleitung | G8: Probearbeit abgestimmt | H8: Zusage
D9: Frühstücksservice | G9: Angebot versendet | H9: Absage
G10: Onboarding | H10: Zurückgezogen
H11: Eingestellt
